BEGIN:VCALENDAR
VERSION:2.0
PRODID:-//Northeastern University College of Engineering - ECPv6.15.20//NONSGML v1.0//EN
CALSCALE:GREGORIAN
METHOD:PUBLISH
X-WR-CALNAME:Northeastern University College of Engineering
X-ORIGINAL-URL:https://coe.northeastern.edu
X-WR-CALDESC:Events for Northeastern University College of Engineering
REFRESH-INTERVAL;VALUE=DURATION:PT1H
X-Robots-Tag:noindex
X-PUBLISHED-TTL:PT1H
BEGIN:VTIMEZONE
TZID:America/New_York
BEGIN:DAYLIGHT
TZOFFSETFROM:-0500
TZOFFSETTO:-0400
TZNAME:EDT
DTSTART:20230312T070000
END:DAYLIGHT
BEGIN:STANDARD
TZOFFSETFROM:-0400
TZOFFSETTO:-0500
TZNAME:EST
DTSTART:20231105T060000
END:STANDARD
BEGIN:DAYLIGHT
TZOFFSETFROM:-0500
TZOFFSETTO:-0400
TZNAME:EDT
DTSTART:20240310T070000
END:DAYLIGHT
BEGIN:STANDARD
TZOFFSETFROM:-0400
TZOFFSETTO:-0500
TZNAME:EST
DTSTART:20241103T060000
END:STANDARD
BEGIN:DAYLIGHT
TZOFFSETFROM:-0500
TZOFFSETTO:-0400
TZNAME:EDT
DTSTART:20250309T070000
END:DAYLIGHT
BEGIN:STANDARD
TZOFFSETFROM:-0400
TZOFFSETTO:-0500
TZNAME:EST
DTSTART:20251102T060000
END:STANDARD
END:VTIMEZONE
BEGIN:VEVENT
DTSTART;TZID=America/New_York:20240702T150000
DTEND;TZID=America/New_York:20240702T160000
DTSTAMP:20260424T203302
CREATED:20240521T134013Z
LAST-MODIFIED:20240603T190526Z
UID:44002-1719932400-1719936000@coe.northeastern.edu
SUMMARY:Small Talk for Networking: CommLab Drop-In Workshops
DESCRIPTION:Join the CommLab any Tuesday from 3-4 PM ET for our weekly Small Talk for Networking Drop-In Workshop in room 13 International Village or virtually through Zoom.  This workshop series will offer you the ability to practice techniques and use essential tools to improve your conversational skills and connect with others at networking events.
URL:https://coe.northeastern.edu/event/small-talk-for-networking-commlab-drop-in-workshops/2024-07-02/
END:VEVENT
BEGIN:VEVENT
DTSTART;TZID=America/New_York:20240625T150000
DTEND;TZID=America/New_York:20240625T160000
DTSTAMP:20260424T203302
CREATED:20240521T134013Z
LAST-MODIFIED:20240603T190526Z
UID:44001-1719327600-1719331200@coe.northeastern.edu
SUMMARY:Small Talk for Networking: CommLab Drop-In Workshops
DESCRIPTION:Join the CommLab any Tuesday from 3-4 PM ET for our weekly Small Talk for Networking Drop-In Workshop in room 13 International Village or virtually through Zoom.  This workshop series will offer you the ability to practice techniques and use essential tools to improve your conversational skills and connect with others at networking events.
URL:https://coe.northeastern.edu/event/small-talk-for-networking-commlab-drop-in-workshops/2024-06-25/
END:VEVENT
BEGIN:VEVENT
DTSTART;TZID=America/New_York:20240618T150000
DTEND;TZID=America/New_York:20240618T160000
DTSTAMP:20260424T203302
CREATED:20240521T134013Z
LAST-MODIFIED:20240603T190526Z
UID:44000-1718722800-1718726400@coe.northeastern.edu
SUMMARY:Small Talk for Networking: CommLab Drop-In Workshops
DESCRIPTION:Join the CommLab any Tuesday from 3-4 PM ET for our weekly Small Talk for Networking Drop-In Workshop in room 13 International Village or virtually through Zoom.  This workshop series will offer you the ability to practice techniques and use essential tools to improve your conversational skills and connect with others at networking events.
URL:https://coe.northeastern.edu/event/small-talk-for-networking-commlab-drop-in-workshops/2024-06-18/
END:VEVENT
BEGIN:VEVENT
DTSTART;TZID=America/New_York:20240611T150000
DTEND;TZID=America/New_York:20240611T160000
DTSTAMP:20260424T203302
CREATED:20240521T134013Z
LAST-MODIFIED:20240603T190525Z
UID:43999-1718118000-1718121600@coe.northeastern.edu
SUMMARY:Small Talk for Networking: CommLab Drop-In Workshops
DESCRIPTION:Join the CommLab any Tuesday from 3-4 PM ET for our weekly Small Talk for Networking Drop-In Workshop in room 13 International Village or virtually through Zoom.  This workshop series will offer you the ability to practice techniques and use essential tools to improve your conversational skills and connect with others at networking events.
URL:https://coe.northeastern.edu/event/small-talk-for-networking-commlab-drop-in-workshops/2024-06-11/
END:VEVENT
BEGIN:VEVENT
DTSTART;TZID=America/New_York:20240604T150000
DTEND;TZID=America/New_York:20240604T160000
DTSTAMP:20260424T203302
CREATED:20240521T134013Z
LAST-MODIFIED:20240603T190525Z
UID:43998-1717513200-1717516800@coe.northeastern.edu
SUMMARY:Small Talk for Networking: CommLab Drop-In Workshops
DESCRIPTION:Join the CommLab any Tuesday from 3-4 PM ET for our weekly Small Talk for Networking Drop-In Workshop in room 13 International Village or virtually through Zoom.  This workshop series will offer you the ability to practice techniques and use essential tools to improve your conversational skills and connect with others at networking events.
URL:https://coe.northeastern.edu/event/small-talk-for-networking-commlab-drop-in-workshops/2024-06-04/
END:VEVENT
BEGIN:VEVENT
DTSTART;TZID=America/New_York:20240528T150000
DTEND;TZID=America/New_York:20240528T160000
DTSTAMP:20260424T203302
CREATED:20240521T134013Z
LAST-MODIFIED:20240603T190525Z
UID:43997-1716908400-1716912000@coe.northeastern.edu
SUMMARY:Small Talk for Networking: CommLab Drop-In Workshops
DESCRIPTION:Join the CommLab any Tuesday from 3-4 PM ET for our weekly Small Talk for Networking Drop-In Workshop in room 13 International Village or virtually through Zoom.  This workshop series will offer you the ability to practice techniques and use essential tools to improve your conversational skills and connect with others at networking events.
URL:https://coe.northeastern.edu/event/small-talk-for-networking-commlab-drop-in-workshops/2024-05-28/
END:VEVENT
BEGIN:VEVENT
DTSTART;TZID=America/New_York:20240521T150000
DTEND;TZID=America/New_York:20240521T160000
DTSTAMP:20260424T203302
CREATED:20240521T134013Z
LAST-MODIFIED:20240603T190525Z
UID:43995-1716303600-1716307200@coe.northeastern.edu
SUMMARY:Small Talk for Networking: CommLab Drop-In Workshops
DESCRIPTION:Join the CommLab any Tuesday from 3-4 PM ET for our weekly Small Talk for Networking Drop-In Workshop in room 13 International Village or virtually through Zoom.  This workshop series will offer you the ability to practice techniques and use essential tools to improve your conversational skills and connect with others at networking events.
URL:https://coe.northeastern.edu/event/small-talk-for-networking-commlab-drop-in-workshops/2024-05-21/
END:VEVENT
END:VCALENDAR