BEGIN:VCALENDAR
VERSION:2.0
PRODID:-//Northeastern University College of Engineering - ECPv6.15.18//NONSGML v1.0//EN
CALSCALE:GREGORIAN
METHOD:PUBLISH
X-ORIGINAL-URL:https://coe.northeastern.edu
X-WR-CALDESC:Events for Northeastern University College of Engineering
REFRESH-INTERVAL;VALUE=DURATION:PT1H
X-Robots-Tag:noindex
X-PUBLISHED-TTL:PT1H
BEGIN:VTIMEZONE
TZID:America/New_York
BEGIN:DAYLIGHT
TZOFFSETFROM:-0500
TZOFFSETTO:-0400
TZNAME:EDT
DTSTART:20190310T070000
END:DAYLIGHT
BEGIN:STANDARD
TZOFFSETFROM:-0400
TZOFFSETTO:-0500
TZNAME:EST
DTSTART:20191103T060000
END:STANDARD
BEGIN:DAYLIGHT
TZOFFSETFROM:-0500
TZOFFSETTO:-0400
TZNAME:EDT
DTSTART:20200308T070000
END:DAYLIGHT
BEGIN:STANDARD
TZOFFSETFROM:-0400
TZOFFSETTO:-0500
TZNAME:EST
DTSTART:20201101T060000
END:STANDARD
BEGIN:DAYLIGHT
TZOFFSETFROM:-0500
TZOFFSETTO:-0400
TZNAME:EDT
DTSTART:20210314T070000
END:DAYLIGHT
BEGIN:STANDARD
TZOFFSETFROM:-0400
TZOFFSETTO:-0500
TZNAME:EST
DTSTART:20211107T060000
END:STANDARD
END:VTIMEZONE
BEGIN:VEVENT
DTSTART;TZID=America/New_York:20200113T153000
DTEND;TZID=America/New_York:20200113T163000
DTSTAMP:20260422T231332
CREATED:20200110T193638Z
LAST-MODIFIED:20200110T193638Z
UID:18930-1578929400-1578933000@coe.northeastern.edu
SUMMARY:Venture Coaching: Product/Market Consulting
DESCRIPTION:Join John Hutchins\, former Director of R&D Engineering at Boston Scientific. Consulting on various product development process and manufacturing topics! \nBy Appointment Only! Contact j.hutchins@northeastern.edu to reserve your spot. \nView the Sherman Center Calendar for more events!
URL:https://coe.northeastern.edu/event/venture-coaching-product-market-consulting/
LOCATION:010 Hayden Hall\, 010 Hayden Hall\, 360 Huntington Ave\, Boston\, MA\, 02115\, United States
ORGANIZER;CN="Michael J. and Ann Sherman Center for Engineering Entrepreneurship Education":MAILTO:sherman@northeastern.edu
GEO:42.3394629;-71.0885286
X-APPLE-STRUCTURED-LOCATION;VALUE=URI;X-ADDRESS=010 Hayden Hall 010 Hayden Hall 360 Huntington Ave Boston MA 02115 United States;X-APPLE-RADIUS=500;X-TITLE=010 Hayden Hall\, 360 Huntington Ave:geo:-71.0885286,42.3394629
END:VEVENT
END:VCALENDAR