BEGIN:VCALENDAR
VERSION:2.0
PRODID:-//Northeastern University College of Engineering - ECPv6.15.20//NONSGML v1.0//EN
CALSCALE:GREGORIAN
METHOD:PUBLISH
X-ORIGINAL-URL:https://coe.northeastern.edu
X-WR-CALDESC:Events for Northeastern University College of Engineering
REFRESH-INTERVAL;VALUE=DURATION:PT1H
X-Robots-Tag:noindex
X-PUBLISHED-TTL:PT1H
BEGIN:VTIMEZONE
TZID:America/New_York
BEGIN:DAYLIGHT
TZOFFSETFROM:-0500
TZOFFSETTO:-0400
TZNAME:EDT
DTSTART:20190310T070000
END:DAYLIGHT
BEGIN:STANDARD
TZOFFSETFROM:-0400
TZOFFSETTO:-0500
TZNAME:EST
DTSTART:20191103T060000
END:STANDARD
BEGIN:DAYLIGHT
TZOFFSETFROM:-0500
TZOFFSETTO:-0400
TZNAME:EDT
DTSTART:20200308T070000
END:DAYLIGHT
BEGIN:STANDARD
TZOFFSETFROM:-0400
TZOFFSETTO:-0500
TZNAME:EST
DTSTART:20201101T060000
END:STANDARD
BEGIN:DAYLIGHT
TZOFFSETFROM:-0500
TZOFFSETTO:-0400
TZNAME:EDT
DTSTART:20210314T070000
END:DAYLIGHT
BEGIN:STANDARD
TZOFFSETFROM:-0400
TZOFFSETTO:-0500
TZNAME:EST
DTSTART:20211107T060000
END:STANDARD
END:VTIMEZONE
BEGIN:VEVENT
DTSTART;TZID=America/New_York:20200116T103000
DTEND;TZID=America/New_York:20200116T110000
DTSTAMP:20260423T120000
CREATED:20200110T194928Z
LAST-MODIFIED:20200110T194928Z
UID:18959-1579170600-1579172400@coe.northeastern.edu
SUMMARY:Desktop CNC Mill
DESCRIPTION:This workshop is an introduction to the desktop CNC mill \nSign up using this link! \nView the Sherman Center Calendar for more events!
URL:https://coe.northeastern.edu/event/desktop-cnc-mill/
LOCATION:010 Hayden Hall\, 010 Hayden Hall\, 360 Huntington Ave\, Boston\, MA\, 02115\, United States
ORGANIZER;CN="Michael J. and Ann Sherman Center for Engineering Entrepreneurship Education":MAILTO:sherman@northeastern.edu
GEO:42.3394629;-71.0885286
X-APPLE-STRUCTURED-LOCATION;VALUE=URI;X-ADDRESS=010 Hayden Hall 010 Hayden Hall 360 Huntington Ave Boston MA 02115 United States;X-APPLE-RADIUS=500;X-TITLE=010 Hayden Hall\, 360 Huntington Ave:geo:-71.0885286,42.3394629
END:VEVENT
BEGIN:VEVENT
DTSTART;TZID=America/New_York:20200116T111500
DTEND;TZID=America/New_York:20200116T114500
DTSTAMP:20260423T120000
CREATED:20200110T194955Z
LAST-MODIFIED:20200110T194955Z
UID:18962-1579173300-1579175100@coe.northeastern.edu
SUMMARY:Advanced Hand Tools
DESCRIPTION:This workshop is an introduction to the arbor press\, tap and die kit\, and ultrasonic cutter. Learn how to use each tool effectively \nSign up using this link! \nView the Sherman Center Calendar for more events!
URL:https://coe.northeastern.edu/event/advanced-hand-tools/
LOCATION:010 Hayden Hall\, 010 Hayden Hall\, 360 Huntington Ave\, Boston\, MA\, 02115\, United States
ORGANIZER;CN="Michael J. and Ann Sherman Center for Engineering Entrepreneurship Education":MAILTO:sherman@northeastern.edu
GEO:42.3394629;-71.0885286
X-APPLE-STRUCTURED-LOCATION;VALUE=URI;X-ADDRESS=010 Hayden Hall 010 Hayden Hall 360 Huntington Ave Boston MA 02115 United States;X-APPLE-RADIUS=500;X-TITLE=010 Hayden Hall\, 360 Huntington Ave:geo:-71.0885286,42.3394629
END:VEVENT
BEGIN:VEVENT
DTSTART;TZID=America/New_York:20200116T111500
DTEND;TZID=America/New_York:20200116T114500
DTSTAMP:20260423T120000
CREATED:20200117T153627Z
LAST-MODIFIED:20200117T153627Z
UID:19099-1579173300-1579175100@coe.northeastern.edu
SUMMARY:Advanced Hand Tools
DESCRIPTION:This workshop is an introduction to the arbor press\, tap and die kit\, and ultrasonic cutter. Learn how to use each tool effectively \nSign up using this link! \nView the Sherman Center Calendar for more events!
URL:https://coe.northeastern.edu/event/advanced-hand-tools-3/
LOCATION:010 Hayden Hall\, 010 Hayden Hall\, 360 Huntington Ave\, Boston\, MA\, 02115\, United States
ORGANIZER;CN="Michael J. and Ann Sherman Center for Engineering Entrepreneurship Education":MAILTO:sherman@northeastern.edu
GEO:42.3394629;-71.0885286
X-APPLE-STRUCTURED-LOCATION;VALUE=URI;X-ADDRESS=010 Hayden Hall 010 Hayden Hall 360 Huntington Ave Boston MA 02115 United States;X-APPLE-RADIUS=500;X-TITLE=010 Hayden Hall\, 360 Huntington Ave:geo:-71.0885286,42.3394629
END:VEVENT
BEGIN:VEVENT
DTSTART;TZID=America/New_York:20200116T180000
DTEND;TZID=America/New_York:20200116T190000
DTSTAMP:20260423T120000
CREATED:20191219T210945Z
LAST-MODIFIED:20191219T210945Z
UID:18779-1579197600-1579201200@coe.northeastern.edu
SUMMARY:COE Global Co-op Info Session
DESCRIPTION:Join the College of Engineering Global Co-op team in learning about co-op opportunities abroad for Summer II/Fall 2020. Topics discussed will include- Search techniques and global positions in your field; What to consider when interested in Global Co-op; Information on logistics\, ie. housing\, transportation\, and safety; Tips\, tricks\, and resources to help get you there! You will also meet and hear from students returning from their Global Co-op. \nRSVP on the NUcareers Events Calendar. \nAttendance to one of the sessions is REQUIRED if you plan to do a Global Co-op in Fall 2020. Please reach out to Sally Conant\, s.conant@northeastern.edu\, or Kristina Kutsukos\, k.kutsukos@northeastern.edu\, COE Global Co-op Coordinators\, for additional information. \n\nLocation: 130 Hurtig Hall
URL:https://coe.northeastern.edu/event/coe-global-co-op-info-session-3/
ATTACH;FMTTYPE=image/jpeg:https://coe.northeastern.edu/wp-content/uploads/globalcoopfall2020.jpg
END:VEVENT
BEGIN:VEVENT
DTSTART;TZID=America/New_York:20200116T190000
DTEND;TZID=America/New_York:20200116T200000
DTSTAMP:20260423T120000
CREATED:20200115T142735Z
LAST-MODIFIED:20200115T142735Z
UID:19074-1579201200-1579204800@coe.northeastern.edu
SUMMARY:Meet WISE Info Session (Women's Interdisciplinary Society of Entrepreneurship)
DESCRIPTION:The Women’s Interdisciplinary Society of Entrepreneurship will be hosting our MEET WISE Info Session for the spring semester this Thursday\, January 16th at 7 PM in Dodge 230. \nWeLearn is an interactive and interdisciplinary bi-weekly workshop series that teaches personal and professional skills. Each workshop will touch upon different topics and industries. Our first WeLearn workshop of the semester is from 7:15-8:30pm on January 22nd in Dodge 173 to learn all about Demystifying Entrepreneurship! \nWeBuild is our community-based series of weekly innovation and problem solving classes dedicated to encouraging a cohort of 12 women from interdisciplinary backgrounds to develop an entrepreneurial mindset. Apply for WeBuild here. Applications close soon! \nWeSupport is our mentorship pipeline for underclassmen\, upperclassmen\, and Boston professionals that creates long-lasting\, authentic relationships instrumental to personal and professional development through in-person meetings and community events. Tier 1 will match underclassmen and upperclassmen\, while Tier 2 will match upperclassmen and professional women across Boston. Apply for Tier 1 here\, and apply for Tier 2 here. Applications close soon! \nEnjoy some yummy desserts\, chat with new friends\, and ask questions about our new and improved programs! It’s a great way to get immersed into the Northeastern campus fast. Everyone is welcome\, regardless of their gender\, background\, or interests! \nIf you are interested\, you could RSVP to MEET WISE here! Hope to see you all soon!
URL:https://coe.northeastern.edu/event/meet-wise-info-session-womens-interdisciplinary-society-of-entrepreneurship/
END:VEVENT
END:VCALENDAR