BEGIN:VCALENDAR
VERSION:2.0
PRODID:-//Northeastern University College of Engineering - ECPv6.15.20//NONSGML v1.0//EN
CALSCALE:GREGORIAN
METHOD:PUBLISH
X-WR-CALNAME:Northeastern University College of Engineering
X-ORIGINAL-URL:https://coe.northeastern.edu
X-WR-CALDESC:Events for Northeastern University College of Engineering
REFRESH-INTERVAL;VALUE=DURATION:PT1H
X-Robots-Tag:noindex
X-PUBLISHED-TTL:PT1H
BEGIN:VTIMEZONE
TZID:America/New_York
BEGIN:DAYLIGHT
TZOFFSETFROM:-0500
TZOFFSETTO:-0400
TZNAME:EDT
DTSTART:20190310T070000
END:DAYLIGHT
BEGIN:STANDARD
TZOFFSETFROM:-0400
TZOFFSETTO:-0500
TZNAME:EST
DTSTART:20191103T060000
END:STANDARD
BEGIN:DAYLIGHT
TZOFFSETFROM:-0500
TZOFFSETTO:-0400
TZNAME:EDT
DTSTART:20200308T070000
END:DAYLIGHT
BEGIN:STANDARD
TZOFFSETFROM:-0400
TZOFFSETTO:-0500
TZNAME:EST
DTSTART:20201101T060000
END:STANDARD
BEGIN:DAYLIGHT
TZOFFSETFROM:-0500
TZOFFSETTO:-0400
TZNAME:EDT
DTSTART:20210314T070000
END:DAYLIGHT
BEGIN:STANDARD
TZOFFSETFROM:-0400
TZOFFSETTO:-0500
TZNAME:EST
DTSTART:20211107T060000
END:STANDARD
END:VTIMEZONE
BEGIN:VEVENT
DTSTART;VALUE=DATE:20200203
DTEND;VALUE=DATE:20200306
DTSTAMP:20260424T135317
CREATED:20200129T144506Z
LAST-MODIFIED:20200129T144506Z
UID:19430-1580688000-1583452799@coe.northeastern.edu
SUMMARY:Call for submissions for Research: Art or Science? Exhibition!
DESCRIPTION:Submit an image of your research to the third annual Research: Art or Science? Exhibition for a unique opportunity to have your work displayed on campus and win a cash prize! Visit Art or Science? for more information and to submit.
URL:https://coe.northeastern.edu/event/call-for-submissions-for-research-art-or-science-exhibition/
END:VEVENT
BEGIN:VEVENT
DTSTART;TZID=America/New_York:20200212T100000
DTEND;TZID=America/New_York:20200212T143000
DTSTAMP:20260424T135317
CREATED:20200204T152616Z
LAST-MODIFIED:20200204T152616Z
UID:19598-1581501600-1581517800@coe.northeastern.edu
SUMMARY:BMES/AIChE Co-op-Career Fair
DESCRIPTION:The BMES/ AIChE Co–op Career fair will be held in the Curry Student Center Ballroom from 10am – 2:30pm on Wednesday\, February 12th. This is a great opportunity to meet employers hiring for the Fall 2020 cycle\, especially employers you may have already applied to for co-op. \n 
URL:https://coe.northeastern.edu/event/bmes-aiche-co-op-career-fair/
LOCATION:Curry Student Center\, 360 Huntington Ave.\, Boston\, MA\, 02115\, United States
ORGANIZER;CN="Bioengineering":MAILTO:bioe@northeastern.edu
GEO:42.3394629;-71.0885286
X-APPLE-STRUCTURED-LOCATION;VALUE=URI;X-ADDRESS=Curry Student Center 360 Huntington Ave. Boston MA 02115 United States;X-APPLE-RADIUS=500;X-TITLE=360 Huntington Ave.:geo:-71.0885286,42.3394629
END:VEVENT
BEGIN:VEVENT
DTSTART;TZID=America/New_York:20200212T103000
DTEND;TZID=America/New_York:20200212T110000
DTSTAMP:20260424T135317
CREATED:20200127T192434Z
LAST-MODIFIED:20200127T192434Z
UID:19284-1581503400-1581505200@coe.northeastern.edu
SUMMARY:3D Printing Form 2
DESCRIPTION:This workshop is an introduction to the Form 2 3D printer. Learn how to start\, wash\, and cure a print job \nSign up using this link! \nView the Sherman Center Calendar for more events!
URL:https://coe.northeastern.edu/event/3d-printing-form-2-5/
LOCATION:010 Hayden Hall\, 010 Hayden Hall\, 360 Huntington Ave\, Boston\, MA\, 02115\, United States
ORGANIZER;CN="Michael J. and Ann Sherman Center for Engineering Entrepreneurship Education":MAILTO:sherman@northeastern.edu
GEO:42.3394629;-71.0885286
X-APPLE-STRUCTURED-LOCATION;VALUE=URI;X-ADDRESS=010 Hayden Hall 010 Hayden Hall 360 Huntington Ave Boston MA 02115 United States;X-APPLE-RADIUS=500;X-TITLE=010 Hayden Hall\, 360 Huntington Ave:geo:-71.0885286,42.3394629
END:VEVENT
BEGIN:VEVENT
DTSTART;TZID=America/New_York:20200212T110000
DTEND;TZID=America/New_York:20200212T120000
DTSTAMP:20260424T135317
CREATED:20200203T145100Z
LAST-MODIFIED:20200203T145100Z
UID:19561-1581505200-1581508800@coe.northeastern.edu
SUMMARY:Electrical and Computer Engineering Seminar: Basak Guler
DESCRIPTION:ISEC 138 \nCoded Computing for Next-Generation Information Processing Systems \nAbstract: \nModern networks are designed to facilitate information processing in large-scale\, highly distributed environments that connect humans with smart machines. Information collected in such networks is often privacy-sensitive\, such as healthcare records\, financial transactions\, or geolocation data. Moreover\, these networks often need to operate in unknown environments using unreliable information sources\, which can lead to various interpretations of the received information. This brings three main challenges in designing effective distributed information-processing frameworks: scalability\, privacy\, and context-awareness. In this talk\, I will discuss how to address these challenges through information and coding theory principles. I will first introduce a fast and privacy-preserving framework for distributed machine learning\, which can provide an order of magnitude speedup over the existing cryptographic approaches. Next\, I will address a major bottleneck for the scalability of large-scale distributed computing frameworks\, the interprocessor communication load\, in the context of distributed graph processing.  To do so\, I will introduce a topology-aware graph allocation and communication strategy using coding theory and demonstrate that it can reduce the inter-processor communication load significantly for both real-world and random graph structures. Finally\, I will discuss the fundamental performance limits of information transmission in context-aware multiuser communication networks. I will characterize the information-theoretic performance limits for lossy transmission of correlated sources in a multi-user communication channel when the communicating parties have access to context information correlated with the sources. \nBio: \nBasak Guler is a postdoctoral scholar at the University of Southern California. She received her M.Sc. and PhD from the Department of Electrical Engineering at the Pennsylvania State University. Her research interests include information and coding theory\, distributed computing\, wireless communications\, graph signal processing\, machine learning\, privacy and security\, and game theory. She is a recipient of the Dr. Nirmal K. Bose Dissertation Award by the Pennsylvania State University\, the Young Scholar Award by the Turkish-American Scientists and Scholars Association\, and was named a Rising Star in EECS by MIT.
URL:https://coe.northeastern.edu/event/electrical-and-computer-engineering-seminar-basak-guler/
END:VEVENT
BEGIN:VEVENT
DTSTART;TZID=America/New_York:20200212T130000
DTEND;TZID=America/New_York:20200212T133000
DTSTAMP:20260424T135317
CREATED:20200127T194352Z
LAST-MODIFIED:20200127T194352Z
UID:19296-1581512400-1581514200@coe.northeastern.edu
SUMMARY:Power Tools
DESCRIPTION:This workshop is an introduction to the hand drill\, impact driver\, and dremel rotary tool. Learn how to drill pilot holes\, drive screws\, and sand wood \nSign up using this link! \nView the Sherman Center Calendar for more events!
URL:https://coe.northeastern.edu/event/power-tools-5/
LOCATION:010 Hayden Hall\, 010 Hayden Hall\, 360 Huntington Ave\, Boston\, MA\, 02115\, United States
ORGANIZER;CN="Michael J. and Ann Sherman Center for Engineering Entrepreneurship Education":MAILTO:sherman@northeastern.edu
GEO:42.3394629;-71.0885286
X-APPLE-STRUCTURED-LOCATION;VALUE=URI;X-ADDRESS=010 Hayden Hall 010 Hayden Hall 360 Huntington Ave Boston MA 02115 United States;X-APPLE-RADIUS=500;X-TITLE=010 Hayden Hall\, 360 Huntington Ave:geo:-71.0885286,42.3394629
END:VEVENT
BEGIN:VEVENT
DTSTART;TZID=America/New_York:20200212T134500
DTEND;TZID=America/New_York:20200212T141500
DTSTAMP:20260424T135317
CREATED:20200128T180756Z
LAST-MODIFIED:20200128T180756Z
UID:19347-1581515100-1581516900@coe.northeastern.edu
SUMMARY:Advanced Hand Tools
DESCRIPTION:This workshop is an introduction to the arbor press\, tap and die kit\, and ultrasonic cutter. Learn how to use each tool effectively \nSign up using this link! \nView the Sherman Center Calendar for more events!
URL:https://coe.northeastern.edu/event/advanced-hand-tools-6/
LOCATION:010 Hayden Hall\, 010 Hayden Hall\, 360 Huntington Ave\, Boston\, MA\, 02115\, United States
ORGANIZER;CN="Michael J. and Ann Sherman Center for Engineering Entrepreneurship Education":MAILTO:sherman@northeastern.edu
GEO:42.3394629;-71.0885286
X-APPLE-STRUCTURED-LOCATION;VALUE=URI;X-ADDRESS=010 Hayden Hall 010 Hayden Hall 360 Huntington Ave Boston MA 02115 United States;X-APPLE-RADIUS=500;X-TITLE=010 Hayden Hall\, 360 Huntington Ave:geo:-71.0885286,42.3394629
END:VEVENT
END:VCALENDAR