BEGIN:VCALENDAR
VERSION:2.0
PRODID:-//Northeastern University College of Engineering - ECPv6.15.18//NONSGML v1.0//EN
CALSCALE:GREGORIAN
METHOD:PUBLISH
X-ORIGINAL-URL:https://coe.northeastern.edu
X-WR-CALDESC:Events for Northeastern University College of Engineering
REFRESH-INTERVAL;VALUE=DURATION:PT1H
X-Robots-Tag:noindex
X-PUBLISHED-TTL:PT1H
BEGIN:VTIMEZONE
TZID:America/New_York
BEGIN:DAYLIGHT
TZOFFSETFROM:-0500
TZOFFSETTO:-0400
TZNAME:EDT
DTSTART:20190310T070000
END:DAYLIGHT
BEGIN:STANDARD
TZOFFSETFROM:-0400
TZOFFSETTO:-0500
TZNAME:EST
DTSTART:20191103T060000
END:STANDARD
BEGIN:DAYLIGHT
TZOFFSETFROM:-0500
TZOFFSETTO:-0400
TZNAME:EDT
DTSTART:20200308T070000
END:DAYLIGHT
BEGIN:STANDARD
TZOFFSETFROM:-0400
TZOFFSETTO:-0500
TZNAME:EST
DTSTART:20201101T060000
END:STANDARD
BEGIN:DAYLIGHT
TZOFFSETFROM:-0500
TZOFFSETTO:-0400
TZNAME:EDT
DTSTART:20210314T070000
END:DAYLIGHT
BEGIN:STANDARD
TZOFFSETFROM:-0400
TZOFFSETTO:-0500
TZNAME:EST
DTSTART:20211107T060000
END:STANDARD
END:VTIMEZONE
BEGIN:VEVENT
DTSTART;VALUE=DATE:20200203
DTEND;VALUE=DATE:20200306
DTSTAMP:20260422T001129
CREATED:20200129T144506Z
LAST-MODIFIED:20200129T144506Z
UID:19430-1580688000-1583452799@coe.northeastern.edu
SUMMARY:Call for submissions for Research: Art or Science? Exhibition!
DESCRIPTION:Submit an image of your research to the third annual Research: Art or Science? Exhibition for a unique opportunity to have your work displayed on campus and win a cash prize! Visit Art or Science? for more information and to submit.
URL:https://coe.northeastern.edu/event/call-for-submissions-for-research-art-or-science-exhibition/
END:VEVENT
BEGIN:VEVENT
DTSTART;TZID=America/New_York:20200221T100000
DTEND;TZID=America/New_York:20200221T120000
DTSTAMP:20260422T001129
CREATED:20200127T200929Z
LAST-MODIFIED:20200210T202101Z
UID:19307-1582279200-1582286400@coe.northeastern.edu
SUMMARY:Engineers Week: Engineering for Everyone Expo
DESCRIPTION:Looking for something to do during vacation week? We are looking for engineers in the making. Come and be inspired and enrich your understanding of engineering. Students of all ages are invited to join us for this free event! \nWe welcome all aspiring scientists\, engineers\, and inventors to Be Inspired at the Engineering Expo in celebration of National Engineers Week. Families\, parents\, children are all invited to join us! Learn more about engineering through a variety of activities\, experiments\, and demonstrations. Meet students pursuing engineering pathways at Northeastern University and have a great time learning new things! \nWhere:         NU’s Curry Student Center McLeod Suite (318-322)\nWhen:          Friday\, February 21\, 2020 (10:00am – 12:00pm)\nActivities will be led by representatives from a variety of our engineering student clubs and organizations: NUTRONS\, AIAA\, BMES\, GWISE\, IEEE\, IISE\, Maker Club\, STEMOut and more\, as well as by outside organizations such as Cambridge Science Festival.
URL:https://coe.northeastern.edu/event/engineers-week-engineering-for-everyone-expo/
LOCATION:Curry Student Center\, 360 Huntington Ave.\, Boston\, MA\, 02115\, United States
ORGANIZER;CN="Michael B. Silevitch and Claire J. Duggan Center for STEM Education":MAILTO:stem@northeastern.edu
GEO:42.3394629;-71.0885286
X-APPLE-STRUCTURED-LOCATION;VALUE=URI;X-ADDRESS=Curry Student Center 360 Huntington Ave. Boston MA 02115 United States;X-APPLE-RADIUS=500;X-TITLE=360 Huntington Ave.:geo:-71.0885286,42.3394629
END:VEVENT
BEGIN:VEVENT
DTSTART;TZID=America/New_York:20200221T100000
DTEND;TZID=America/New_York:20200221T180000
DTSTAMP:20260422T001129
CREATED:20200131T214030Z
LAST-MODIFIED:20200131T215638Z
UID:19537-1582279200-1582308000@coe.northeastern.edu
SUMMARY:Engineers Week: First Year Engineering and Innovation Center Open House
DESCRIPTION:Swing by the First Year Engineering Center for fun and interactive puzzles and games created by College of Engineering students! Don’t forget to grab a laser cut or 3D printed keychain or puzzle. You can learn about laser cutters or 3D printing and also watch as your key chain is created. This is a great activity for families.
URL:https://coe.northeastern.edu/event/engineers-week-first-year-engineering-and-innovation-center-open-house/
LOCATION:368 SN\, 360 Huntington Ave\, 368 SN\, Boston\, MA\, 02115\, United States
GEO:42.3401758;-71.0892797
X-APPLE-STRUCTURED-LOCATION;VALUE=URI;X-ADDRESS=368 SN 360 Huntington Ave 368 SN Boston MA 02115 United States;X-APPLE-RADIUS=500;X-TITLE=360 Huntington Ave\, 368 SN:geo:-71.0892797,42.3401758
END:VEVENT
BEGIN:VEVENT
DTSTART;TZID=America/New_York:20200221T130000
DTEND;TZID=America/New_York:20200221T130000
DTSTAMP:20260422T001129
CREATED:20200218T213711Z
LAST-MODIFIED:20200218T213711Z
UID:19856-1582290000-1582290000@coe.northeastern.edu
SUMMARY:Black Excellence in the Making
DESCRIPTION:The Graduate Students of Color Collective Presents \nBlack Excellence in the Making \nTwo graduate students will be discussing how to succeed within their area/field of study and will provide advice to both grads and undergrads on steps that are necessary to achieve their career goals. Both Danzel and Jeanelle will also elaborate on the skills\, tools\, and resources that are available to students as well as explain the meaning of Black Excellence. \nLocation: JDOAAI 2nd floor study space \nRSVP neugscc@gmail.com \nFirst 20 people receive free professional headshots.
URL:https://coe.northeastern.edu/event/black-excellence-in-the-making/
END:VEVENT
BEGIN:VEVENT
DTSTART;TZID=America/New_York:20200221T130000
DTEND;TZID=America/New_York:20200221T133000
DTSTAMP:20260422T001129
CREATED:20200122T214045Z
LAST-MODIFIED:20200122T214045Z
UID:19184-1582290000-1582291800@coe.northeastern.edu
SUMMARY:Team Leadership Step-by-Step: Prepare Your Leadership Soft-Skills
DESCRIPTION:20 minute lessons at 1 pm (almost) every Friday\, open to all! \nQuestions? Contact Ted at ted.johnson@northeastern.edu \nView the Sherman Center Calendar for more events!
URL:https://coe.northeastern.edu/event/team-leadership-step-by-step-prepare-your-leadership-soft-skills/
LOCATION:010 Hayden Hall\, 010 Hayden Hall\, 360 Huntington Ave\, Boston\, MA\, 02115\, United States
ORGANIZER;CN="Michael J. and Ann Sherman Center for Engineering Entrepreneurship Education":MAILTO:sherman@northeastern.edu
GEO:42.3394629;-71.0885286
X-APPLE-STRUCTURED-LOCATION;VALUE=URI;X-ADDRESS=010 Hayden Hall 010 Hayden Hall 360 Huntington Ave Boston MA 02115 United States;X-APPLE-RADIUS=500;X-TITLE=010 Hayden Hall\, 360 Huntington Ave:geo:-71.0885286,42.3394629
END:VEVENT
BEGIN:VEVENT
DTSTART;TZID=America/New_York:20200221T133000
DTEND;TZID=America/New_York:20200221T153000
DTSTAMP:20260422T001129
CREATED:20200212T205443Z
LAST-MODIFIED:20200218T215009Z
UID:19791-1582291800-1582299000@coe.northeastern.edu
SUMMARY:MathWorks Collaboration Day
DESCRIPTION:The MathWorks SMART Laboratory\nNortheastern University\nCollaboration Day Event \nFinancial Services and Computational Finance with MATLAB \nChris Garvin\nSenior Software\nEngineer Manager \nFinancial Services encompasses an array of application areas such as investing\, banking\, econometric modeling and risk management. Increasingly sophisticated software tools are being developed to provide financial products that give professionals a competitive advantage in this space. \nThis presentation will highlight industry segments and application areas illustrating how MathWorks applies computational finance tools and solutions to this space. You will learn about asset allocation\, sentiment analysis and algorithmic trading using MATLAB. \nThe first example will walk you through the steps to build an asset allocation strategy based on hierarchical risk parity and compare the results to a traditional mean variance methodology. Next\, a deep learning model will be used to classify the sentiments of Tweets as positive or negative. Sentiment analysis is used in investment decision making. Finally\, we will explore how a rule-based model is used to make trading decisions. \n\nBio:\nChris Garvin is a senior software engineering manager and principal software engineer leading the Computational Finance software development team. He has been at MathWorks since 1993. He has guided the development of products that serve the Financial Services and FinTech space and has been the primary developer of the Financial\, Database\, Datafeed and Trading Toolboxes and Spreadsheet Link. He received a Bachelor of Science in Electrical Engineering from Union College and an MBA certificate from Northeastern University. \n\nKeynote Address – Raytheon Amphitheater 1:30 — 2:30 pm\nPoster session and demonstrations – Raytheon Amphitheater 2:30 – 3:30 pm\nMathWorks employees\, Northeastern students and faculty will demonstrate their current work. \n\nList of demos from MathWorks that will be given from 2:30 to 3:30: \n\nText Analytics and sentiment analysis\nHierarchical risk parity\nImage Transmission and Reception Using WLAN Toolbox and One PlutoSDR\nModulation Classification with Deep Learning\nUrban Channel Link Analysis and Visualization using Ray Tracing\nReal-time ECG waveform segmentation using a deep network\nEmbedded Architecture Modeling and Targeting\n\n\nFor more information\, contact:\nMiriam Leeser\nmel@coe.neu.edu
URL:https://coe.northeastern.edu/event/mathworks-collaboration-day/
LOCATION:Raytheon Amphitheater (240 Egan)\, 360 Huntington Ave\, 240 Egan\, Boston\, MA\, 02115\, United States
END:VEVENT
BEGIN:VEVENT
DTSTART;TZID=America/New_York:20200221T153000
DTEND;TZID=America/New_York:20200221T160000
DTSTAMP:20260422T001129
CREATED:20200128T190649Z
LAST-MODIFIED:20200128T190649Z
UID:19392-1582299000-1582300800@coe.northeastern.edu
SUMMARY:Basic Soldering
DESCRIPTION:This workshop is an introduction to soldering. Learn how to solder two wires together and apply heat-shrink tubing using a Weller soldering station and an SMD Rework station \nSign up using this link! \nView the Sherman Center Calendar for more events!
URL:https://coe.northeastern.edu/event/basic-soldering-6/
LOCATION:010 Hayden Hall\, 010 Hayden Hall\, 360 Huntington Ave\, Boston\, MA\, 02115\, United States
ORGANIZER;CN="Michael J. and Ann Sherman Center for Engineering Entrepreneurship Education":MAILTO:sherman@northeastern.edu
GEO:42.3394629;-71.0885286
X-APPLE-STRUCTURED-LOCATION;VALUE=URI;X-ADDRESS=010 Hayden Hall 010 Hayden Hall 360 Huntington Ave Boston MA 02115 United States;X-APPLE-RADIUS=500;X-TITLE=010 Hayden Hall\, 360 Huntington Ave:geo:-71.0885286,42.3394629
END:VEVENT
END:VCALENDAR