BEGIN:VCALENDAR
VERSION:2.0
PRODID:-//Northeastern University College of Engineering - ECPv6.15.18//NONSGML v1.0//EN
CALSCALE:GREGORIAN
METHOD:PUBLISH
X-WR-CALNAME:Northeastern University College of Engineering
X-ORIGINAL-URL:https://coe.northeastern.edu
X-WR-CALDESC:Events for Northeastern University College of Engineering
REFRESH-INTERVAL;VALUE=DURATION:PT1H
X-Robots-Tag:noindex
X-PUBLISHED-TTL:PT1H
BEGIN:VTIMEZONE
TZID:America/New_York
BEGIN:DAYLIGHT
TZOFFSETFROM:-0500
TZOFFSETTO:-0400
TZNAME:EDT
DTSTART:20190310T070000
END:DAYLIGHT
BEGIN:STANDARD
TZOFFSETFROM:-0400
TZOFFSETTO:-0500
TZNAME:EST
DTSTART:20191103T060000
END:STANDARD
BEGIN:DAYLIGHT
TZOFFSETFROM:-0500
TZOFFSETTO:-0400
TZNAME:EDT
DTSTART:20200308T070000
END:DAYLIGHT
BEGIN:STANDARD
TZOFFSETFROM:-0400
TZOFFSETTO:-0500
TZNAME:EST
DTSTART:20201101T060000
END:STANDARD
BEGIN:DAYLIGHT
TZOFFSETFROM:-0500
TZOFFSETTO:-0400
TZNAME:EDT
DTSTART:20210314T070000
END:DAYLIGHT
BEGIN:STANDARD
TZOFFSETFROM:-0400
TZOFFSETTO:-0500
TZNAME:EST
DTSTART:20211107T060000
END:STANDARD
END:VTIMEZONE
BEGIN:VEVENT
DTSTART;TZID=America/New_York:20200312T103000
DTEND;TZID=America/New_York:20200312T110000
DTSTAMP:20260419T221651
CREATED:20200228T203106Z
LAST-MODIFIED:20200228T203106Z
UID:19980-1584009000-1584010800@coe.northeastern.edu
SUMMARY:Power Tools
DESCRIPTION:This workshop is an introduction to the hand drill\, impact driver\, and dremel rotary tool. Learn how to drill pilot holes\, drive screws\, and sand wood \nSign up using this link! \nView the Sherman Center Calendar for more events!
URL:https://coe.northeastern.edu/event/power-tools-9/
LOCATION:010 Hayden Hall\, 010 Hayden Hall\, 360 Huntington Ave\, Boston\, MA\, 02115\, United States
ORGANIZER;CN="Michael J. and Ann Sherman Center for Engineering Entrepreneurship Education":MAILTO:sherman@northeastern.edu
GEO:42.3394629;-71.0885286
X-APPLE-STRUCTURED-LOCATION;VALUE=URI;X-ADDRESS=010 Hayden Hall 010 Hayden Hall 360 Huntington Ave Boston MA 02115 United States;X-APPLE-RADIUS=500;X-TITLE=010 Hayden Hall\, 360 Huntington Ave:geo:-71.0885286,42.3394629
END:VEVENT
BEGIN:VEVENT
DTSTART;TZID=America/New_York:20200312T130000
DTEND;TZID=America/New_York:20200312T133000
DTSTAMP:20260419T221651
CREATED:20200228T203133Z
LAST-MODIFIED:20200228T203133Z
UID:19982-1584018000-1584019800@coe.northeastern.edu
SUMMARY:Desktop CNC Mill
DESCRIPTION:This workshop is an introduction to the desktop CNC mill \nSign up using this link! \nView the Sherman Center Calendar for more events! \n 
URL:https://coe.northeastern.edu/event/desktop-cnc-mill-5/
LOCATION:010 Hayden Hall\, 010 Hayden Hall\, 360 Huntington Ave\, Boston\, MA\, 02115\, United States
ORGANIZER;CN="Michael J. and Ann Sherman Center for Engineering Entrepreneurship Education":MAILTO:sherman@northeastern.edu
GEO:42.3394629;-71.0885286
X-APPLE-STRUCTURED-LOCATION;VALUE=URI;X-ADDRESS=010 Hayden Hall 010 Hayden Hall 360 Huntington Ave Boston MA 02115 United States;X-APPLE-RADIUS=500;X-TITLE=010 Hayden Hall\, 360 Huntington Ave:geo:-71.0885286,42.3394629
END:VEVENT
BEGIN:VEVENT
DTSTART;TZID=America/New_York:20200312T160000
DTEND;TZID=America/New_York:20200312T180000
DTSTAMP:20260419T221651
CREATED:20200309T135245Z
LAST-MODIFIED:20200309T140840Z
UID:20016-1584028800-1584036000@coe.northeastern.edu
SUMMARY:INFORMS Workshop: Introduction to Tableau
DESCRIPTION:Curious about how to start with the data visualization tool Tableau? Come and join INFORMS data visualization workshop on March 12\, Thursday\, 4:00 – 6:00 PM\, Curry 333.
URL:https://coe.northeastern.edu/event/informs-workshop-introduction-to-tableau/
LOCATION:Curry Student Center\, 360 Huntington Ave.\, Boston\, MA\, 02115\, United States
ORGANIZER;CN="Institute for Operations Research and the Management Sciences (INFORMS)":MAILTO:informsnu@gmail.com
GEO:42.3394629;-71.0885286
X-APPLE-STRUCTURED-LOCATION;VALUE=URI;X-ADDRESS=Curry Student Center 360 Huntington Ave. Boston MA 02115 United States;X-APPLE-RADIUS=500;X-TITLE=360 Huntington Ave.:geo:-71.0885286,42.3394629
END:VEVENT
END:VCALENDAR