BEGIN:VCALENDAR
VERSION:2.0
PRODID:-//Northeastern University College of Engineering - ECPv6.15.20//NONSGML v1.0//EN
CALSCALE:GREGORIAN
METHOD:PUBLISH
X-ORIGINAL-URL:https://coe.northeastern.edu
X-WR-CALDESC:Events for Northeastern University College of Engineering
REFRESH-INTERVAL;VALUE=DURATION:PT1H
X-Robots-Tag:noindex
X-PUBLISHED-TTL:PT1H
BEGIN:VTIMEZONE
TZID:America/New_York
BEGIN:DAYLIGHT
TZOFFSETFROM:-0500
TZOFFSETTO:-0400
TZNAME:EDT
DTSTART:20190310T070000
END:DAYLIGHT
BEGIN:STANDARD
TZOFFSETFROM:-0400
TZOFFSETTO:-0500
TZNAME:EST
DTSTART:20191103T060000
END:STANDARD
BEGIN:DAYLIGHT
TZOFFSETFROM:-0500
TZOFFSETTO:-0400
TZNAME:EDT
DTSTART:20200308T070000
END:DAYLIGHT
BEGIN:STANDARD
TZOFFSETFROM:-0400
TZOFFSETTO:-0500
TZNAME:EST
DTSTART:20201101T060000
END:STANDARD
BEGIN:DAYLIGHT
TZOFFSETFROM:-0500
TZOFFSETTO:-0400
TZNAME:EDT
DTSTART:20210314T070000
END:DAYLIGHT
BEGIN:STANDARD
TZOFFSETFROM:-0400
TZOFFSETTO:-0500
TZNAME:EST
DTSTART:20211107T060000
END:STANDARD
END:VTIMEZONE
BEGIN:VEVENT
DTSTART;TZID=America/New_York:20200624T113000
DTEND;TZID=America/New_York:20200624T120000
DTSTAMP:20260423T115955
CREATED:20200611T154303Z
LAST-MODIFIED:20200611T154303Z
UID:21144-1592998200-1593000000@coe.northeastern.edu
SUMMARY:SPARC (Seminars to Promote ALERT Research and Collaboration) Webinar Series
DESCRIPTION:The ALERT (Awareness and Localization of Explosives-Related Threats) Department of Homeland Security Center of Excellence at Northeastern University is launching a free online summer series titled\, SPARC (Seminars to Promote ALERT Research and Collaboration). SPARC will give attendees a preview of ALERT’s work with industry and government stakeholders. More details can be viewed on the ALERT webpage: http://www.northeastern.edu/alert/sparc \nThe first of these webinars will be presented on June 24th from 11:30am – 12:00pm. The presentation titled\, “On the fusion of X-ray data types for enhanced materials characterization” will be presented by Professor Eric Miller of Tufts University and Dr. Dan Strellis from Rapiscan Systems. They will discuss the work in X-ray-based imaging schemes based on the collection and processing of both scattered and diffracted photons in addition to the typical transmitted beams. \nIf you are interested in attending this webinar\, please reach out to Tiffany Lam at t.lam@northeastern.edu for registration information.
URL:https://coe.northeastern.edu/event/sparc-seminars-to-promote-alert-research-and-collaboration-webinar-series/
ORGANIZER;CN="ALERT":MAILTO:alert-info@coe.neu.edu
END:VEVENT
END:VCALENDAR