BEGIN:VCALENDAR
VERSION:2.0
PRODID:-//Northeastern University College of Engineering - ECPv6.15.18//NONSGML v1.0//EN
CALSCALE:GREGORIAN
METHOD:PUBLISH
X-WR-CALNAME:Northeastern University College of Engineering
X-ORIGINAL-URL:https://coe.northeastern.edu
X-WR-CALDESC:Events for Northeastern University College of Engineering
REFRESH-INTERVAL;VALUE=DURATION:PT1H
X-Robots-Tag:noindex
X-PUBLISHED-TTL:PT1H
BEGIN:VTIMEZONE
TZID:America/New_York
BEGIN:DAYLIGHT
TZOFFSETFROM:-0500
TZOFFSETTO:-0400
TZNAME:EDT
DTSTART:20190310T070000
END:DAYLIGHT
BEGIN:STANDARD
TZOFFSETFROM:-0400
TZOFFSETTO:-0500
TZNAME:EST
DTSTART:20191103T060000
END:STANDARD
BEGIN:DAYLIGHT
TZOFFSETFROM:-0500
TZOFFSETTO:-0400
TZNAME:EDT
DTSTART:20200308T070000
END:DAYLIGHT
BEGIN:STANDARD
TZOFFSETFROM:-0400
TZOFFSETTO:-0500
TZNAME:EST
DTSTART:20201101T060000
END:STANDARD
BEGIN:DAYLIGHT
TZOFFSETFROM:-0500
TZOFFSETTO:-0400
TZNAME:EDT
DTSTART:20210314T070000
END:DAYLIGHT
BEGIN:STANDARD
TZOFFSETFROM:-0400
TZOFFSETTO:-0500
TZNAME:EST
DTSTART:20211107T060000
END:STANDARD
END:VTIMEZONE
BEGIN:VEVENT
DTSTART;TZID=America/New_York:20200821T150000
DTEND;TZID=America/New_York:20200821T153000
DTSTAMP:20260421T105854
CREATED:20200728T174231Z
LAST-MODIFIED:20200728T174231Z
UID:21636-1598022000-1598023800@coe.northeastern.edu
SUMMARY:How can I use the Recording Studios remotely?: A Bite-Sized Webinar
DESCRIPTION:Whether a budding sound engineer\, musician\, podcast enthusiast or digital storyteller\, the Recording Studios looks forward to working with you in the fall. Yes\, our creative production facilities will be closed\, but Studios’ staff will help you remotely with a range of resources and expert technical and project-planning advice. Jonathan Iannone\, Supervisor of the Recording Studios\, will describe the services and options that will be available to you. We look forward to hearing your questions! \nThis webinar will be recorded. To receive a copy of the recording\, please register using the link below. \nThis is a part of the Bite-Sized Webinar series. Please visit our previous webinars in the series here.
URL:https://coe.northeastern.edu/event/how-can-i-use-the-recording-studios-remotely-a-bite-sized-webinar/
END:VEVENT
END:VCALENDAR