BEGIN:VCALENDAR
VERSION:2.0
PRODID:-//Northeastern University College of Engineering - ECPv6.15.18//NONSGML v1.0//EN
CALSCALE:GREGORIAN
METHOD:PUBLISH
X-ORIGINAL-URL:https://coe.northeastern.edu
X-WR-CALDESC:Events for Northeastern University College of Engineering
REFRESH-INTERVAL;VALUE=DURATION:PT1H
X-Robots-Tag:noindex
X-PUBLISHED-TTL:PT1H
BEGIN:VTIMEZONE
TZID:America/New_York
BEGIN:DAYLIGHT
TZOFFSETFROM:-0500
TZOFFSETTO:-0400
TZNAME:EDT
DTSTART:20190310T070000
END:DAYLIGHT
BEGIN:STANDARD
TZOFFSETFROM:-0400
TZOFFSETTO:-0500
TZNAME:EST
DTSTART:20191103T060000
END:STANDARD
BEGIN:DAYLIGHT
TZOFFSETFROM:-0500
TZOFFSETTO:-0400
TZNAME:EDT
DTSTART:20200308T070000
END:DAYLIGHT
BEGIN:STANDARD
TZOFFSETFROM:-0400
TZOFFSETTO:-0500
TZNAME:EST
DTSTART:20201101T060000
END:STANDARD
BEGIN:DAYLIGHT
TZOFFSETFROM:-0500
TZOFFSETTO:-0400
TZNAME:EDT
DTSTART:20210314T070000
END:DAYLIGHT
BEGIN:STANDARD
TZOFFSETFROM:-0400
TZOFFSETTO:-0500
TZNAME:EST
DTSTART:20211107T060000
END:STANDARD
END:VTIMEZONE
BEGIN:VEVENT
DTSTART;VALUE=DATE:20201015
DTEND;VALUE=DATE:20201231
DTSTAMP:20260422T233520
CREATED:20201015T142444Z
LAST-MODIFIED:20201015T142444Z
UID:22804-1602720000-1609372799@coe.northeastern.edu
SUMMARY:Meet Your Graduate Student Ambassadors!
DESCRIPTION:Meet your Student Ambassadors! Prospective and Admitted Graduate Students are invited to meet their Student Ambassador via Unibuddy.
URL:https://coe.northeastern.edu/event/meet-your-graduate-student-ambassadors/
END:VEVENT
BEGIN:VEVENT
DTSTART;VALUE=DATE:20201116
DTEND;VALUE=DATE:20201123
DTSTAMP:20260422T233520
CREATED:20201105T183211Z
LAST-MODIFIED:20201105T183211Z
UID:23076-1605484800-1606089599@coe.northeastern.edu
SUMMARY:Global Entrepreneurship Week 2020
DESCRIPTION:Global Entrepreneurship Week (GEW) is the largest celebration of innovators and entrepreneurs in the world. Sponsored by the Kauffman Foundation\, more than 130 countries participate in GEW each year. Through various programs and events held by businesses\, organizations\, and academic institutions\, GEW week stimulates the entrepreneurial spirit\, inspiring people to create their own startup companies and giving existing entrepreneurs an opportunity to share their expertise. \nVisit the GEW website to view and register for GEW events hosted by groups like IDEA\, Entrepreneurs Club\, NU-Impact\, McCarthy(s) Venture Mentoring Network\, Women Who Empower\, Center for Research Innovation and Health Science Entrepreneurs.
URL:https://coe.northeastern.edu/event/global-entrepreneurship-week-2020/
END:VEVENT
BEGIN:VEVENT
DTSTART;TZID=America/New_York:20201116T130000
DTEND;TZID=America/New_York:20201116T143000
DTSTAMP:20260422T233520
CREATED:20201113T202104Z
LAST-MODIFIED:20201113T202104Z
UID:23172-1605531600-1605537000@coe.northeastern.edu
SUMMARY:H-1B and Additional After Graduation Employment-Based Visa Options: Immigration Attorneys present.
DESCRIPTION:This session is only offered once per semester and is open to both NU students and alumni. Available Virtually (not recorded) \nRegistration on NUworks Encouraged: https://northeastern-csm.symplicity.com/students/ \nWant to know your immigration options for after graduation employment? Heard about the H-1B- cap and cap exempt\, L\, E\, TN\, O or other options\, including self-sponsored options and the National Interest Waiver. Learn about employment-based visa options\, including the H-1B\, L\, E\, TN\, O\, and self-sponsored options and the National Interest Waiver.\nWondering what all of those mean and whether there have been any changes to these options\, as well as which ones may work for you? We’ve all been hearing about changes to the L\, as well as possible changes to the H-1B. Hear directly from Immigration Attorneys Richard Iandoli\, Prasant Desai and Attorney Mary Walsh of Iandoli\, Desai & Cronin P.C. and ask questions. Learn what is actually changing versus what has not changed and consider your options for how you can best navigate. Get the right information for you and position yourself for success. This session is only offered once per semester (virtual via zoom). \nHow to attend:\nThis presentation is virtual. Please click on the following link: https://northeastern.zoom.us/j/98862750317 \nThis program connects to the SAIL domain Personal and Professional Effectiveness using strategic thinking\, organizational\, and planning skills. Co-Sponsored with Office of Global Services (OGS). This is part of International Education Week.\nQuestions? Please contact Ellen Zold Goldman: e.goldman@northeastern.edu
URL:https://coe.northeastern.edu/event/h-1b-and-additional-after-graduation-employment-based-visa-options-immigration-attorneys-present/
END:VEVENT
END:VCALENDAR