BEGIN:VCALENDAR
VERSION:2.0
PRODID:-//Northeastern University College of Engineering - ECPv6.15.20//NONSGML v1.0//EN
CALSCALE:GREGORIAN
METHOD:PUBLISH
X-ORIGINAL-URL:https://coe.northeastern.edu
X-WR-CALDESC:Events for Northeastern University College of Engineering
REFRESH-INTERVAL;VALUE=DURATION:PT1H
X-Robots-Tag:noindex
X-PUBLISHED-TTL:PT1H
BEGIN:VTIMEZONE
TZID:America/New_York
BEGIN:DAYLIGHT
TZOFFSETFROM:-0500
TZOFFSETTO:-0400
TZNAME:EDT
DTSTART:20200308T070000
END:DAYLIGHT
BEGIN:STANDARD
TZOFFSETFROM:-0400
TZOFFSETTO:-0500
TZNAME:EST
DTSTART:20201101T060000
END:STANDARD
BEGIN:DAYLIGHT
TZOFFSETFROM:-0500
TZOFFSETTO:-0400
TZNAME:EDT
DTSTART:20210314T070000
END:DAYLIGHT
BEGIN:STANDARD
TZOFFSETFROM:-0400
TZOFFSETTO:-0500
TZNAME:EST
DTSTART:20211107T060000
END:STANDARD
BEGIN:DAYLIGHT
TZOFFSETFROM:-0500
TZOFFSETTO:-0400
TZNAME:EDT
DTSTART:20220313T070000
END:DAYLIGHT
BEGIN:STANDARD
TZOFFSETFROM:-0400
TZOFFSETTO:-0500
TZNAME:EST
DTSTART:20221106T060000
END:STANDARD
END:VTIMEZONE
BEGIN:VEVENT
DTSTART;VALUE=DATE:20210104
DTEND;VALUE=DATE:20210201
DTSTAMP:20260423T173138
CREATED:20201208T145218Z
LAST-MODIFIED:20201208T145218Z
UID:23430-1609718400-1612137599@coe.northeastern.edu
SUMMARY:Lifelong Learning: On Demand – Innovative Uses of Artificial Intelligence
DESCRIPTION:The Office of Alumni Relations is hosting “Lifelong Learning: On Demand – Innovative Uses of Artificial Intelligence”. Be introduced to a few innovative uses of AI in the fields of healthcare\, computers\, and robotics. Learn from Northeastern faculty experts Craig Johnson and Taskin Padir. This complimentary\, online program is available to you on demand from January 4 to 31. An opportunity to earn a non-credit digital badge is available. \nRegister Now
URL:https://coe.northeastern.edu/event/lifelong-learning-on-demand-innovative-uses-of-artificial-intelligence/
END:VEVENT
BEGIN:VEVENT
DTSTART;TZID=America/New_York:20210122T180000
DTEND;TZID=America/New_York:20210122T180000
DTSTAMP:20260423T173138
CREATED:20210112T150820Z
LAST-MODIFIED:20210112T150820Z
UID:23685-1611338400-1611338400@coe.northeastern.edu
SUMMARY:5th Annual Multicultural Mixer
DESCRIPTION:This year’s theme is “Moving the Dream Forward” in honor and celebration of MLK Day (1/18). Registration is currently live. We are trying to reach current and new graduate students (those starting Winter/Spring ’21)\, faculty\, staff\, and alumni within the Black\, Indigenous\, and People of Color (BIPOC) community to be apart of this amazing event. We have so many surprises in store and we can’t wait to share them with all of you. \nRegister
URL:https://coe.northeastern.edu/event/5th-annual-multicultural-mixer/
END:VEVENT
END:VCALENDAR