BEGIN:VCALENDAR
VERSION:2.0
PRODID:-//Northeastern University College of Engineering - ECPv6.15.20//NONSGML v1.0//EN
CALSCALE:GREGORIAN
METHOD:PUBLISH
X-ORIGINAL-URL:https://coe.northeastern.edu
X-WR-CALDESC:Events for Northeastern University College of Engineering
REFRESH-INTERVAL;VALUE=DURATION:PT1H
X-Robots-Tag:noindex
X-PUBLISHED-TTL:PT1H
BEGIN:VTIMEZONE
TZID:America/New_York
BEGIN:DAYLIGHT
TZOFFSETFROM:-0500
TZOFFSETTO:-0400
TZNAME:EDT
DTSTART:20200308T070000
END:DAYLIGHT
BEGIN:STANDARD
TZOFFSETFROM:-0400
TZOFFSETTO:-0500
TZNAME:EST
DTSTART:20201101T060000
END:STANDARD
BEGIN:DAYLIGHT
TZOFFSETFROM:-0500
TZOFFSETTO:-0400
TZNAME:EDT
DTSTART:20210314T070000
END:DAYLIGHT
BEGIN:STANDARD
TZOFFSETFROM:-0400
TZOFFSETTO:-0500
TZNAME:EST
DTSTART:20211107T060000
END:STANDARD
BEGIN:DAYLIGHT
TZOFFSETFROM:-0500
TZOFFSETTO:-0400
TZNAME:EDT
DTSTART:20220313T070000
END:DAYLIGHT
BEGIN:STANDARD
TZOFFSETFROM:-0400
TZOFFSETTO:-0500
TZNAME:EST
DTSTART:20221106T060000
END:STANDARD
END:VTIMEZONE
BEGIN:VEVENT
DTSTART;TZID=America/New_York:20210209T140000
DTEND;TZID=America/New_York:20210209T150000
DTSTAMP:20260424T000220
CREATED:20210203T145506Z
LAST-MODIFIED:20210203T145506Z
UID:24112-1612879200-1612882800@coe.northeastern.edu
SUMMARY:Galante Event: Info Session
DESCRIPTION:The Galante Engineering Business Program is holding an Info Session on February 9th from 2:00-3:00pm via Zoom. \nNortheastern University’s Galante Engineering Business Program offers a progressive opportunity for engineering students to complement their technical engineering education with business skills by earning a graduate certificate in engineering business. Galante is founded on the values of student engagement and leadership to strengthen interpersonal and professional skills. Integrating an engineering education with a business background allows students to perfect their communication\, leadership\, and teamwork capabilities. Please RSVP to the Info Session.  \nPlease feel free to reach out with any questions Galante@northeastern.edu or visit the Galante Website to learn more.
URL:https://coe.northeastern.edu/event/galante-event-info-session/
END:VEVENT
BEGIN:VEVENT
DTSTART;TZID=America/New_York:20210209T150000
DTEND;TZID=America/New_York:20210209T160000
DTSTAMP:20260424T000220
CREATED:20210205T194624Z
LAST-MODIFIED:20210205T194624Z
UID:24155-1612882800-1612886400@coe.northeastern.edu
SUMMARY:ECE Seminar: David M. Rosen
DESCRIPTION:Title: Provably Sound Perception for Reliable Autonomy \nDavid M. Rosen \nLocation: Zoom Link \nAbstract:  Machine perception — the ability to construct accurate models of the world from raw sensor data — is an essential capability for mobile robots\, supporting such fundamental functions as planning\, navigation\, and control.  However\, the development of algorithms for robotic perception that are both *practical* and *reliable* presents a formidable challenge: such methods must be capable of solving complex estimation tasks in real-time on resource-limited mobile platforms\, while remaining robust to challenges such as sensor noise\, uncertain or misspecified perceptual models\, and potentially contaminated measurements. In this talk\, I show how one can meet these challenges through the design of practical perception methods that are both *computationally efficient* and *provably sound*\, focusing on the foundational problem of spatial perception.  I begin with a brief introduction to pose-graph optimization (PGO): this problem lies at the core of many fundamental spatial perception tasks (including robotic mapping\, sensor network localization\, and 3D visual reconstruction)\, but is high-dimensional and nonconvex\, and therefore challenging to solve in general. Nevertheless\, I show how one can leverage convex relaxation to efficiently recover *exact\, certifiably optimal* PGO solutions in a noise regime that encompasses most practical robotics and computer vision applications.  Our algorithm\, SE-Sync\, is the first practical method provably capable of recovering correct (globally optimal) PGO solutions. Next\, I address the design of machine learning methods for spatial perception\, focusing on the fundamental problem of rotation estimation.  I show that topological obstructions can actually prevent deep neural networks (DNNs) employing common rotation parameterizations (e.g. quaternions) from learning to estimate widely-dispersed rotation targets\, as is required in (for example) object pose estimation. I then describe a novel parameterization of 3D rotations that overcomes this obstruction\, and that supports an explicit notion of uncertainty in our DNNs’ predictions.  Experiments confirm that (as predicted by theory) DNNs employing this representation achieve superior accuracy and reliability when applied to object pose estimation\, and that their predicted uncertainties enable the reliable identification of out-of-distribution test examples (including corrupted inputs). Finally\, I will conclude with a discussion of future directions that aim to unify provably sound estimation and learning methods\, thereby enabling the creation of perception systems with both the *robustness* and *adaptability* necessary to support reliable long-term autonomy in the real world. \nSpeaker Bio:  David M. Rosen is a postdoctoral associate in the Laboratory for Information and Decision Systems at the Massachusetts Institute of Technology.  His research addresses the design of practical provably robust methods for machine perception\, using a combination of tools from optimization\, geometry\, algebra\, and probabilistic inference.  He holds the degrees of BS in Mathematics from the California Institute of Technology (2008)\, MA in Mathematics from the University of Texas at Austin (2010)\, and ScD in Computer Science from the Massachusetts Institute of Technology.  Prior to joining LIDS\, he was a Research Scientist at Oculus Research (now Facebook Reality Labs) in Seattle.His work has been recognized with a Best Paper Award at the 2016 International Workshop on the Algorithmic Foundations of Robotics\, an RSS Pioneer Award at Robotics: Science and Systems 2019\, and a Best Student Paper Award at Robotics: Science and Systems 2020.
URL:https://coe.northeastern.edu/event/ece-seminar-david-m-rosen/
END:VEVENT
BEGIN:VEVENT
DTSTART;TZID=America/New_York:20210209T190000
DTEND;TZID=America/New_York:20210209T200000
DTSTAMP:20260424T000220
CREATED:20210208T145751Z
LAST-MODIFIED:20210208T145751Z
UID:24180-1612897200-1612900800@coe.northeastern.edu
SUMMARY:Origami with Graduate Women in Science and Engineering
DESCRIPTION:Join the Graduate Women in Science and Engineering for community time this Tuesday at 7 PM on MS Teams. We will be making some origami and chatting!
URL:https://coe.northeastern.edu/event/origami-with-graduate-women-in-science-and-engineering/
ORGANIZER;CN="GWiSE%3A Graduate Women in Science and Engineering":MAILTO:gwise.neu@gmail.com
END:VEVENT
END:VCALENDAR