BEGIN:VCALENDAR
VERSION:2.0
PRODID:-//Northeastern University College of Engineering - ECPv6.15.18//NONSGML v1.0//EN
CALSCALE:GREGORIAN
METHOD:PUBLISH
X-ORIGINAL-URL:https://coe.northeastern.edu
X-WR-CALDESC:Events for Northeastern University College of Engineering
REFRESH-INTERVAL;VALUE=DURATION:PT1H
X-Robots-Tag:noindex
X-PUBLISHED-TTL:PT1H
BEGIN:VTIMEZONE
TZID:America/New_York
BEGIN:DAYLIGHT
TZOFFSETFROM:-0500
TZOFFSETTO:-0400
TZNAME:EDT
DTSTART:20200308T070000
END:DAYLIGHT
BEGIN:STANDARD
TZOFFSETFROM:-0400
TZOFFSETTO:-0500
TZNAME:EST
DTSTART:20201101T060000
END:STANDARD
BEGIN:DAYLIGHT
TZOFFSETFROM:-0500
TZOFFSETTO:-0400
TZNAME:EDT
DTSTART:20210314T070000
END:DAYLIGHT
BEGIN:STANDARD
TZOFFSETFROM:-0400
TZOFFSETTO:-0500
TZNAME:EST
DTSTART:20211107T060000
END:STANDARD
BEGIN:DAYLIGHT
TZOFFSETFROM:-0500
TZOFFSETTO:-0400
TZNAME:EDT
DTSTART:20220313T070000
END:DAYLIGHT
BEGIN:STANDARD
TZOFFSETFROM:-0400
TZOFFSETTO:-0500
TZNAME:EST
DTSTART:20221106T060000
END:STANDARD
END:VTIMEZONE
BEGIN:VEVENT
DTSTART;VALUE=DATE:20210317
DTEND;VALUE=DATE:20210422
DTSTAMP:20260423T042407
CREATED:20210318T134829Z
LAST-MODIFIED:20210318T134829Z
UID:25081-1615939200-1619049599@coe.northeastern.edu
SUMMARY:Study Recruitment: Ancient Techniques and Mental Health Today
DESCRIPTION:Northeastern Department of Philosophy & Religion  \nHave you been experiencing stress and anxiety? \nYou may be eligible to participate in our study! \nHelp us investigate the impact of mindfulness on various life outcomes! All components of this study will take place virtually; participants will be asked to attend two 30-minute Zoom sessions in addition to up to 5 weeks of short\, daily smartphone tasks. \nYou must be 18 years or older\, a Boston-based Northeastern undergraduate student\, and a native English speaker to be eligible to participate. \nParticipants will receive $80 in compensation. \nContact us at pwolstudy@gmail.com if you’re interested and to see if you are eligible! \nThis study has been reviewed and approved by the Northeastern University Institutional Review Board (#21-02-21).
URL:https://coe.northeastern.edu/event/study-recruitment-ancient-techniques-and-mental-health-today/
END:VEVENT
BEGIN:VEVENT
DTSTART;TZID=America/New_York:20210415T180000
DTEND;TZID=America/New_York:20210415T193000
DTSTAMP:20260423T042407
CREATED:20210322T140023Z
LAST-MODIFIED:20210322T140023Z
UID:25152-1618509600-1618515000@coe.northeastern.edu
SUMMARY:Machine Learning with MATLAB Webinar
DESCRIPTION:Date:  Thursday\, April 15th\nTime:  6:00pm – 7:30pm\, including Q&A \n Register Now \nEngineers and data scientists work with large amounts of data in various formats such as sensor\, image\, video\, telemetry\, databases\, and more. They use machine learning to find patterns in data and build models that predict future outcomes based on historical data.\nIn this session\, we explore the fundamentals of machine learning using MATLAB. We introduce machine learning techniques in MATLAB to quickly explore your data\, evaluate machine learning algorithms\, compare the results and apply the best technique to your problem. \nHighlights include: \n\nTraining\, evaluating\, and comparing a range of machine learning models\nUsing refinement and reduction techniques to create models that best capture the predictive power of your data\nRunning predictive models in parallel using multiple processors to expedite your results\nDeploying your models to production in a variety of formats
URL:https://coe.northeastern.edu/event/machine-learning-with-matlab-webinar/
END:VEVENT
BEGIN:VEVENT
DTSTART;TZID=America/New_York:20210415T180000
DTEND;TZID=America/New_York:20210415T200000
DTSTAMP:20260423T042407
CREATED:20210331T171121Z
LAST-MODIFIED:20210331T171121Z
UID:25284-1618509600-1618516800@coe.northeastern.edu
SUMMARY:ADSE Trivia Night
DESCRIPTION:Join ADSE for a graduate student virtual trivia night on April 15th from 6:00-8:00 pm and help us support a local Black-owned business! Form a team of up to 4 members and answer a total of 30 questions on variable topics. \n1st place: $25 to each team member\n2nd place: $20 to each team member\n3rd place: $15 to each team member \nThe first 25 people to register that attend the event will also receive a $5 gift card from Delectable Desires\, a highly acclaimed Black-Owned pastry shop in Roxbury.
URL:https://coe.northeastern.edu/event/adse-trivia-night-2/
END:VEVENT
END:VCALENDAR