BEGIN:VCALENDAR
VERSION:2.0
PRODID:-//Northeastern University College of Engineering - ECPv6.15.20//NONSGML v1.0//EN
CALSCALE:GREGORIAN
METHOD:PUBLISH
X-ORIGINAL-URL:https://coe.northeastern.edu
X-WR-CALDESC:Events for Northeastern University College of Engineering
REFRESH-INTERVAL;VALUE=DURATION:PT1H
X-Robots-Tag:noindex
X-PUBLISHED-TTL:PT1H
BEGIN:VTIMEZONE
TZID:America/New_York
BEGIN:DAYLIGHT
TZOFFSETFROM:-0500
TZOFFSETTO:-0400
TZNAME:EDT
DTSTART:20200308T070000
END:DAYLIGHT
BEGIN:STANDARD
TZOFFSETFROM:-0400
TZOFFSETTO:-0500
TZNAME:EST
DTSTART:20201101T060000
END:STANDARD
BEGIN:DAYLIGHT
TZOFFSETFROM:-0500
TZOFFSETTO:-0400
TZNAME:EDT
DTSTART:20210314T070000
END:DAYLIGHT
BEGIN:STANDARD
TZOFFSETFROM:-0400
TZOFFSETTO:-0500
TZNAME:EST
DTSTART:20211107T060000
END:STANDARD
BEGIN:DAYLIGHT
TZOFFSETFROM:-0500
TZOFFSETTO:-0400
TZNAME:EDT
DTSTART:20220313T070000
END:DAYLIGHT
BEGIN:STANDARD
TZOFFSETFROM:-0400
TZOFFSETTO:-0500
TZNAME:EST
DTSTART:20221106T060000
END:STANDARD
END:VTIMEZONE
BEGIN:VEVENT
DTSTART;TZID=America/New_York:20210429T090000
DTEND;TZID=America/New_York:20210429T100000
DTSTAMP:20260423T151515
CREATED:20210322T140415Z
LAST-MODIFIED:20210412T212812Z
UID:25116-1619686800-1619690400@coe.northeastern.edu
SUMMARY:Women In Engineering Webinar
DESCRIPTION:Join the Graduate School of Engineering for a Women in Engineering Webinar that will take place on April 29th at 9:00AM EST. Please find the registration link below. A recording will be available to those who are unable to attend. \nJoin link: https://us02web.zoom.us/webinar/register/WN_4ij5_t78QSyEJxC9VPiK6Q
URL:https://coe.northeastern.edu/event/women-in-engineering-webinar/
ORGANIZER;CN="Graduate School of Engineering":MAILTO:coe-gradadmissions@northeastern.edu
END:VEVENT
BEGIN:VEVENT
DTSTART;TZID=America/New_York:20210429T100000
DTEND;TZID=America/New_York:20210429T113000
DTSTAMP:20260423T151515
CREATED:20210426T135507Z
LAST-MODIFIED:20210426T135507Z
UID:25580-1619690400-1619695800@coe.northeastern.edu
SUMMARY:Culturally Responsive & Anti-Racist Teaching: Strategies for Inclusive Excellence
DESCRIPTION:Join Dr. Ivonne M. García\, Chief DEI Officer at the College of Wooster\, for a seminar & workshop that will cover culturally responsive teaching strategies with respect to multilingual learners\, and then delve into antiracism as defined by Ibram X. Kendi and the practices that we as educators can incorporate into our classes and our departments. Intensive breakout sessions will provide ample opportunity for participants to think deeply about incorporating antiracist strategies into courses and provide a platform for brainstorming how to engage our students in these conversations. \nAlthough this workshop was designed with faculty in mind\, staff are very welcomed to attend – this is going to be a highly interactive event with plenty of takeaways – and even some homework! \n\nFor more information and to register for the event please click on the link below: \n\nhttps://www.eventbrite.com/e/multilingual-learners-strategies-in-teaching-for-inclusive-excellence-tickets-145930499051
URL:https://coe.northeastern.edu/event/culturally-responsive-anti-racist-teaching-strategies-for-inclusive-excellence/
END:VEVENT
BEGIN:VEVENT
DTSTART;TZID=America/New_York:20210429T120000
DTEND;TZID=America/New_York:20210429T133000
DTSTAMP:20260423T151515
CREATED:20210426T135332Z
LAST-MODIFIED:20210426T135332Z
UID:25583-1619697600-1619703000@coe.northeastern.edu
SUMMARY:Distinguished Speaker Series in Robotics
DESCRIPTION:We cordially invite you to join the\nDISTINGUISHED SPEAKER SERIES IN ROBOTICS\nThursday\, April 29\, 12:00 – 1:30pm \n\nVirtual Meeting – Zoom Link | Meeting ID: 928 6786 9946 | Passcode: 103234 \nhttps://northeastern.zoom.us/j/92867869946?pwd=VTA5R1EwRmZKUjdSeHRpYXpVM09Kdz09 \n\nManual Skills and Dexterity in Robots and Humans \nAude Billard \nProfessor of Robotics\, Swiss Federal Institute of Technology (EPFL)\, Switzerland \n\nPart 1: Robots have moved from imitating humans to exceeding humans’ capabilities – sometimes: The design of robots’ manipulation capabilities is driven by our admiration for humans’ exquisite dexterity and motor agility. Yet\, robots are far from reproducing the complexity of human cognition\, for some skills robots do better than humans. Thanks to their powerful motors and the speed of computation of their computer-driven circuits\, robots can beat humans in precision and reactivity. This talk will give an overview of several approaches developed at LASA to endow robots with the ability to react extremely rapidly in the face of unexpected changes in the environment\, combining control with dynamical systems and machine learning. We use human demonstrations to guide the design of the controller’s parameters to modulate the compliance and to determine the range of feasible paths. A review of these algorithms will be accompanied with illustrations of their implementation for controlling uni-manual and bi-manual manipulation. I will conclude by showing some examples of super-human capabilities for catching objects with a dexterity that exceeds that of human beings. \nPart 2: Understanding bimanual skill – a case study in watchmaking: Human dexterity still eludes largely robotics. In an effort to better understand and model this dexterity\, we took on an adventure and decided to follow a cohort of apprentices at watchmaking\, a craft unique in its requirement for precise control of finger movements. Precise control of force is also of essence to prevent breakage of the tiny\, and often highly valuable\, pieces. In a two-year long training\, apprentice acquire the ability to go beyond their natural perception of touch\, so as to sense when the piece clicks and the screw in. Most impressive is the ability with which they acquire unusual but efficient hand postures. Our study unveils how the two hands work in coordination to distribute control variables and achieve better precision than when using a single hand. \nBio: Aude Billard is professor in robotics at the School of Engineering at the Swiss Federal Institute of Technology in Lausanne (EPFL). Trained in physics and robotics\, she has been a pioneer in the application of machine learning for robotic control and human-robot interactions. Billard’s research focuses on manual control and dexterity\, inspired by human skill. Her work on robotics and human-robot interactions has been recognized numerous times by the Institute of Electrical and Electronics Engineers (IEEE) and she currently holds a leadership position on the executive committee of the IEEE Robotics and Automation Society (RAS) as the vice president of publication activities. \n\nPresented by the Institute for Experiential Robotics and Action Club
URL:https://coe.northeastern.edu/event/distinguished-speaker-series-in-robotics/
END:VEVENT
BEGIN:VEVENT
DTSTART;TZID=America/New_York:20210429T170000
DTEND;TZID=America/New_York:20210429T180000
DTSTAMP:20260423T151515
CREATED:20210420T140324Z
LAST-MODIFIED:20210420T140324Z
UID:25494-1619715600-1619719200@coe.northeastern.edu
SUMMARY:CommLab Data Visualization Workshop
DESCRIPTION:The ability to visually display your data is an integral part of your scientific communication toolbox. In our second Research Dissemination Series workshop\, the COE Communication Lab will discuss best practices for clear design and inspire new ideas for designing figures.  Data visualization resources and tools will also be shared to effectively communicate the meaning of your data. Register for this event
URL:https://coe.northeastern.edu/event/commlab-data-visualization-workshop/
END:VEVENT
END:VCALENDAR