BEGIN:VCALENDAR
VERSION:2.0
PRODID:-//Northeastern University College of Engineering - ECPv6.15.18//NONSGML v1.0//EN
CALSCALE:GREGORIAN
METHOD:PUBLISH
X-ORIGINAL-URL:https://coe.northeastern.edu
X-WR-CALDESC:Events for Northeastern University College of Engineering
REFRESH-INTERVAL;VALUE=DURATION:PT1H
X-Robots-Tag:noindex
X-PUBLISHED-TTL:PT1H
BEGIN:VTIMEZONE
TZID:America/New_York
BEGIN:DAYLIGHT
TZOFFSETFROM:-0500
TZOFFSETTO:-0400
TZNAME:EDT
DTSTART:20200308T070000
END:DAYLIGHT
BEGIN:STANDARD
TZOFFSETFROM:-0400
TZOFFSETTO:-0500
TZNAME:EST
DTSTART:20201101T060000
END:STANDARD
BEGIN:DAYLIGHT
TZOFFSETFROM:-0500
TZOFFSETTO:-0400
TZNAME:EDT
DTSTART:20210314T070000
END:DAYLIGHT
BEGIN:STANDARD
TZOFFSETFROM:-0400
TZOFFSETTO:-0500
TZNAME:EST
DTSTART:20211107T060000
END:STANDARD
BEGIN:DAYLIGHT
TZOFFSETFROM:-0500
TZOFFSETTO:-0400
TZNAME:EDT
DTSTART:20220313T070000
END:DAYLIGHT
BEGIN:STANDARD
TZOFFSETFROM:-0400
TZOFFSETTO:-0500
TZNAME:EST
DTSTART:20221106T060000
END:STANDARD
END:VTIMEZONE
BEGIN:VEVENT
DTSTART;TZID=America/New_York:20210504T183000
DTEND;TZID=America/New_York:20210504T193000
DTSTAMP:20260422T214313
CREATED:20210420T140051Z
LAST-MODIFIED:20210420T140051Z
UID:25491-1620153000-1620156600@coe.northeastern.edu
SUMMARY:CEE Seminar: Cycling for Sustainable Cities
DESCRIPTION:Please consider joining the Department of Civil and Environmental Engineering for this seminar on sustainable urban travel. \nABSTRACT: Cycling is the most sustainable means of urban travel\, practical for most short- and medium-distance trips—commuting to and from work and school\, shopping\, visiting friends—as well as for recreation and exercise. Cycling promotes physical\, social\, and mental health\, helps reduce car use\, enhances mobility and independence\, and is economical for both public and personal budgets. \nThis presentation explores how to make city cycling—the most sustainable means of travel—safe\, practical\, and convenient for all. Buehler and Pucher discuss the latest cycling trends and policies around the world and consider specific aspects of cycling. Taken together\, the presentation demonstrates that successful promotion of cycling depends on a coordinated package of mutually supportive infrastructure\, programs\, and policies. Cycling should be made feasible for everyone and not limited to especially fit\, daring\, well-trained cyclists riding expensive bicycles. \nBios: \nRalph Buehler: Ph.D. is Professor and Chair of Urban Affairs and Planning in the School of Public and International Affairs at Virginia Tech’s Research Center in Arlington\, VA. Most of his research has an international comparative perspective\, contrasting transport and land-use policies\, transport systems\, and travel behavior in Western Europe and North America. Between 2012 and 2018\, he served as chair of the Committee for Bicycle Transportation of the Transportation Research Board (TRB). His research interests include: (1) the influence of transport policy\, land use\, and socio-demographics on travel behavior; (2) active travel and public health; and (3) public transport demand\, supply\, regional coordination\, and financial efficiency. \nJohn Pucher: Ph.D. is professor emeritus at the Bloustein School of Planning and Public Policy at Rutgers University\, in New Jersey.  He was a professor at Rutgers University from 1978 to 2014\, conducting research on urban transportation in the United States\, Canada\, Australia\, and Europe.  Over the past 25 years\, John’s research has focused on walking and bicycling\, and how to improve their safety and convenience for all age groups\, for women as well as men\, and for all levels of physical ability. John has published four books and over 200 articles in academic and professional journals.  His most recent book\, “Cycling for Sustainable Cities\,” was published by MIT Press in February 2021.
URL:https://coe.northeastern.edu/event/cee-seminar-cycling-for-sustainable-cities/
ORGANIZER;CN="Civil & Environmental Engineering":MAILTO:civilinfo@coe.neu.edu
END:VEVENT
END:VCALENDAR