BEGIN:VCALENDAR
VERSION:2.0
PRODID:-//Northeastern University College of Engineering - ECPv6.15.20//NONSGML v1.0//EN
CALSCALE:GREGORIAN
METHOD:PUBLISH
X-ORIGINAL-URL:https://coe.northeastern.edu
X-WR-CALDESC:Events for Northeastern University College of Engineering
REFRESH-INTERVAL;VALUE=DURATION:PT1H
X-Robots-Tag:noindex
X-PUBLISHED-TTL:PT1H
BEGIN:VTIMEZONE
TZID:America/New_York
BEGIN:DAYLIGHT
TZOFFSETFROM:-0500
TZOFFSETTO:-0400
TZNAME:EDT
DTSTART:20200308T070000
END:DAYLIGHT
BEGIN:STANDARD
TZOFFSETFROM:-0400
TZOFFSETTO:-0500
TZNAME:EST
DTSTART:20201101T060000
END:STANDARD
BEGIN:DAYLIGHT
TZOFFSETFROM:-0500
TZOFFSETTO:-0400
TZNAME:EDT
DTSTART:20210314T070000
END:DAYLIGHT
BEGIN:STANDARD
TZOFFSETFROM:-0400
TZOFFSETTO:-0500
TZNAME:EST
DTSTART:20211107T060000
END:STANDARD
BEGIN:DAYLIGHT
TZOFFSETFROM:-0500
TZOFFSETTO:-0400
TZNAME:EDT
DTSTART:20220313T070000
END:DAYLIGHT
BEGIN:STANDARD
TZOFFSETFROM:-0400
TZOFFSETTO:-0500
TZNAME:EST
DTSTART:20221106T060000
END:STANDARD
END:VTIMEZONE
BEGIN:VEVENT
DTSTART;TZID=America/New_York:20210527T090000
DTEND;TZID=America/New_York:20210527T180000
DTSTAMP:20260425T125214
CREATED:20210512T175130Z
LAST-MODIFIED:20210520T192306Z
UID:25900-1622106000-1622138400@coe.northeastern.edu
SUMMARY:NanoSI 2021 Annual Workshop on Nano Systems Innovation
DESCRIPTION:NanoSI 2021 Annual Workshop on Nano Systems Innovation \nThursday\, May 27th\, 2021 \nRegistration: Zoom Link \nLocation: Once registered\, a Zoom Link will be available. \nDescription: The goal of the Northeastern SMART Annual Workshop on Nano Systems Innovation (NanoSI 2021) is to bring together researchers\, government and industry to discuss new strategies to address the growing demand of sensing\, communication and artificial intelligence at the chip-scale while reducing the time for innovation and transition of the new foundational nano-system technologies that are going to be the at root of our nation’s economic strength\, national security and technological standing in the years to come. \nPreliminary Agenda:\n8:50 am – 9:00 am: Check-in\n9:00 am – 10:00 am: Opening remarks from University and SMART Center Leadership\, DARPA PMs\n10:00 am – 10:30 am: Plenary Talk – David Horsley\n10:30 am – 11:00 am: Intros from Industrial Partners\n11:00 am – 12:00 pm: Center Projects Presentations\n12:00 pm – 1:00 pm: Lunch Break\n1:00 pm – 3:00 pm: Center Projects Presentations\n3:00 pm – 4:30 pm: Panel Discussion with DARPA\, Industry\, and Academia: Benjamin Griffin\, Ronald Polcawich\, Amit Lal\, Troy Olsson\, David Horsley\n4:30 pm – 4:45 pm: Closing Remarks\n4:50 pm – 5:50 pm: IAB Meeting (Members Only)\n6:00 pm: Meeting adjourn \n  \n 
URL:https://coe.northeastern.edu/event/nanosi-2021-annual-workshop-on-nano-systems-innovation/
END:VEVENT
END:VCALENDAR