BEGIN:VCALENDAR
VERSION:2.0
PRODID:-//Northeastern University College of Engineering - ECPv6.15.18//NONSGML v1.0//EN
CALSCALE:GREGORIAN
METHOD:PUBLISH
X-ORIGINAL-URL:https://coe.northeastern.edu
X-WR-CALDESC:Events for Northeastern University College of Engineering
REFRESH-INTERVAL;VALUE=DURATION:PT1H
X-Robots-Tag:noindex
X-PUBLISHED-TTL:PT1H
BEGIN:VTIMEZONE
TZID:America/New_York
BEGIN:DAYLIGHT
TZOFFSETFROM:-0500
TZOFFSETTO:-0400
TZNAME:EDT
DTSTART:20200308T070000
END:DAYLIGHT
BEGIN:STANDARD
TZOFFSETFROM:-0400
TZOFFSETTO:-0500
TZNAME:EST
DTSTART:20201101T060000
END:STANDARD
BEGIN:DAYLIGHT
TZOFFSETFROM:-0500
TZOFFSETTO:-0400
TZNAME:EDT
DTSTART:20210314T070000
END:DAYLIGHT
BEGIN:STANDARD
TZOFFSETFROM:-0400
TZOFFSETTO:-0500
TZNAME:EST
DTSTART:20211107T060000
END:STANDARD
BEGIN:DAYLIGHT
TZOFFSETFROM:-0500
TZOFFSETTO:-0400
TZNAME:EDT
DTSTART:20220313T070000
END:DAYLIGHT
BEGIN:STANDARD
TZOFFSETFROM:-0400
TZOFFSETTO:-0500
TZNAME:EST
DTSTART:20221106T060000
END:STANDARD
END:VTIMEZONE
BEGIN:VEVENT
DTSTART;TZID=America/New_York:20211013T120000
DTEND;TZID=America/New_York:20211013T124500
DTSTAMP:20260422T210634
CREATED:20210922T135558Z
LAST-MODIFIED:20210922T135558Z
UID:27394-1634126400-1634129100@coe.northeastern.edu
SUMMARY:Getting Started with BibTeX
DESCRIPTION:Start your fall 2021 research off on the right foot with Northeastern University Library’s series of online workshops and webinars! \nIn this webinar\, learn how to use BibTeX to manage citations for yourself or your research group. \nRegister here: bit.ly/citationmgmtworkshops \nAll times are in Eastern Time.
URL:https://coe.northeastern.edu/event/getting-started-with-bibtex-2/
END:VEVENT
BEGIN:VEVENT
DTSTART;TZID=America/New_York:20211013T120000
DTEND;TZID=America/New_York:20211013T130000
DTSTAMP:20260422T210634
CREATED:20210930T203614Z
LAST-MODIFIED:20210930T203614Z
UID:27526-1634126400-1634130000@coe.northeastern.edu
SUMMARY:BioE Seminar Series Presents: Jared Auclair
DESCRIPTION:Jared Auclair Ph.D. \nAssociate Dean of Professional Program and Graduate Affairs\, College of Science\, Northeastern University  \n  \n“Northeastern’s COVID19 Testing Response in 2020 through Today” \nBehrakis 010  \n  \nABSTRACT:   \nIn March of 2020\, Northeastern made the announcement to go to full online teaching modalities in response to the SARS-CoV-2 pandemic.  A few short weeks later\, Northeastern sent all students home and closed the campus.  Almost immediately after the closing of the University a reopening committee went to work to plan to reopen campus for AY20/21.  As part of the reopening committee\, a Testing Task Force was instituted.  In this talk\, I’ll give some insight into the discussions that lead to our AY20/21 testing strategy\, how we leveraged the Biopharmaceutical Analysis and Training Laboratory\, as well as share some of the data we have collected over the last 12 months.  Then\, I’ll transition to our thought process regarding Fall 2021 testing\, highlighting the differences from our AY20/21 strategy.  I will also share some of our variant and next-generation sequencing data.    \nBIOGRAPHY: \nJared R. Auclair is currently the Associate Dean of Professional Program and Graduate Affairs in the College of Science at Northeastern University and Associate Teaching Professor in the department of chemistry and chemical biology.  In addition\, Dr. Auclair is the Director of the Biopharmaceutical Analysis Laboratory (BATL)\, the Asia-Pacific Economic Cooperation Center of Regulatory Excellence in Biotherapeutics and Advanced Therapies\, and oversees the International Council for Harmonisation training.  Lastly\, Prof. Auclair serves as the Technical Supervisor for the Life Science Testing Center at Northeastern University\, which is a state and CLIA-certified lab.  Dr. Auclair collaborates with both academic researchers\, industry and government in the area of biopharmaceutical and cell/gene therapy development and analysis.  He has expertise in mol. biology\, protein biochemistry\, analytical chemistry\, protein crystallography\, and biological mass spectrometry; and is interested in use-inspired research for the biotechnology industry
URL:https://coe.northeastern.edu/event/bioe-seminar-series-presents-jared-auclair/
LOCATION:010 Behrakis\, 360 Huntington Ave\, Boston\, MA\, 02115\, United States
ORGANIZER;CN="Bioengineering":MAILTO:bioe@northeastern.edu
GEO:42.3396156;-71.0886534
X-APPLE-STRUCTURED-LOCATION;VALUE=URI;X-ADDRESS=010 Behrakis 360 Huntington Ave Boston MA 02115 United States;X-APPLE-RADIUS=500;X-TITLE=360 Huntington Ave:geo:-71.0886534,42.3396156
END:VEVENT
BEGIN:VEVENT
DTSTART;TZID=America/New_York:20211013T120000
DTEND;TZID=America/New_York:20211013T130000
DTSTAMP:20260422T210634
CREATED:20211007T135033Z
LAST-MODIFIED:20211007T135033Z
UID:27608-1634126400-1634130000@coe.northeastern.edu
SUMMARY:ChE Seminar Series: Chemo-mechanics and solid-state batteries
DESCRIPTION:ChE Seminar Series Presents: \nDr. Kelsey Hatzell\, Ph.D \nAssistant Professor in the Andlinger Center for Energy and Environment \nAssistant Professor of Mechanical and Aerospace Engineering \nPrinceton University \nChemo-mechanic and solid-state batteries \nAbstract: Transportation accounts for 23% of energy-related carbon dioxide emissions and electrification is a pathway toward ameliorating these growing challenges.  All solid-state batteries could potentially address the safety and driving range requirements necessary for widespread adoption of electric vehicles. However\, the power densities of all-solid-state batteries are limited because of ineffective ion transport at solid|solid interfaces. New insight into the governing physics that occur at intrinsic and extrinsic interfaces are critical for developing engineering strategies for the next generation of energy-dense batteries. However\, buried solid|solid interfaces are notoriously difficult to observe with traditional bench-top and lab-scale experiments. In this talk\, I discuss opportunities for tracking phenomena and mechanisms in all solid-state batteries in-situ using advanced synchrotron techniques. Synchrotron techniques that combine reciprocal and real space techniques are capable of tracking multi-scale structural phenomena from the nano- to meso-scale. This talk will discuss the role microstructure plays on transport and interfacial properties that govern adhesion. Quantification of salient descriptors of structure in solid-state batteries is critical for understanding the mechanochemical nature of all solid-state batteries. \nBiography: Dr. Hatzell is an assistant professor at Princeton university in the Andlinger Center for Energy and Environment and department of Mechanical and aerospace engineering. Hatzell’s group primarily work on energy storage and is particularly interested at using non-equilibrium x-ray techniques to probe batteries during operando experimentation. \nDr. Hatzell earned her Ph.D. in Material Science and Engineering at Drexel University\, her M.S. in Mechanical Engineering from Pennsylvania State University\, and her B.S./B.A. in Engineering/Economics from Swarthmore College. Hatzell’s research group works on understanding phenomena at solid|liquid and solid|solid interfaces and works broadly i9n energy storage and conversion. Hatzell is the recipient of several awards including the ORAU Powe Junior Faculty Award (2017)\, NSF CAREER Award (2019)\, ECS Toyota Young Investigator Award (2019)\, finalist for the BASF/Volkswagen Science in Electrochemistry Award (2019)\, the Ralph “Buck” Robinson award from MRS (2019)\, Sloan Fellowship in Chemistry (2020)\, and POLiS Award of Excellence for Female Researchers (2021). \nPlease contact a.ramsey@northeastern.edu for the seminar link. \n  \n 
URL:https://coe.northeastern.edu/event/che-seminar-series-chemo-mechanics-and-solid-state-batteries/
LOCATION:108 SN
END:VEVENT
END:VCALENDAR