BEGIN:VCALENDAR
VERSION:2.0
PRODID:-//Northeastern University College of Engineering - ECPv6.15.18//NONSGML v1.0//EN
CALSCALE:GREGORIAN
METHOD:PUBLISH
X-WR-CALNAME:Northeastern University College of Engineering
X-ORIGINAL-URL:https://coe.northeastern.edu
X-WR-CALDESC:Events for Northeastern University College of Engineering
REFRESH-INTERVAL;VALUE=DURATION:PT1H
X-Robots-Tag:noindex
X-PUBLISHED-TTL:PT1H
BEGIN:VTIMEZONE
TZID:America/New_York
BEGIN:DAYLIGHT
TZOFFSETFROM:-0500
TZOFFSETTO:-0400
TZNAME:EDT
DTSTART:20200308T070000
END:DAYLIGHT
BEGIN:STANDARD
TZOFFSETFROM:-0400
TZOFFSETTO:-0500
TZNAME:EST
DTSTART:20201101T060000
END:STANDARD
BEGIN:DAYLIGHT
TZOFFSETFROM:-0500
TZOFFSETTO:-0400
TZNAME:EDT
DTSTART:20210314T070000
END:DAYLIGHT
BEGIN:STANDARD
TZOFFSETFROM:-0400
TZOFFSETTO:-0500
TZNAME:EST
DTSTART:20211107T060000
END:STANDARD
BEGIN:DAYLIGHT
TZOFFSETFROM:-0500
TZOFFSETTO:-0400
TZNAME:EDT
DTSTART:20220313T070000
END:DAYLIGHT
BEGIN:STANDARD
TZOFFSETFROM:-0400
TZOFFSETTO:-0500
TZNAME:EST
DTSTART:20221106T060000
END:STANDARD
END:VTIMEZONE
BEGIN:VEVENT
DTSTART;TZID=America/New_York:20211019T100000
DTEND;TZID=America/New_York:20211019T170000
DTSTAMP:20260422T193248
CREATED:20210924T135433Z
LAST-MODIFIED:20210924T135433Z
UID:27404-1634637600-1634662800@coe.northeastern.edu
SUMMARY:Tau Beta Pi Virtual Graduate School Recruiting Fair
DESCRIPTION:Join the Graduate School of Engineering admissions team at the Tau Beta Pi Virtual Graduate School Recruiting Fair. Representatives from the admissions team will be available from 10am-5pm on October 19 to answer your questions and to provide you with information.
URL:https://coe.northeastern.edu/event/tau-beta-pi-virtual-graduate-school-recruiting-fair/
END:VEVENT
BEGIN:VEVENT
DTSTART;TZID=America/New_York:20211019T120000
DTEND;TZID=America/New_York:20211019T124500
DTSTAMP:20260422T193248
CREATED:20210922T135657Z
LAST-MODIFIED:20210922T135657Z
UID:27398-1634644800-1634647500@coe.northeastern.edu
SUMMARY:10 Advanced EndNote Features
DESCRIPTION:Start your fall 2021 research off on the right foot with Northeastern University Library’s series of online workshops and webinars! \nIn this webinar\, learn how advanced EndNote features can help manage citations for yourself or your research group. \nRegister here: bit.ly/citationmgmtworkshops \nAll times are in Eastern Time.
URL:https://coe.northeastern.edu/event/10-advanced-endnote-features-3/
END:VEVENT
BEGIN:VEVENT
DTSTART;TZID=America/New_York:20211019T150000
DTEND;TZID=America/New_York:20211019T160000
DTSTAMP:20260422T193248
CREATED:20211007T204015Z
LAST-MODIFIED:20211007T204015Z
UID:27626-1634655600-1634659200@coe.northeastern.edu
SUMMARY:Plant Shift Initiative Speaker Series: Business & Media
DESCRIPTION:Join the Plant Shift Initiative for their upcoming event Business & Media on Oct. 19. This conversation featuring business leaders will dive into how they have consulted companies into making more plant-based decisions to better their environmental impact. \nhttps://eventregistration.northeastern.edu/XnzAz4?RefId=COE
URL:https://coe.northeastern.edu/event/plant-shift-initiative-speaker-series-business-media/
END:VEVENT
BEGIN:VEVENT
DTSTART;TZID=America/New_York:20211019T180000
DTEND;TZID=America/New_York:20211019T190000
DTSTAMP:20260422T193248
CREATED:20211012T140807Z
LAST-MODIFIED:20211012T140807Z
UID:27706-1634666400-1634670000@coe.northeastern.edu
SUMMARY:PlusOne Information Session
DESCRIPTION:Learn about the PlusOne Accelerated Master’s Degree Program \nA master’s degree can provide you an additional level of expertise in an area aligned with your career goals. As a currently enrolled Bachelor of Science (BS) student in the College of Engineering at Northeastern\, you have the opportunity to earn a Master of Science degree (MS) in an accelerated time period with the PlusOne program. Once accepted into the program in an approved PlusOne pathway\, which is a BS and MS PlusOne combination\, you can earn an MS degree with\, in most cases\, just one extra year of study beyond your undergraduate degree program. \nIn this virtual information session\, College of Engineering undergraduate and graduate academic advisors will provide an overview of the PlusOne program to give you the knowledge and next steps to take advantage of the program if you choose. \nWHAT YOU WILL LEARN: \n• What is PlusOne\n• Benefits of the program\n• Eligibility\n• Co-op considerations\n• Financial considerations\n• Selecting your pathway\n• Academic advising resources\n• Timeline to apply\n• The application process\n• Course registration\n• Transitioning to graduate school \ncoe.northeastern.edu/plusone \nZoom Link
URL:https://coe.northeastern.edu/event/plusone-information-session-2/
END:VEVENT
END:VCALENDAR