BEGIN:VCALENDAR
VERSION:2.0
PRODID:-//Northeastern University College of Engineering - ECPv6.15.18//NONSGML v1.0//EN
CALSCALE:GREGORIAN
METHOD:PUBLISH
X-ORIGINAL-URL:https://coe.northeastern.edu
X-WR-CALDESC:Events for Northeastern University College of Engineering
REFRESH-INTERVAL;VALUE=DURATION:PT1H
X-Robots-Tag:noindex
X-PUBLISHED-TTL:PT1H
BEGIN:VTIMEZONE
TZID:America/New_York
BEGIN:DAYLIGHT
TZOFFSETFROM:-0500
TZOFFSETTO:-0400
TZNAME:EDT
DTSTART:20200308T070000
END:DAYLIGHT
BEGIN:STANDARD
TZOFFSETFROM:-0400
TZOFFSETTO:-0500
TZNAME:EST
DTSTART:20201101T060000
END:STANDARD
BEGIN:DAYLIGHT
TZOFFSETFROM:-0500
TZOFFSETTO:-0400
TZNAME:EDT
DTSTART:20210314T070000
END:DAYLIGHT
BEGIN:STANDARD
TZOFFSETFROM:-0400
TZOFFSETTO:-0500
TZNAME:EST
DTSTART:20211107T060000
END:STANDARD
BEGIN:DAYLIGHT
TZOFFSETFROM:-0500
TZOFFSETTO:-0400
TZNAME:EDT
DTSTART:20220313T070000
END:DAYLIGHT
BEGIN:STANDARD
TZOFFSETFROM:-0400
TZOFFSETTO:-0500
TZNAME:EST
DTSTART:20221106T060000
END:STANDARD
END:VTIMEZONE
BEGIN:VEVENT
DTSTART;VALUE=DATE:20211028
DTEND;VALUE=DATE:20211101
DTSTAMP:20260423T020451
CREATED:20210804T185013Z
LAST-MODIFIED:20210804T185013Z
UID:26863-1635379200-1635724799@coe.northeastern.edu
SUMMARY:Annual oSTEM Conference
DESCRIPTION:Join the Graduate School of Engineering Admissions Team as they represent the graduate school programs at the annual oSTEM virtual conference held from October 28-31. oSTEM (out in science technology\, engineering\, and mathematics) is non profit professional organization for LGBTQ+ people in the STEM fields.
URL:https://coe.northeastern.edu/event/annual-ostem-conference/
ORGANIZER;CN="Graduate School of Engineering":MAILTO:coe-gradadmissions@northeastern.edu
END:VEVENT
BEGIN:VEVENT
DTSTART;TZID=America/New_York:20211030T100000
DTEND;TZID=America/New_York:20211030T130000
DTSTAMP:20260423T020451
CREATED:20211008T190738Z
LAST-MODIFIED:20211008T190738Z
UID:27644-1635588000-1635598800@coe.northeastern.edu
SUMMARY:STEM Harvest Fest
DESCRIPTION:On Saturday\, October 30th\, the Center for STEM Education will be hosting a STEM Harvest Fest in the West Village Quad\, for K-12 students interested in learning more about STEM topics. \nThis event\, open to our campus community and the general public\, will run from 10:00am-1:00pm. During this time\, Northeastern STEM-related clubs/organizations will present tabletop activities/demos to visiting elementary and middle school students and their families (the expo is open to K-12 students\, but I would target grades 2-8 for your activity based on prior attendance). As the event is the day before Halloween – we encourage you to dress up in Halloween costumes and theme your activities/demos as spooky/Halloween themes.
URL:https://coe.northeastern.edu/event/stem-harvest-fest/
ORGANIZER;CN="Michael B. Silevitch and Claire J. Duggan Center for STEM Education":MAILTO:stem@northeastern.edu
END:VEVENT
END:VCALENDAR