BEGIN:VCALENDAR
VERSION:2.0
PRODID:-//Northeastern University College of Engineering - ECPv6.15.18//NONSGML v1.0//EN
CALSCALE:GREGORIAN
METHOD:PUBLISH
X-WR-CALNAME:Northeastern University College of Engineering
X-ORIGINAL-URL:https://coe.northeastern.edu
X-WR-CALDESC:Events for Northeastern University College of Engineering
REFRESH-INTERVAL;VALUE=DURATION:PT1H
X-Robots-Tag:noindex
X-PUBLISHED-TTL:PT1H
BEGIN:VTIMEZONE
TZID:America/New_York
BEGIN:DAYLIGHT
TZOFFSETFROM:-0500
TZOFFSETTO:-0400
TZNAME:EDT
DTSTART:20200308T070000
END:DAYLIGHT
BEGIN:STANDARD
TZOFFSETFROM:-0400
TZOFFSETTO:-0500
TZNAME:EST
DTSTART:20201101T060000
END:STANDARD
BEGIN:DAYLIGHT
TZOFFSETFROM:-0500
TZOFFSETTO:-0400
TZNAME:EDT
DTSTART:20210314T070000
END:DAYLIGHT
BEGIN:STANDARD
TZOFFSETFROM:-0400
TZOFFSETTO:-0500
TZNAME:EST
DTSTART:20211107T060000
END:STANDARD
BEGIN:DAYLIGHT
TZOFFSETFROM:-0500
TZOFFSETTO:-0400
TZNAME:EDT
DTSTART:20220313T070000
END:DAYLIGHT
BEGIN:STANDARD
TZOFFSETFROM:-0400
TZOFFSETTO:-0500
TZNAME:EST
DTSTART:20221106T060000
END:STANDARD
END:VTIMEZONE
BEGIN:VEVENT
DTSTART;TZID=America/New_York:20211217T120000
DTEND;TZID=America/New_York:20211217T130000
DTSTAMP:20260420T191345
CREATED:20211215T144810Z
LAST-MODIFIED:20211215T144810Z
UID:29735-1639742400-1639746000@coe.northeastern.edu
SUMMARY:ADSE- End of year cookie swap and pizza party
DESCRIPTION:Good afternoon Northeastern Graduate Students\, \nPlease join the Alliance for Diversity in Science and Engineering and your fellow grad students for our end-of-year event on December 17th from 12-1 pm in Curry 440! We will have pizza and will be hosting a cookie swap\, so bring a dozen or two of your favorite homemade (or not\, we’re not going to judge) cookies! Please don’t feel pressured to bring cookies\, but certainly\, bring yourself and a friend for a final get-together this year. Please fill out the link below to RSVP so we can get an idea of how much pizza we should bring as well\, and look forward to seeing everyone there! \nhttps://tinyurl.com/ycksfmb8 \nADSE@NEU
URL:https://coe.northeastern.edu/event/adse-end-of-year-cookie-swap-and-pizza-party/
LOCATION:Curry Student Center\, 360 Huntington Ave.\, Boston\, MA\, 02115\, United States
GEO:42.3394629;-71.0885286
X-APPLE-STRUCTURED-LOCATION;VALUE=URI;X-ADDRESS=Curry Student Center 360 Huntington Ave. Boston MA 02115 United States;X-APPLE-RADIUS=500;X-TITLE=360 Huntington Ave.:geo:-71.0885286,42.3394629
END:VEVENT
END:VCALENDAR