BEGIN:VCALENDAR
VERSION:2.0
PRODID:-//Northeastern University College of Engineering - ECPv6.15.20//NONSGML v1.0//EN
CALSCALE:GREGORIAN
METHOD:PUBLISH
X-ORIGINAL-URL:https://coe.northeastern.edu
X-WR-CALDESC:Events for Northeastern University College of Engineering
REFRESH-INTERVAL;VALUE=DURATION:PT1H
X-Robots-Tag:noindex
X-PUBLISHED-TTL:PT1H
BEGIN:VTIMEZONE
TZID:America/New_York
BEGIN:DAYLIGHT
TZOFFSETFROM:-0500
TZOFFSETTO:-0400
TZNAME:EDT
DTSTART:20210314T070000
END:DAYLIGHT
BEGIN:STANDARD
TZOFFSETFROM:-0400
TZOFFSETTO:-0500
TZNAME:EST
DTSTART:20211107T060000
END:STANDARD
BEGIN:DAYLIGHT
TZOFFSETFROM:-0500
TZOFFSETTO:-0400
TZNAME:EDT
DTSTART:20220313T070000
END:DAYLIGHT
BEGIN:STANDARD
TZOFFSETFROM:-0400
TZOFFSETTO:-0500
TZNAME:EST
DTSTART:20221106T060000
END:STANDARD
BEGIN:DAYLIGHT
TZOFFSETFROM:-0500
TZOFFSETTO:-0400
TZNAME:EDT
DTSTART:20230312T070000
END:DAYLIGHT
BEGIN:STANDARD
TZOFFSETFROM:-0400
TZOFFSETTO:-0500
TZNAME:EST
DTSTART:20231105T060000
END:STANDARD
END:VTIMEZONE
BEGIN:VEVENT
DTSTART;TZID=America/New_York:20220204T150000
DTEND;TZID=America/New_York:20220204T160000
DTSTAMP:20260425T103910
CREATED:20220125T181755Z
LAST-MODIFIED:20220125T181755Z
UID:29953-1643986800-1643990400@coe.northeastern.edu
SUMMARY:Invisible disabilities: Mental health & navigating higher education
DESCRIPTION:Join Professors Christopher Parsons & Melissa Ferrick to learn how to navigate a career in higher education with invisible disabilities such as mental health on February 4th\, 3 p.m. to 4 p.m. at ISEC Room 655\, 6th floor or on Zoom at https://northeastern.zoom.us/j/2099280142 \n 
URL:https://coe.northeastern.edu/event/invisible-disabilities-mental-health-navigating-higher-education/
END:VEVENT
BEGIN:VEVENT
DTSTART;TZID=America/New_York:20220204T170000
DTEND;TZID=America/New_York:20220204T180000
DTSTAMP:20260425T103910
CREATED:20220202T152348Z
LAST-MODIFIED:20220202T152348Z
UID:30112-1643994000-1643997600@coe.northeastern.edu
SUMMARY:Engineering at NERF - First Year Engineering Speaker Series
DESCRIPTION:When: Friday February 4th 5pm-6pm \nWhere: Churchill 103 \nWho: Justin Saccone\, Sr. Engineer @ Nerf (under Hasbro)
URL:https://coe.northeastern.edu/event/engineering-at-nerf-first-year-engineering-speaker-series/
LOCATION:103 Churchill\, 103 Churchill Hall\, 360 Huntington Ave\, Boston\, MA\, 02115\, United States
GEO:42.3387735;-71.0889235
X-APPLE-STRUCTURED-LOCATION;VALUE=URI;X-ADDRESS=103 Churchill 103 Churchill Hall 360 Huntington Ave Boston MA 02115 United States;X-APPLE-RADIUS=500;X-TITLE=103 Churchill Hall\, 360 Huntington Ave:geo:-71.0889235,42.3387735
END:VEVENT
END:VCALENDAR