BEGIN:VCALENDAR
VERSION:2.0
PRODID:-//Northeastern University College of Engineering - ECPv6.15.20//NONSGML v1.0//EN
CALSCALE:GREGORIAN
METHOD:PUBLISH
X-ORIGINAL-URL:https://coe.northeastern.edu
X-WR-CALDESC:Events for Northeastern University College of Engineering
REFRESH-INTERVAL;VALUE=DURATION:PT1H
X-Robots-Tag:noindex
X-PUBLISHED-TTL:PT1H
BEGIN:VTIMEZONE
TZID:America/New_York
BEGIN:DAYLIGHT
TZOFFSETFROM:-0500
TZOFFSETTO:-0400
TZNAME:EDT
DTSTART:20210314T070000
END:DAYLIGHT
BEGIN:STANDARD
TZOFFSETFROM:-0400
TZOFFSETTO:-0500
TZNAME:EST
DTSTART:20211107T060000
END:STANDARD
BEGIN:DAYLIGHT
TZOFFSETFROM:-0500
TZOFFSETTO:-0400
TZNAME:EDT
DTSTART:20220313T070000
END:DAYLIGHT
BEGIN:STANDARD
TZOFFSETFROM:-0400
TZOFFSETTO:-0500
TZNAME:EST
DTSTART:20221106T060000
END:STANDARD
BEGIN:DAYLIGHT
TZOFFSETFROM:-0500
TZOFFSETTO:-0400
TZNAME:EDT
DTSTART:20230312T070000
END:DAYLIGHT
BEGIN:STANDARD
TZOFFSETFROM:-0400
TZOFFSETTO:-0500
TZNAME:EST
DTSTART:20231105T060000
END:STANDARD
END:VTIMEZONE
BEGIN:VEVENT
DTSTART;TZID=America/New_York:20220720T170000
DTEND;TZID=America/New_York:20220720T180000
DTSTAMP:20260424T113325
CREATED:20220608T181007Z
LAST-MODIFIED:20220608T181007Z
UID:31569-1658336400-1658340000@coe.northeastern.edu
SUMMARY:Gordon Undergraduate Leadership Development Workshop
DESCRIPTION:Enhance your co-op experience with the Gordon Undergraduate Leadership Development Workshop. This engineering leadership workshop is designed for Northeastern University undergraduate engineering juniors and seniors during their second or third co-op experience. Workshop sessions are designed to be completed in parallel with co-op. \nThe program includes a series of engineering leadership development activities focused on expanding leadership skills\, engaging in more meaningful interactions with their supervisors\, and taking active roles in shaping their overall co-op experiences. \nThe primary objective of the workshop is to enhance the value of Northeastern’s world-renowned cooperative education (co-op) program for Northeastern undergraduate engineering students. The workshop offers a supplementary curriculum that makes engineering leadership advancement a focus of the co-op experience. \nStudents that register for this leadership development workshop will attend a two-part engineering leadership workshop. The first workshop session will take place on July 20th and the second session will take place on July 27th\, 2022 in The Stearns Center room 430. \nIn the first session\, students complete a strengths finder\, which awakens their curiosity about their own leadership styles and tendencies. In the second session\, faculty members introduce engineering leadership in the context of personal leadership styles\, power and influence\, and situational leadership. \nIn the months that follow\, interested participants complete a series of five self-directed modules intended to heighten opportunities for learning\, growth\, and interaction within their co-op organization. Upon completion of each module\, students submit their work to program faculty members for review and feedback.
URL:https://coe.northeastern.edu/event/gordon-undergraduate-leadership-development-workshop/
LOCATION:431 Stearns\, 431 Stearns Center\, 360 Huntington Ave\, Boston\, MA\, 02115\, United States
ORGANIZER;CN="Gordon Engineering Leadership program":MAILTO:gordonleadership@northeastern.edu
GEO:42.3389991;-71.0913737
X-APPLE-STRUCTURED-LOCATION;VALUE=URI;X-ADDRESS=431 Stearns 431 Stearns Center 360 Huntington Ave Boston MA 02115 United States;X-APPLE-RADIUS=500;X-TITLE=431 Stearns Center\, 360 Huntington Ave:geo:-71.0913737,42.3389991
END:VEVENT
END:VCALENDAR