BEGIN:VCALENDAR
VERSION:2.0
PRODID:-//Northeastern University College of Engineering - ECPv6.15.18//NONSGML v1.0//EN
CALSCALE:GREGORIAN
METHOD:PUBLISH
X-WR-CALNAME:Northeastern University College of Engineering
X-ORIGINAL-URL:https://coe.northeastern.edu
X-WR-CALDESC:Events for Northeastern University College of Engineering
REFRESH-INTERVAL;VALUE=DURATION:PT1H
X-Robots-Tag:noindex
X-PUBLISHED-TTL:PT1H
BEGIN:VTIMEZONE
TZID:America/New_York
BEGIN:DAYLIGHT
TZOFFSETFROM:-0500
TZOFFSETTO:-0400
TZNAME:EDT
DTSTART:20210314T070000
END:DAYLIGHT
BEGIN:STANDARD
TZOFFSETFROM:-0400
TZOFFSETTO:-0500
TZNAME:EST
DTSTART:20211107T060000
END:STANDARD
BEGIN:DAYLIGHT
TZOFFSETFROM:-0500
TZOFFSETTO:-0400
TZNAME:EDT
DTSTART:20220313T070000
END:DAYLIGHT
BEGIN:STANDARD
TZOFFSETFROM:-0400
TZOFFSETTO:-0500
TZNAME:EST
DTSTART:20221106T060000
END:STANDARD
BEGIN:DAYLIGHT
TZOFFSETFROM:-0500
TZOFFSETTO:-0400
TZNAME:EDT
DTSTART:20230312T070000
END:DAYLIGHT
BEGIN:STANDARD
TZOFFSETFROM:-0400
TZOFFSETTO:-0500
TZNAME:EST
DTSTART:20231105T060000
END:STANDARD
END:VTIMEZONE
BEGIN:VEVENT
DTSTART;TZID=America/New_York:20220930T140000
DTEND;TZID=America/New_York:20220930T170000
DTSTAMP:20260419T155651
CREATED:20220927T134445Z
LAST-MODIFIED:20220927T134445Z
UID:32799-1664546400-1664557200@coe.northeastern.edu
SUMMARY:Olin College of Engineering Fall 2022 Career Fair
DESCRIPTION:Come meet one of our Graduate Admissions Representatives in person at Olin College of Engineering! Learn about Northeastern University’s graduate engineering programs! A current graduate student ambassador will also be in attendance to answer questions from the student perspective.
URL:https://coe.northeastern.edu/event/olin-college-of-engineering-fall-2022-career-fair/
ORGANIZER;CN="Graduate School of Engineering":MAILTO:coe-gradadmissions@northeastern.edu
END:VEVENT
BEGIN:VEVENT
DTSTART;TZID=America/New_York:20220930T150000
DTEND;TZID=America/New_York:20220930T160000
DTSTAMP:20260419T155651
CREATED:20220922T173457Z
LAST-MODIFIED:20220923T191851Z
UID:32707-1664550000-1664553600@coe.northeastern.edu
SUMMARY:Science on Tap: How To Think About Cross-Disciplinary Collaboration
DESCRIPTION:COE PhD Council presents SCIENCE ON TAP\nHow To Think About Cross-Disciplinary Collaboration with Dean Gregory Abowd \nNU’s Academic Plan pushes us to consider impact in the world\, and that requires more than a discipline-specific mindset. Having positive impact on problems of our world requires collaboration across multiple communities with different languages\, methods\, and incentives. Reflecting on my own successes and failures\, I want to share a commonsense way to think about how to create effective cross-disciplinary relationships. \nGregory D. Abowd is Dean of the College of Engineering and Professor of Electrical and Computer Engineering at Northeastern University. He is also and Affiliate Professor in the Khoury College of Computer Sciences and the Bouvé College of Health Sciences. Dr. Abowd is a researcher in the fields of HCL and ubiquitous computing\, and is known for his collaborations with researchers in a wide variety of disciplines\, including education\, aging\, autism\, health\, wellness\, sensors\, materials science and engineering. \nFriday\, September 30\n3:00 – 4:00 PM\nSnell 108\nFood and drinks provided! \nFor PhD and Faculty only
URL:https://coe.northeastern.edu/event/science-on-top-how-to-think-about-cross-disciplinary-collaboration/
LOCATION:108 SN
END:VEVENT
END:VCALENDAR