BEGIN:VCALENDAR
VERSION:2.0
PRODID:-//Northeastern University College of Engineering - ECPv6.15.18//NONSGML v1.0//EN
CALSCALE:GREGORIAN
METHOD:PUBLISH
X-WR-CALNAME:Northeastern University College of Engineering
X-ORIGINAL-URL:https://coe.northeastern.edu
X-WR-CALDESC:Events for Northeastern University College of Engineering
REFRESH-INTERVAL;VALUE=DURATION:PT1H
X-Robots-Tag:noindex
X-PUBLISHED-TTL:PT1H
BEGIN:VTIMEZONE
TZID:America/New_York
BEGIN:DAYLIGHT
TZOFFSETFROM:-0500
TZOFFSETTO:-0400
TZNAME:EDT
DTSTART:20210314T070000
END:DAYLIGHT
BEGIN:STANDARD
TZOFFSETFROM:-0400
TZOFFSETTO:-0500
TZNAME:EST
DTSTART:20211107T060000
END:STANDARD
BEGIN:DAYLIGHT
TZOFFSETFROM:-0500
TZOFFSETTO:-0400
TZNAME:EDT
DTSTART:20220313T070000
END:DAYLIGHT
BEGIN:STANDARD
TZOFFSETFROM:-0400
TZOFFSETTO:-0500
TZNAME:EST
DTSTART:20221106T060000
END:STANDARD
BEGIN:DAYLIGHT
TZOFFSETFROM:-0500
TZOFFSETTO:-0400
TZNAME:EDT
DTSTART:20230312T070000
END:DAYLIGHT
BEGIN:STANDARD
TZOFFSETFROM:-0400
TZOFFSETTO:-0500
TZNAME:EST
DTSTART:20231105T060000
END:STANDARD
END:VTIMEZONE
BEGIN:VEVENT
DTSTART;TZID=America/New_York:20221006T000000
DTEND;TZID=America/New_York:20221008T000000
DTSTAMP:20260421T131541
CREATED:20220826T211334Z
LAST-MODIFIED:20220826T211334Z
UID:32303-1665014400-1665187200@coe.northeastern.edu
SUMMARY:2022 AISES National Conference - Palm Springs\, California
DESCRIPTION:Join the Graduate Admissions team for an IN-PERSON recruiting event in Palm Springs\, California! The event will take place at Palm Springs Convention Center on October 6th to the 8th. Registration and event details may be found at the website below. We look forward to seeing you there!
URL:https://coe.northeastern.edu/event/2022-aises-national-conference-palm-springs-california/
ORGANIZER;CN="Graduate School of Engineering":MAILTO:coe-gradadmissions@northeastern.edu
END:VEVENT
BEGIN:VEVENT
DTSTART;TZID=America/New_York:20221007T120000
DTEND;TZID=America/New_York:20221007T130000
DTSTAMP:20260421T131541
CREATED:20221004T185541Z
LAST-MODIFIED:20221004T185605Z
UID:32904-1665144000-1665147600@coe.northeastern.edu
SUMMARY:Enhancing Your Undergraduate Experience with Dean Abowd
DESCRIPTION:Come meet Dean Abowd as he discusses how to best leverage your undergraduate experience. Topics include undergraduate research and COE insights you won’t hear anywhere else! \nCome with questions! Extra credit may be offered. \nGregory D. Abowd is Dean of the College of Engineering and Professor of Electrical and Computer Engineering at Northeastern University. Dean Abowd is an internationally renowned and highly cited scientist\, well known for his contributions in the general area of Human-Computer Interaction (HCI) and specifically for his groundbreaking research in ubiquitous computing.
URL:https://coe.northeastern.edu/event/enhancing-your-undergraduate-experience-with-dean-abowd/
LOCATION:010 Behrakis\, 360 Huntington Ave\, Boston\, MA\, 02115\, United States
GEO:42.3396156;-71.0886534
X-APPLE-STRUCTURED-LOCATION;VALUE=URI;X-ADDRESS=010 Behrakis 360 Huntington Ave Boston MA 02115 United States;X-APPLE-RADIUS=500;X-TITLE=360 Huntington Ave:geo:-71.0886534,42.3396156
END:VEVENT
END:VCALENDAR