BEGIN:VCALENDAR
VERSION:2.0
PRODID:-//Northeastern University College of Engineering - ECPv6.15.18//NONSGML v1.0//EN
CALSCALE:GREGORIAN
METHOD:PUBLISH
X-WR-CALNAME:Northeastern University College of Engineering
X-ORIGINAL-URL:https://coe.northeastern.edu
X-WR-CALDESC:Events for Northeastern University College of Engineering
REFRESH-INTERVAL;VALUE=DURATION:PT1H
X-Robots-Tag:noindex
X-PUBLISHED-TTL:PT1H
BEGIN:VTIMEZONE
TZID:America/New_York
BEGIN:DAYLIGHT
TZOFFSETFROM:-0500
TZOFFSETTO:-0400
TZNAME:EDT
DTSTART:20210314T070000
END:DAYLIGHT
BEGIN:STANDARD
TZOFFSETFROM:-0400
TZOFFSETTO:-0500
TZNAME:EST
DTSTART:20211107T060000
END:STANDARD
BEGIN:DAYLIGHT
TZOFFSETFROM:-0500
TZOFFSETTO:-0400
TZNAME:EDT
DTSTART:20220313T070000
END:DAYLIGHT
BEGIN:STANDARD
TZOFFSETFROM:-0400
TZOFFSETTO:-0500
TZNAME:EST
DTSTART:20221106T060000
END:STANDARD
BEGIN:DAYLIGHT
TZOFFSETFROM:-0500
TZOFFSETTO:-0400
TZNAME:EDT
DTSTART:20230312T070000
END:DAYLIGHT
BEGIN:STANDARD
TZOFFSETFROM:-0400
TZOFFSETTO:-0500
TZNAME:EST
DTSTART:20231105T060000
END:STANDARD
END:VTIMEZONE
BEGIN:VTIMEZONE
TZID:America/Montserrat
BEGIN:STANDARD
TZOFFSETFROM:-0400
TZOFFSETTO:-0400
TZNAME:AST
DTSTART:20210101T000000
END:STANDARD
END:VTIMEZONE
BEGIN:VTIMEZONE
TZID:America/Los_Angeles
BEGIN:DAYLIGHT
TZOFFSETFROM:-0800
TZOFFSETTO:-0700
TZNAME:PDT
DTSTART:20210314T100000
END:DAYLIGHT
BEGIN:STANDARD
TZOFFSETFROM:-0700
TZOFFSETTO:-0800
TZNAME:PST
DTSTART:20211107T090000
END:STANDARD
BEGIN:DAYLIGHT
TZOFFSETFROM:-0800
TZOFFSETTO:-0700
TZNAME:PDT
DTSTART:20220313T100000
END:DAYLIGHT
BEGIN:STANDARD
TZOFFSETFROM:-0700
TZOFFSETTO:-0800
TZNAME:PST
DTSTART:20221106T090000
END:STANDARD
BEGIN:DAYLIGHT
TZOFFSETFROM:-0800
TZOFFSETTO:-0700
TZNAME:PDT
DTSTART:20230312T100000
END:DAYLIGHT
BEGIN:STANDARD
TZOFFSETFROM:-0700
TZOFFSETTO:-0800
TZNAME:PST
DTSTART:20231105T090000
END:STANDARD
END:VTIMEZONE
BEGIN:VEVENT
DTSTART;TZID=America/New_York:20221020T080000
DTEND;TZID=America/New_York:20221020T090000
DTSTAMP:20260422T144148
CREATED:20220906T134416Z
LAST-MODIFIED:20220906T134416Z
UID:32407-1666252800-1666256400@coe.northeastern.edu
SUMMARY:GSE Wonder Week: Learn about Telecommunication Networks & Cyber-Physical Systems Programs
DESCRIPTION:Join program director Dr. Peter O’Reilly to learn about the MS in Telecommunication Networks & Cyber-Physical Systems graduate programs
URL:https://coe.northeastern.edu/event/gse-wonder-week-learn-about-telecommunication-networks-cyber-physical-systems-programs/
ORGANIZER;CN="Graduate School of Engineering":MAILTO:coe-gradadmissions@northeastern.edu
END:VEVENT
BEGIN:VEVENT
DTSTART;TZID=America/Montserrat:20221020T100000
DTEND;TZID=America/Montserrat:20221020T140000
DTSTAMP:20260422T144148
CREATED:20220826T211617Z
LAST-MODIFIED:20220826T211617Z
UID:32305-1666260000-1666274400@coe.northeastern.edu
SUMMARY:USC Fall 2022 Graduate Schools Fair - Los Angeles\, CA
DESCRIPTION:Join the Graduate Admissions team for an IN-PERSON recruiting event in Los Angeles\, California! The event will take place at USC Trousdale Pkwy Los Angeles \, California on October 20th between 10:00 AM to 2:00 PM PST. Registration and event details may be found at the website below. We look forward to seeing you there!
URL:https://coe.northeastern.edu/event/usc-fall-2022-graduate-schools-fair-los-angeles-ca/
ORGANIZER;CN="Graduate School of Engineering":MAILTO:coe-gradadmissions@northeastern.edu
END:VEVENT
BEGIN:VEVENT
DTSTART;TZID=America/New_York:20221020T120000
DTEND;TZID=America/New_York:20221020T130000
DTSTAMP:20260422T144148
CREATED:20221103T151700Z
LAST-MODIFIED:20221103T151700Z
UID:34186-1666267200-1666270800@coe.northeastern.edu
SUMMARY:Neset Unver Akmandor's PhD Proposal Review
DESCRIPTION:“Improving Computational Efficiency of Motion Planning Algorithms for Mobile and Time-Dependent Robotic Tasks in Dynamic Environments” \nAbstract: \nRobots will become a part of our lives at home as personal assistants. Although their current functionality is highly restricted to specific tasks and environments\, their practicality encourages robotics engineers for further advancement. Especially\, mobile robots with manipulation capabilities have a huge potential to support humans in physically demanding workplaces\, such as warehouses and hospitals. Considering the complexity of the human level tasks and the dynamic settings\, the state-of-the-art robot motion planning methods need to be improved in terms of their computational efficiency. To contribute on closing the gap\, this proposal presents three novelties whose applications focus on mobile robots in dynamic environments. First\, we introduce a reactive navigation framework in 3D workspaces. The proposed approach does not rely on the global map information and achieves fast navigation by employing motion primitives and their heuristic evaluations on the-fly. Second\, we present a Deep Reinforcement Learning based navigation approach in which we define the occupancy observations as heuristic evaluations of motion primitives\, rather than using raw sensor data. It utilizes occupancy observations in different data structures to analyze their effects on both training process and navigation performance. We train and test our methodology on two different robots within challenging physics-based simulation environments including static and dynamic obstacles. Finally\, we propose a computationally efficient framework for trajectory planning for robots with high degrees-of freedom while adapting its system model\, constraints and time-dependent target state using the latest information from the dynamic environment. \n  \nCommittee: \nDr. Taskin Padir (Advisor)Dr. Pau ClosasDr. Michael EverettDr. Erdal Kayacan
URL:https://coe.northeastern.edu/event/neset-unver-akmandors-phd-proposal-review/
END:VEVENT
BEGIN:VEVENT
DTSTART;TZID=America/Los_Angeles:20221020T130000
DTEND;TZID=America/Los_Angeles:20221020T170000
DTSTAMP:20260422T144148
CREATED:20220927T134523Z
LAST-MODIFIED:20220927T134523Z
UID:32801-1666270800-1666285200@coe.northeastern.edu
SUMMARY:University of California\, Santa Barbara Graduate & Professional School Day
DESCRIPTION:Learn about Northeastern University’s graduate engineering programs at UC Santa Barbara. One of our admissions representatives will be happy to answer your questions!
URL:https://coe.northeastern.edu/event/university-of-california-santa-barbara-graduate-professional-school-day/
ORGANIZER;CN="Graduate School of Engineering":MAILTO:coe-gradadmissions@northeastern.edu
END:VEVENT
BEGIN:VEVENT
DTSTART;TZID=America/New_York:20221020T180000
DTEND;TZID=America/New_York:20221020T190000
DTSTAMP:20260422T144148
CREATED:20220831T150823Z
LAST-MODIFIED:20220831T150823Z
UID:32370-1666288800-1666292400@coe.northeastern.edu
SUMMARY:PlusOne Information Session
DESCRIPTION:Learn about the PlusOne Accelerated Master’s Degree Program \nA master’s degree can provide you with an additional level of expertise in an area aligned with your career goals. As a currently enrolled Bachelor of Science (BS) student in the College of Engineering at Northeastern\, you have the opportunity to earn a Master of Science degree (MS) in an accelerated time period with the PlusOne program. Once accepted into the program in an approved PlusOne pathway\, which is a BS and MS PlusOne combination\, you can earn an MS degree with\, in most cases\, just one extra year of study beyond your undergraduate degree program. \nIn this virtual information session\, College of Engineering undergraduate and graduate academic advisors will provide an overview of the PlusOne program to give you the knowledge and next steps to take advantage of the program if you choose. \nWHAT YOU WILL LEARN:\n• What is PlusOne\n• Benefits of the program\n• Eligibility\n• Co-op considerations\n• Financial considerations\n• Selecting your pathway\n• Academic advising resources\n• Timeline to apply\n• The application process\n• Course registration\n• Transitioning to graduate school \nLearn more and apply: coe.northeastern.edu/plusone
URL:https://coe.northeastern.edu/event/plusone-information-session-3/
ORGANIZER;CN="Graduate School of Engineering":MAILTO:coe-gradadmissions@northeastern.edu
END:VEVENT
END:VCALENDAR