BEGIN:VCALENDAR
VERSION:2.0
PRODID:-//Northeastern University College of Engineering - ECPv6.15.18//NONSGML v1.0//EN
CALSCALE:GREGORIAN
METHOD:PUBLISH
X-WR-CALNAME:Northeastern University College of Engineering
X-ORIGINAL-URL:https://coe.northeastern.edu
X-WR-CALDESC:Events for Northeastern University College of Engineering
REFRESH-INTERVAL;VALUE=DURATION:PT1H
X-Robots-Tag:noindex
X-PUBLISHED-TTL:PT1H
BEGIN:VTIMEZONE
TZID:America/New_York
BEGIN:DAYLIGHT
TZOFFSETFROM:-0500
TZOFFSETTO:-0400
TZNAME:EDT
DTSTART:20210314T070000
END:DAYLIGHT
BEGIN:STANDARD
TZOFFSETFROM:-0400
TZOFFSETTO:-0500
TZNAME:EST
DTSTART:20211107T060000
END:STANDARD
BEGIN:DAYLIGHT
TZOFFSETFROM:-0500
TZOFFSETTO:-0400
TZNAME:EDT
DTSTART:20220313T070000
END:DAYLIGHT
BEGIN:STANDARD
TZOFFSETFROM:-0400
TZOFFSETTO:-0500
TZNAME:EST
DTSTART:20221106T060000
END:STANDARD
BEGIN:DAYLIGHT
TZOFFSETFROM:-0500
TZOFFSETTO:-0400
TZNAME:EDT
DTSTART:20230312T070000
END:DAYLIGHT
BEGIN:STANDARD
TZOFFSETFROM:-0400
TZOFFSETTO:-0500
TZNAME:EST
DTSTART:20231105T060000
END:STANDARD
END:VTIMEZONE
BEGIN:VEVENT
DTSTART;TZID=America/New_York:20221025T080000
DTEND;TZID=America/New_York:20221025T090000
DTSTAMP:20260421T131827
CREATED:20221024T133842Z
LAST-MODIFIED:20221024T133842Z
UID:33915-1666684800-1666688400@coe.northeastern.edu
SUMMARY:Webinar: Learn about Northeastern's Co-op Program!
DESCRIPTION:Come learn more about Northeastern’s Co-op Program for graduate engineering students! A member of our admissions team\, and the Assistant Dean & Senior Co-op Coordinator\, Lorraine Mountain will present and answer questions.
URL:https://coe.northeastern.edu/event/webinar-learn-about-northeasterns-co-op-program/
ORGANIZER;CN="Graduate School of Engineering":MAILTO:coe-gradadmissions@northeastern.edu
END:VEVENT
END:VCALENDAR