BEGIN:VCALENDAR
VERSION:2.0
PRODID:-//Northeastern University College of Engineering - ECPv6.15.20//NONSGML v1.0//EN
CALSCALE:GREGORIAN
METHOD:PUBLISH
X-ORIGINAL-URL:https://coe.northeastern.edu
X-WR-CALDESC:Events for Northeastern University College of Engineering
REFRESH-INTERVAL;VALUE=DURATION:PT1H
X-Robots-Tag:noindex
X-PUBLISHED-TTL:PT1H
BEGIN:VTIMEZONE
TZID:America/New_York
BEGIN:DAYLIGHT
TZOFFSETFROM:-0500
TZOFFSETTO:-0400
TZNAME:EDT
DTSTART:20220313T070000
END:DAYLIGHT
BEGIN:STANDARD
TZOFFSETFROM:-0400
TZOFFSETTO:-0500
TZNAME:EST
DTSTART:20221106T060000
END:STANDARD
BEGIN:DAYLIGHT
TZOFFSETFROM:-0500
TZOFFSETTO:-0400
TZNAME:EDT
DTSTART:20230312T070000
END:DAYLIGHT
BEGIN:STANDARD
TZOFFSETFROM:-0400
TZOFFSETTO:-0500
TZNAME:EST
DTSTART:20231105T060000
END:STANDARD
BEGIN:DAYLIGHT
TZOFFSETFROM:-0500
TZOFFSETTO:-0400
TZNAME:EDT
DTSTART:20240310T070000
END:DAYLIGHT
BEGIN:STANDARD
TZOFFSETFROM:-0400
TZOFFSETTO:-0500
TZNAME:EST
DTSTART:20241103T060000
END:STANDARD
END:VTIMEZONE
BEGIN:VEVENT
DTSTART;VALUE=DATE:20230314
DTEND;VALUE=DATE:20230317
DTSTAMP:20260424T185150
CREATED:20230206T181547Z
LAST-MODIFIED:20230206T181547Z
UID:35694-1678752000-1679011199@coe.northeastern.edu
SUMMARY:Graduate Open House
DESCRIPTION:Join us for three days dedicated to your future success.\nDuring this informative and convenient three-day event\, you can connect with faculty\, staff\, students\, and admissions representatives on your schedule. \nPlus\, we’re dedicating an entire day to answering your questions through one-on-one sessions with our enrollment counselors and virtual drop-in meetings. \nDuring these three days\, you’ll be able to: \n\nConnect with faculty and current students for a firsthand look into our community and your college of interest.\nMeet other prospective master’s\, PhD\, and doctoral students from around the country and globe.\nChat with Northeastern staff during our elective sessions\, including members from Student Financial Services\, Library Services\, Off-Campus Housing\, Office of Diversity and Inclusion\, enrollment counselors\, and more.\nLearn about our world-class co-op and internship program—ranked #1 by U.S. News & World Report.\nAttend professional development sessions hosted by our Career Design teams—ranked #8 by the Princeton Review.\nCustomize your schedule so you can get the specific help and answers you need.\n\nClick the website to out the form to secure your spot and join us on March 14-16.
URL:https://coe.northeastern.edu/event/graduate-open-house/
END:VEVENT
END:VCALENDAR