BEGIN:VCALENDAR
VERSION:2.0
PRODID:-//Northeastern University College of Engineering - ECPv6.15.20//NONSGML v1.0//EN
CALSCALE:GREGORIAN
METHOD:PUBLISH
X-ORIGINAL-URL:https://coe.northeastern.edu
X-WR-CALDESC:Events for Northeastern University College of Engineering
REFRESH-INTERVAL;VALUE=DURATION:PT1H
X-Robots-Tag:noindex
X-PUBLISHED-TTL:PT1H
BEGIN:VTIMEZONE
TZID:America/New_York
BEGIN:DAYLIGHT
TZOFFSETFROM:-0500
TZOFFSETTO:-0400
TZNAME:EDT
DTSTART:20220313T070000
END:DAYLIGHT
BEGIN:STANDARD
TZOFFSETFROM:-0400
TZOFFSETTO:-0500
TZNAME:EST
DTSTART:20221106T060000
END:STANDARD
BEGIN:DAYLIGHT
TZOFFSETFROM:-0500
TZOFFSETTO:-0400
TZNAME:EDT
DTSTART:20230312T070000
END:DAYLIGHT
BEGIN:STANDARD
TZOFFSETFROM:-0400
TZOFFSETTO:-0500
TZNAME:EST
DTSTART:20231105T060000
END:STANDARD
BEGIN:DAYLIGHT
TZOFFSETFROM:-0500
TZOFFSETTO:-0400
TZNAME:EDT
DTSTART:20240310T070000
END:DAYLIGHT
BEGIN:STANDARD
TZOFFSETFROM:-0400
TZOFFSETTO:-0500
TZNAME:EST
DTSTART:20241103T060000
END:STANDARD
END:VTIMEZONE
BEGIN:VEVENT
DTSTART;TZID=America/New_York:20230516T100000
DTEND;TZID=America/New_York:20230516T110000
DTSTAMP:20260423T204733
CREATED:20230405T134637Z
LAST-MODIFIED:20230405T134658Z
UID:36472-1684231200-1684234800@coe.northeastern.edu
SUMMARY:Research Spotlight: Chemical Engineering
DESCRIPTION:The College of Engineering is excited to host a Research Spotlight: Chemical Engineering event on May 16\, 2023\, at 10:00am ET.  We’d love to see you there. \nAs a Research 1 university\, Northeastern University students are exposed to some of the highest-quality research offerings in the United States. In this webinar\, our Chemical Engineering faculty members will walk you through their current research projects and offer insight on how current students may have the opportunity to be involved in those research projects during their time in the program.   \n  Topics this event will cover include: \n\nFaculty Introduction:  Faculty will have the opportunity to introduce themselves and their role with graduate students.\nFaculty Projects:  Faculty will introduce their projects and outline the works of their labs with specific attention to their research thrusts. \nHow to Participate: Attendees will learn how they can be involved in research at the academic and co-curricular levels.\n\nReserve your spot today and join us on May 16\, 2023\, at 10:00am ET.  
URL:https://coe.northeastern.edu/event/research-spotlight-chemical-engineering/
END:VEVENT
BEGIN:VEVENT
DTSTART;TZID=America/New_York:20230516T160000
DTEND;TZID=America/New_York:20230516T170000
DTSTAMP:20260423T204733
CREATED:20230515T134625Z
LAST-MODIFIED:20230515T134625Z
UID:36998-1684252800-1684256400@coe.northeastern.edu
SUMMARY:Data Visualization by Coding: A CommLab Workshop Series
DESCRIPTION:Join the CommLab to work on visualizing your data using different coding methods.  We will use Python as well as other methods.  Join us to tell us which methods you are interested in working on.
URL:https://coe.northeastern.edu/event/data-visualization-by-coding-a-commlab-workshop-series/2023-05-16/
LOCATION:206 Egan\, 360 Huntington Ave\, Boston\, MA\, 02115\, United States
GEO:42.3376753;-71.0888734
X-APPLE-STRUCTURED-LOCATION;VALUE=URI;X-ADDRESS=206 Egan 360 Huntington Ave Boston MA 02115 United States;X-APPLE-RADIUS=500;X-TITLE=360 Huntington Ave:geo:-71.0888734,42.3376753
END:VEVENT
END:VCALENDAR