BEGIN:VCALENDAR
VERSION:2.0
PRODID:-//Northeastern University College of Engineering - ECPv6.15.20//NONSGML v1.0//EN
CALSCALE:GREGORIAN
METHOD:PUBLISH
X-ORIGINAL-URL:https://coe.northeastern.edu
X-WR-CALDESC:Events for Northeastern University College of Engineering
REFRESH-INTERVAL;VALUE=DURATION:PT1H
X-Robots-Tag:noindex
X-PUBLISHED-TTL:PT1H
BEGIN:VTIMEZONE
TZID:America/New_York
BEGIN:DAYLIGHT
TZOFFSETFROM:-0500
TZOFFSETTO:-0400
TZNAME:EDT
DTSTART:20220313T070000
END:DAYLIGHT
BEGIN:STANDARD
TZOFFSETFROM:-0400
TZOFFSETTO:-0500
TZNAME:EST
DTSTART:20221106T060000
END:STANDARD
BEGIN:DAYLIGHT
TZOFFSETFROM:-0500
TZOFFSETTO:-0400
TZNAME:EDT
DTSTART:20230312T070000
END:DAYLIGHT
BEGIN:STANDARD
TZOFFSETFROM:-0400
TZOFFSETTO:-0500
TZNAME:EST
DTSTART:20231105T060000
END:STANDARD
BEGIN:DAYLIGHT
TZOFFSETFROM:-0500
TZOFFSETTO:-0400
TZNAME:EDT
DTSTART:20240310T070000
END:DAYLIGHT
BEGIN:STANDARD
TZOFFSETFROM:-0400
TZOFFSETTO:-0500
TZNAME:EST
DTSTART:20241103T060000
END:STANDARD
END:VTIMEZONE
BEGIN:VEVENT
DTSTART;TZID=America/New_York:20230925T203000
DTEND;TZID=America/New_York:20230925T220000
DTSTAMP:20260425T112159
CREATED:20230922T193116Z
LAST-MODIFIED:20230922T193116Z
UID:38922-1695673800-1695679200@coe.northeastern.edu
SUMMARY:US Graduate Engineering Consortium Information Session
DESCRIPTION:Calling all future graduate students! If you are interested in learning more about obtaining a Master’s degree or PhD\, then come learn the “do’s and don’ts” of graduate school applications! This session will cover the basics of applying to graduate school as well as share tips for making your application competitive for admission. After the session\, join a breakout room to learn more about a specific university’s application requirements. \nSponsored by the U.S. Graduate Engineering Consortium: UC Berkeley\, Georgia Tech\, University of Michigan\, Northeastern\, NYU\, Ohio State\, Purdue University\, Rice University\, University of Southern California.
URL:https://coe.northeastern.edu/event/us-graduate-engineering-consortium-information-session/
ORGANIZER;CN="Graduate School of Engineering":MAILTO:coe-gradadmissions@northeastern.edu
END:VEVENT
END:VCALENDAR