BEGIN:VCALENDAR
VERSION:2.0
PRODID:-//Northeastern University College of Engineering - ECPv6.15.20//NONSGML v1.0//EN
CALSCALE:GREGORIAN
METHOD:PUBLISH
X-ORIGINAL-URL:https://coe.northeastern.edu
X-WR-CALDESC:Events for Northeastern University College of Engineering
REFRESH-INTERVAL;VALUE=DURATION:PT1H
X-Robots-Tag:noindex
X-PUBLISHED-TTL:PT1H
BEGIN:VTIMEZONE
TZID:America/New_York
BEGIN:DAYLIGHT
TZOFFSETFROM:-0500
TZOFFSETTO:-0400
TZNAME:EDT
DTSTART:20220313T070000
END:DAYLIGHT
BEGIN:STANDARD
TZOFFSETFROM:-0400
TZOFFSETTO:-0500
TZNAME:EST
DTSTART:20221106T060000
END:STANDARD
BEGIN:DAYLIGHT
TZOFFSETFROM:-0500
TZOFFSETTO:-0400
TZNAME:EDT
DTSTART:20230312T070000
END:DAYLIGHT
BEGIN:STANDARD
TZOFFSETFROM:-0400
TZOFFSETTO:-0500
TZNAME:EST
DTSTART:20231105T060000
END:STANDARD
BEGIN:DAYLIGHT
TZOFFSETFROM:-0500
TZOFFSETTO:-0400
TZNAME:EDT
DTSTART:20240310T070000
END:DAYLIGHT
BEGIN:STANDARD
TZOFFSETFROM:-0400
TZOFFSETTO:-0500
TZNAME:EST
DTSTART:20241103T060000
END:STANDARD
END:VTIMEZONE
BEGIN:VEVENT
DTSTART;VALUE=DATE:20231012
DTEND;VALUE=DATE:20231015
DTSTAMP:20260423T214924
CREATED:20230728T134728Z
LAST-MODIFIED:20230728T134728Z
UID:37646-1697068800-1697327999@coe.northeastern.edu
SUMMARY:SASE National Conference
DESCRIPTION:Join COE Graduate Admissions at the SASE National Conference. Meet us at the STEM Career Fair and one of our Admissions representatives will be happy to answer your questions about our graduate engineering programs.
URL:https://coe.northeastern.edu/event/sase-national-conference/
ORGANIZER;CN="Graduate School of Engineering":MAILTO:coe-gradadmissions@northeastern.edu
END:VEVENT
BEGIN:VEVENT
DTSTART;TZID=America/New_York:20231014T080000
DTEND;TZID=America/New_York:20231014T100000
DTSTAMP:20260423T214924
CREATED:20230911T135519Z
LAST-MODIFIED:20230911T135519Z
UID:38207-1697270400-1697277600@coe.northeastern.edu
SUMMARY:NACME Annual Conference & Gala @ Washington\, DC
DESCRIPTION:Join COE Graduate Admissions at NACME Annual Conference in Washington DC starting Thursday\, October 12th to Saturday\, October 14th. Key a special eye out for the University Fair on Saturday\, October 14th\, 2023 at 8 a.m. to ask your questions about Graduate Engineering programs at Northeastern!
URL:https://coe.northeastern.edu/event/nacme-annual-conference-gala-washington-dc/
ORGANIZER;CN="Graduate School of Engineering":MAILTO:coe-gradadmissions@northeastern.edu
END:VEVENT
BEGIN:VEVENT
DTSTART;TZID=America/New_York:20231014T100000
DTEND;TZID=America/New_York:20231015T160000
DTSTAMP:20260423T214924
CREATED:20230921T144205Z
LAST-MODIFIED:20230921T145657Z
UID:38892-1697277600-1697385600@coe.northeastern.edu
SUMMARY:Hispanic and Latinx Heritage Month at the Museum of Science
DESCRIPTION:ECE Associate Professor Canek Fuentes Hernandez will be a featured speaker during the Museum of Science’s celebration of Hispanic and Latinx Heritage Month during the weekend of October 14th and 15th\, with two full days of fun science and cultural offerings. Hernandez’s talk will be on October 15th at 2:30 PM\, and he will discuss his journey in STEM and research in organic electronics. \nProgramming will include featured speakers\, family activities\, enlightening live presentations\, a special community storytelling event\, and Boston-area performances and community groups. \nEvent website
URL:https://coe.northeastern.edu/event/hispanic-and-latinx-heritage-month-at-the-museum-of-science/
END:VEVENT
END:VCALENDAR