BEGIN:VCALENDAR
VERSION:2.0
PRODID:-//Northeastern University College of Engineering - ECPv6.15.20//NONSGML v1.0//EN
CALSCALE:GREGORIAN
METHOD:PUBLISH
X-WR-CALNAME:Northeastern University College of Engineering
X-ORIGINAL-URL:https://coe.northeastern.edu
X-WR-CALDESC:Events for Northeastern University College of Engineering
REFRESH-INTERVAL;VALUE=DURATION:PT1H
X-Robots-Tag:noindex
X-PUBLISHED-TTL:PT1H
BEGIN:VTIMEZONE
TZID:America/New_York
BEGIN:DAYLIGHT
TZOFFSETFROM:-0500
TZOFFSETTO:-0400
TZNAME:EDT
DTSTART:20220313T070000
END:DAYLIGHT
BEGIN:STANDARD
TZOFFSETFROM:-0400
TZOFFSETTO:-0500
TZNAME:EST
DTSTART:20221106T060000
END:STANDARD
BEGIN:DAYLIGHT
TZOFFSETFROM:-0500
TZOFFSETTO:-0400
TZNAME:EDT
DTSTART:20230312T070000
END:DAYLIGHT
BEGIN:STANDARD
TZOFFSETFROM:-0400
TZOFFSETTO:-0500
TZNAME:EST
DTSTART:20231105T060000
END:STANDARD
BEGIN:DAYLIGHT
TZOFFSETFROM:-0500
TZOFFSETTO:-0400
TZNAME:EDT
DTSTART:20240310T070000
END:DAYLIGHT
BEGIN:STANDARD
TZOFFSETFROM:-0400
TZOFFSETTO:-0500
TZNAME:EST
DTSTART:20241103T060000
END:STANDARD
END:VTIMEZONE
BEGIN:VEVENT
DTSTART;TZID=America/New_York:20231201T090000
DTEND;TZID=America/New_York:20231201T120000
DTSTAMP:20260424T064503
CREATED:20231116T213530Z
LAST-MODIFIED:20231116T213530Z
UID:40442-1701421200-1701432000@coe.northeastern.edu
SUMMARY:First-Year Engineering Fall Expos
DESCRIPTION:Join us for First-Year Engineering’s Fall Expos on Friday\, December 1\, from 9:00 AM – 12:00 PM and Monday\, December 4\, from 11:00 AM – 3:00 PM in the Curry Student Center Pit and Quad. Cornerstone of Engineering students will be showcasing their Fall projects. Themes include sumo robots\, sustainability\, carnival games\, animals and the natural world\, and interactive games. \n  \n 
URL:https://coe.northeastern.edu/event/first-year-engineering-fall-expos/2023-12-01/
LOCATION:Curry Student Center\, 360 Huntington Ave.\, Boston\, MA\, 02115\, United States
GEO:42.3394629;-71.0885286
X-APPLE-STRUCTURED-LOCATION;VALUE=URI;X-ADDRESS=Curry Student Center 360 Huntington Ave. Boston MA 02115 United States;X-APPLE-RADIUS=500;X-TITLE=360 Huntington Ave.:geo:-71.0885286,42.3394629
END:VEVENT
END:VCALENDAR