BEGIN:VCALENDAR
VERSION:2.0
PRODID:-//Northeastern University College of Engineering - ECPv6.15.18//NONSGML v1.0//EN
CALSCALE:GREGORIAN
METHOD:PUBLISH
X-WR-CALNAME:Northeastern University College of Engineering
X-ORIGINAL-URL:https://coe.northeastern.edu
X-WR-CALDESC:Events for Northeastern University College of Engineering
REFRESH-INTERVAL;VALUE=DURATION:PT1H
X-Robots-Tag:noindex
X-PUBLISHED-TTL:PT1H
BEGIN:VTIMEZONE
TZID:America/New_York
BEGIN:DAYLIGHT
TZOFFSETFROM:-0500
TZOFFSETTO:-0400
TZNAME:EDT
DTSTART:20230312T070000
END:DAYLIGHT
BEGIN:STANDARD
TZOFFSETFROM:-0400
TZOFFSETTO:-0500
TZNAME:EST
DTSTART:20231105T060000
END:STANDARD
BEGIN:DAYLIGHT
TZOFFSETFROM:-0500
TZOFFSETTO:-0400
TZNAME:EDT
DTSTART:20240310T070000
END:DAYLIGHT
BEGIN:STANDARD
TZOFFSETFROM:-0400
TZOFFSETTO:-0500
TZNAME:EST
DTSTART:20241103T060000
END:STANDARD
BEGIN:DAYLIGHT
TZOFFSETFROM:-0500
TZOFFSETTO:-0400
TZNAME:EDT
DTSTART:20250309T070000
END:DAYLIGHT
BEGIN:STANDARD
TZOFFSETFROM:-0400
TZOFFSETTO:-0500
TZNAME:EST
DTSTART:20251102T060000
END:STANDARD
END:VTIMEZONE
BEGIN:VEVENT
DTSTART;VALUE=DATE:20240103
DTEND;VALUE=DATE:20240108
DTSTAMP:20260423T043944
CREATED:20230905T203036Z
LAST-MODIFIED:20230905T203111Z
UID:38060-1704240000-1704671999@coe.northeastern.edu
SUMMARY:Computer Vision with Small Data (CV4Smalls): A Focus on Infants and Endangered Animals
DESCRIPTION:Prof. Sarah Ostadabbas is the general chair of the inaugural workshop on Computer Vision with Small Data (CV4Smalls): A Focus on Infants and Endangered Animals. This workshop is hosted as part of the 2024 Winter Conference on Applications of Computer Vision (WACV) and promises to be a platform for groundbreaking research and insightful discussions. The workshop will take place in person between January 3-7\, 2024 in Waikoloa\, Hawaii\, USA. \nResearchers and practitioners are invited to submit original research papers\, not exceeding 8 pages\, adhering to the WACV template https://lnkd.in/efsp_8qx. Workshop papers will be included in IEEE Xplore\, and will be indexed separately from the main conference papers. Submitted papers will undergo a rigorous peer-review double-blind process. For more information please contact: ostadabbas@ece.neu.edu \nImportant Dates:\n• Paper Submission Deadline: 11th October\, 2023\n• Notification of Acceptance: 9th November\, 2023\n• Camera-Ready Deadline: 19th November\, 2023\n• Workshop Date: 3-7th January\, 2024
URL:https://coe.northeastern.edu/event/computer-vision-with-small-data-cv4smalls-a-focus-on-infants-and-endangered-animals/
END:VEVENT
END:VCALENDAR