BEGIN:VCALENDAR
VERSION:2.0
PRODID:-//Northeastern University College of Engineering - ECPv6.15.18//NONSGML v1.0//EN
CALSCALE:GREGORIAN
METHOD:PUBLISH
X-WR-CALNAME:Northeastern University College of Engineering
X-ORIGINAL-URL:https://coe.northeastern.edu
X-WR-CALDESC:Events for Northeastern University College of Engineering
REFRESH-INTERVAL;VALUE=DURATION:PT1H
X-Robots-Tag:noindex
X-PUBLISHED-TTL:PT1H
BEGIN:VTIMEZONE
TZID:America/New_York
BEGIN:DAYLIGHT
TZOFFSETFROM:-0500
TZOFFSETTO:-0400
TZNAME:EDT
DTSTART:20230312T070000
END:DAYLIGHT
BEGIN:STANDARD
TZOFFSETFROM:-0400
TZOFFSETTO:-0500
TZNAME:EST
DTSTART:20231105T060000
END:STANDARD
BEGIN:DAYLIGHT
TZOFFSETFROM:-0500
TZOFFSETTO:-0400
TZNAME:EDT
DTSTART:20240310T070000
END:DAYLIGHT
BEGIN:STANDARD
TZOFFSETFROM:-0400
TZOFFSETTO:-0500
TZNAME:EST
DTSTART:20241103T060000
END:STANDARD
BEGIN:DAYLIGHT
TZOFFSETFROM:-0500
TZOFFSETTO:-0400
TZNAME:EDT
DTSTART:20250309T070000
END:DAYLIGHT
BEGIN:STANDARD
TZOFFSETFROM:-0400
TZOFFSETTO:-0500
TZNAME:EST
DTSTART:20251102T060000
END:STANDARD
END:VTIMEZONE
BEGIN:VEVENT
DTSTART;TZID=America/New_York:20240118T140000
DTEND;TZID=America/New_York:20240118T150000
DTSTAMP:20260421T002020
CREATED:20240118T204753Z
LAST-MODIFIED:20240321T134623Z
UID:41458-1705586400-1705590000@coe.northeastern.edu
SUMMARY:Mock Interview: A CommLab Workshop Series
DESCRIPTION:Join the CommLab every Thursday from 2-3pm ET\, we’ll delve into the intricacies of interviews\, unveiling effective tricks and preparation strategies for any interview scenario. Engage in an interactive setting as we dissect the overall interview experience\, discuss common interview scenarios\, and share insights on what to do during critical moments. Join this hybrid workshop series either in person in room 206 Egan or through Zoom.
URL:https://coe.northeastern.edu/event/mock-interview-a-commlab-workshop-series/2024-01-18/
LOCATION:206 Egan\, 360 Huntington Ave\, Boston\, MA\, 02115\, United States
GEO:42.3376753;-71.0888734
X-APPLE-STRUCTURED-LOCATION;VALUE=URI;X-ADDRESS=206 Egan 360 Huntington Ave Boston MA 02115 United States;X-APPLE-RADIUS=500;X-TITLE=360 Huntington Ave:geo:-71.0888734,42.3376753
END:VEVENT
BEGIN:VEVENT
DTSTART;TZID=America/New_York:20240118T170000
DTEND;TZID=America/New_York:20240118T190000
DTSTAMP:20260421T002020
CREATED:20240103T152347Z
LAST-MODIFIED:20240108T144339Z
UID:41089-1705597200-1705604400@coe.northeastern.edu
SUMMARY:Northeastern NAI annual event
DESCRIPTION:Join us for the Northeastern NAI annual meeting\, a must-attend event for AI innovation enthusiasts! This in-person gathering will take place at the Egan Research Center\, Forsyth Street\, Boston\, MA\, USA. Get ready to hear from an AI expert in the field and an IP patent lawyer in a room filled with passionate individuals who share your love for innovation. This event is a unique opportunity to network\, learn from industry experts\, and explore groundbreaking ideas. Don’t miss out on this exciting event that promises to inspire and ignite your creativity. Mark your calendars and get ready for an unforgettable experience at the Northeastern NAI annual meeting.
URL:https://coe.northeastern.edu/event/northeastern-nai-annual-event/
LOCATION:Raytheon Amphitheater (240 Egan)\, 360 Huntington Ave\, 240 Egan\, Boston\, MA\, 02115\, United States
ORGANIZER;CN="Center for Research Innovation":MAILTO:cri@northeastern.edu
END:VEVENT
BEGIN:VEVENT
DTSTART;TZID=America/New_York:20240118T173000
DTEND;TZID=America/New_York:20240118T183000
DTSTAMP:20260421T002020
CREATED:20231206T205447Z
LAST-MODIFIED:20231206T205447Z
UID:40747-1705599000-1705602600@coe.northeastern.edu
SUMMARY:Global Co-op Information Session
DESCRIPTION:Join the College of Engineering Global Co-op team in learning about global co-op opportunities for Summer II/ Fall 2024! \nTopics discussed will include: \n\nSearch techniques and global positions in your field\nLocations that students have co-oped in the past\nWhat to consider when interested in a global co-op\nInformation on logistics\, including visas and housing\nTips and resources for self-developing global positions\n\nAttendance to one of these information sessions is required if you plan to do a global co-op in Summer II/ Fall 2024. \nLocation: Renaissance Park 909. Register on NUworks. \nPlease reach out to Kristina Hubbard\, Global Co-op Coordinator\, k.hubbard@northeastern.edu for additional information.
URL:https://coe.northeastern.edu/event/global-co-op-information-session-3/
END:VEVENT
END:VCALENDAR