BEGIN:VCALENDAR
VERSION:2.0
PRODID:-//Northeastern University College of Engineering - ECPv6.15.20//NONSGML v1.0//EN
CALSCALE:GREGORIAN
METHOD:PUBLISH
X-ORIGINAL-URL:https://coe.northeastern.edu
X-WR-CALDESC:Events for Northeastern University College of Engineering
REFRESH-INTERVAL;VALUE=DURATION:PT1H
X-Robots-Tag:noindex
X-PUBLISHED-TTL:PT1H
BEGIN:VTIMEZONE
TZID:America/New_York
BEGIN:DAYLIGHT
TZOFFSETFROM:-0500
TZOFFSETTO:-0400
TZNAME:EDT
DTSTART:20230312T070000
END:DAYLIGHT
BEGIN:STANDARD
TZOFFSETFROM:-0400
TZOFFSETTO:-0500
TZNAME:EST
DTSTART:20231105T060000
END:STANDARD
BEGIN:DAYLIGHT
TZOFFSETFROM:-0500
TZOFFSETTO:-0400
TZNAME:EDT
DTSTART:20240310T070000
END:DAYLIGHT
BEGIN:STANDARD
TZOFFSETFROM:-0400
TZOFFSETTO:-0500
TZNAME:EST
DTSTART:20241103T060000
END:STANDARD
BEGIN:DAYLIGHT
TZOFFSETFROM:-0500
TZOFFSETTO:-0400
TZNAME:EDT
DTSTART:20250309T070000
END:DAYLIGHT
BEGIN:STANDARD
TZOFFSETFROM:-0400
TZOFFSETTO:-0500
TZNAME:EST
DTSTART:20251102T060000
END:STANDARD
END:VTIMEZONE
BEGIN:VEVENT
DTSTART;TZID=America/New_York:20240223T190000
DTEND;TZID=America/New_York:20240225T150000
DTSTAMP:20260424T074921
CREATED:20240119T194309Z
LAST-MODIFIED:20240125T144129Z
UID:41557-1708714800-1708873200@coe.northeastern.edu
SUMMARY:SENTRY Presents: DASSH Student Design Challenge
DESCRIPTION:Location: This is a virtual event. \nRegister \nCompete against teams from other Universities in the 3-day DASSH (Designing Actionable Solutions for a Secure Homeland) student design challenge.  \nThis event is co-sponsored by two Department of Homeland Security Centers of Excellence\, the Center for Accelerating Operational Efficiency (CAOE) and the Soft Target Engineering to Neutralize the Threat Reality (SENTRY) Center. As the lead university for SENTRY\, Northeastern University invites its current graduate and undergraduate students to participate in this unique opportunity! \nTeams will be presented with real-world problem scenarios related to homeland security and this year’s theme\, “Cascading Events”. The scenarios will focus on the detection and mitigation of threats such as cyber-attacks\, natural disasters\, and human-engineered sabotage. \nSubject matter experts will mentor student teams as they design\, build\, and implement innovative solutions. Although other hackathons focus on coding\, this challenge emphasizes finding real solutions regardless of the medium those solutions happen to be in. \nTo conclude the event\, proposed solutions will be presented to Department of Homeland Security leadership and cash prizes will be awarded to the top teams.
URL:https://coe.northeastern.edu/event/sentry-presents-dassh-student-design-challenge-2/
ORGANIZER;CN="SENTRY":MAILTO:sentry-coe@northeastern.edu
END:VEVENT
END:VCALENDAR