BEGIN:VCALENDAR
VERSION:2.0
PRODID:-//Northeastern University College of Engineering - ECPv6.15.18//NONSGML v1.0//EN
CALSCALE:GREGORIAN
METHOD:PUBLISH
X-WR-CALNAME:Northeastern University College of Engineering
X-ORIGINAL-URL:https://coe.northeastern.edu
X-WR-CALDESC:Events for Northeastern University College of Engineering
REFRESH-INTERVAL;VALUE=DURATION:PT1H
X-Robots-Tag:noindex
X-PUBLISHED-TTL:PT1H
BEGIN:VTIMEZONE
TZID:America/New_York
BEGIN:DAYLIGHT
TZOFFSETFROM:-0500
TZOFFSETTO:-0400
TZNAME:EDT
DTSTART:20230312T070000
END:DAYLIGHT
BEGIN:STANDARD
TZOFFSETFROM:-0400
TZOFFSETTO:-0500
TZNAME:EST
DTSTART:20231105T060000
END:STANDARD
BEGIN:DAYLIGHT
TZOFFSETFROM:-0500
TZOFFSETTO:-0400
TZNAME:EDT
DTSTART:20240310T070000
END:DAYLIGHT
BEGIN:STANDARD
TZOFFSETFROM:-0400
TZOFFSETTO:-0500
TZNAME:EST
DTSTART:20241103T060000
END:STANDARD
BEGIN:DAYLIGHT
TZOFFSETFROM:-0500
TZOFFSETTO:-0400
TZNAME:EDT
DTSTART:20250309T070000
END:DAYLIGHT
BEGIN:STANDARD
TZOFFSETFROM:-0400
TZOFFSETTO:-0500
TZNAME:EST
DTSTART:20251102T060000
END:STANDARD
END:VTIMEZONE
BEGIN:VEVENT
DTSTART;VALUE=DATE:20240305
DTEND;VALUE=DATE:20240308
DTSTAMP:20260421T131551
CREATED:20240125T181303Z
LAST-MODIFIED:20240226T160407Z
UID:41684-1709596800-1709855999@coe.northeastern.edu
SUMMARY:Northeastern University Virtual Spring Graduate Open House
DESCRIPTION:Join us for a three-day virtual open house event\, you’ll get a firsthand look into the Northeastern community and see if our top-ranked\, experience-driven education is right for you and your goals. \nDay 1: Connect with the faculty\, admissions department\, and current students from your program of choice\, and learn about our powerful co-op programs. \nDay 2: Meet Northeastern’s dedicated and helpful support staff from Global Student Success\, housing services\, financial services\, career design\, and many more. \nDay 3: Get all your questions about the application and enrollment process answered by our enrollment counselors. These include one-on-one drop-in sessions with a dedicated enrollment counselor you can join throughout the day. \nPlus\, you’ll be able to meet other graduate\, PhD\, and doctoral students from around the country and the globe. \nAnd with our virtual experience\, you’ll be able to customize your schedule to maximize your time and get the specific help and answers you need. \nFill out the form to secure your spot and join us on March 5-7.
URL:https://coe.northeastern.edu/event/northeastern-university-virtual-spring-graduate-open-house/
ORGANIZER;CN="Graduate School of Engineering":MAILTO:coe-gradadmissions@northeastern.edu
END:VEVENT
END:VCALENDAR