BEGIN:VCALENDAR
VERSION:2.0
PRODID:-//Northeastern University College of Engineering - ECPv6.15.18//NONSGML v1.0//EN
CALSCALE:GREGORIAN
METHOD:PUBLISH
X-WR-CALNAME:Northeastern University College of Engineering
X-ORIGINAL-URL:https://coe.northeastern.edu
X-WR-CALDESC:Events for Northeastern University College of Engineering
REFRESH-INTERVAL;VALUE=DURATION:PT1H
X-Robots-Tag:noindex
X-PUBLISHED-TTL:PT1H
BEGIN:VTIMEZONE
TZID:America/New_York
BEGIN:DAYLIGHT
TZOFFSETFROM:-0500
TZOFFSETTO:-0400
TZNAME:EDT
DTSTART:20230312T070000
END:DAYLIGHT
BEGIN:STANDARD
TZOFFSETFROM:-0400
TZOFFSETTO:-0500
TZNAME:EST
DTSTART:20231105T060000
END:STANDARD
BEGIN:DAYLIGHT
TZOFFSETFROM:-0500
TZOFFSETTO:-0400
TZNAME:EDT
DTSTART:20240310T070000
END:DAYLIGHT
BEGIN:STANDARD
TZOFFSETFROM:-0400
TZOFFSETTO:-0500
TZNAME:EST
DTSTART:20241103T060000
END:STANDARD
BEGIN:DAYLIGHT
TZOFFSETFROM:-0500
TZOFFSETTO:-0400
TZNAME:EDT
DTSTART:20250309T070000
END:DAYLIGHT
BEGIN:STANDARD
TZOFFSETFROM:-0400
TZOFFSETTO:-0500
TZNAME:EST
DTSTART:20251102T060000
END:STANDARD
END:VTIMEZONE
BEGIN:VEVENT
DTSTART;TZID=America/New_York:20240314T090000
DTEND;TZID=America/New_York:20240314T100000
DTSTAMP:20260419T103613
CREATED:20240108T145934Z
LAST-MODIFIED:20240110T205758Z
UID:41153-1710406800-1710410400@coe.northeastern.edu
SUMMARY:PI Day Graduate School of Engineering Overview
DESCRIPTION:To celebrate PI Day (3/14)\, the Graduate School of Engineering invites you to learn more about our graduate programs by attending a webinar hosted by the Director of Graduate Admissions\, Kelly Egorova on Thursday\, March\, 14 at 9:00am ET. Webinar details are below. \nWebinar Details:\nTopic: Graduate School of Engineering Overview\nDate: March 14\, 2024\nTime: 9:00 AM ET\nRegistration: https://us02web.zoom.us/webinar/register/WN_TpaPO_9QQfi3Ro5pjBQd_A
URL:https://coe.northeastern.edu/event/pi-day-graduate-school-of-engineering-overview/
END:VEVENT
BEGIN:VEVENT
DTSTART;TZID=America/New_York:20240314T110000
DTEND;TZID=America/New_York:20240314T130000
DTSTAMP:20260419T103613
CREATED:20240305T150058Z
LAST-MODIFIED:20240305T150058Z
UID:42633-1710414000-1710421200@coe.northeastern.edu
SUMMARY:Breaking the Glass Lab
DESCRIPTION:In celebration of Women’s History Month\, join us for a lunch and panel discussion on Breaking the Glass Lab: Understanding the Realities Faced by Women in STEM Higher Education. \nHosted by Bioengineering and Mechanical & Industrial Engineering. \nRegister
URL:https://coe.northeastern.edu/event/breaking-the-glass-lab/
LOCATION:Fenway Center\, 77 St. Stephen Street\, Boston\, MA\, 02115\, United States
ORGANIZER;CN="Bioengineering":MAILTO:bioe@northeastern.edu
END:VEVENT
BEGIN:VEVENT
DTSTART;TZID=America/New_York:20240314T120000
DTEND;TZID=America/New_York:20240314T140000
DTSTAMP:20260419T103613
CREATED:20240307T191523Z
LAST-MODIFIED:20240307T191523Z
UID:42693-1710417600-1710424800@coe.northeastern.edu
SUMMARY:Email Etiquette
DESCRIPTION:Email communication is a crucial aspect of academic life\, serving as a primary way for students to connect with faculty\, inquire about opportunities\, seek support\, and more. That’s why we’re thrilled to present a 75-minute Zoom workshop led by two communication specialists from NU. \nIn this workshop\, you’ll gain valuable insights into communication concepts and strategies tailored to improve the effectiveness of your email messaging. Learn how to craft purposeful emails with appropriate tone and audience awareness\, ensuring your messages resonate with clarity and professionalism. \nDon’t miss out on this opportunity to sharpen your email communication skills and elevate your academic interactions! Register now to secure your spot. \nRegistration \nHosted by the Office of the Provost
URL:https://coe.northeastern.edu/event/email-etiquette/
END:VEVENT
END:VCALENDAR