BEGIN:VCALENDAR
VERSION:2.0
PRODID:-//Northeastern University College of Engineering - ECPv6.15.18//NONSGML v1.0//EN
CALSCALE:GREGORIAN
METHOD:PUBLISH
X-WR-CALNAME:Northeastern University College of Engineering
X-ORIGINAL-URL:https://coe.northeastern.edu
X-WR-CALDESC:Events for Northeastern University College of Engineering
REFRESH-INTERVAL;VALUE=DURATION:PT1H
X-Robots-Tag:noindex
X-PUBLISHED-TTL:PT1H
BEGIN:VTIMEZONE
TZID:America/New_York
BEGIN:DAYLIGHT
TZOFFSETFROM:-0500
TZOFFSETTO:-0400
TZNAME:EDT
DTSTART:20230312T070000
END:DAYLIGHT
BEGIN:STANDARD
TZOFFSETFROM:-0400
TZOFFSETTO:-0500
TZNAME:EST
DTSTART:20231105T060000
END:STANDARD
BEGIN:DAYLIGHT
TZOFFSETFROM:-0500
TZOFFSETTO:-0400
TZNAME:EDT
DTSTART:20240310T070000
END:DAYLIGHT
BEGIN:STANDARD
TZOFFSETFROM:-0400
TZOFFSETTO:-0500
TZNAME:EST
DTSTART:20241103T060000
END:STANDARD
BEGIN:DAYLIGHT
TZOFFSETFROM:-0500
TZOFFSETTO:-0400
TZNAME:EDT
DTSTART:20250309T070000
END:DAYLIGHT
BEGIN:STANDARD
TZOFFSETFROM:-0400
TZOFFSETTO:-0500
TZNAME:EST
DTSTART:20251102T060000
END:STANDARD
END:VTIMEZONE
BEGIN:VEVENT
DTSTART;VALUE=DATE:20240320
DTEND;VALUE=DATE:20240325
DTSTAMP:20260420T115108
CREATED:20240108T145815Z
LAST-MODIFIED:20240108T145815Z
UID:41152-1710892800-1711324799@coe.northeastern.edu
SUMMARY:NSBE Annual Convention
DESCRIPTION:Join COE Graduate Admissions at the National Society of Black Engineers’ 50th Annual Convention in Atlanta\, GA! Ask your questions about our graduate engineering programs across the U.S. and Canada during the Career Fair on March 21-22. We look forward to meeting you there!
URL:https://coe.northeastern.edu/event/nsbe-annual-convention/
ORGANIZER;CN="Graduate School of Engineering":MAILTO:coe-gradadmissions@northeastern.edu
END:VEVENT
BEGIN:VEVENT
DTSTART;TZID=America/New_York:20240320T120000
DTEND;TZID=America/New_York:20240320T150000
DTSTAMP:20260420T115108
CREATED:20240308T195353Z
LAST-MODIFIED:20240312T181251Z
UID:42710-1710936000-1710946800@coe.northeastern.edu
SUMMARY:MathWorks Day: Seeking Humanity via Technology: How AI Can Be Used to Reduce Maternal Mortality
DESCRIPTION:Seeking Humanity via Technology: How AI Can Be Used to Reduce Maternal Mortality by Louvere Walker-Hannon \nMaternal mortality continues to be a global issue however\, studies over the past 5 years identify a growing alarming trend in the United States with respect to maternal mortality. According to several studies from the Centers for Disease Control\, “Black women are three times more likely to die from a pregnancy-related cause than White women”. Many of these same studies have also acknowledged that most pregnancy-related deaths are preventable and that this alarming trend continues to grow. This session will entail providing an overview of historical approaches to this issue. The emphasis of this presentation will identify how Artificial Intelligence (AI) could be used to reduce maternal mortality and how AI could be used to reduce maternal mortality. \nBio: Louvere Walker-Hannon is a MathWorks application engineering senior team lead who provides technical guidance and strategic direction on AI/data science workflows for various applications. She also leads a team of application engineers. She has a bachelor’s degree in biomedical engineering and a master’s degree in geographic information technology/remote sensing. She has presented at several STEM-related conferences on various topics and serves as an avid STEM advocate. Louvere volunteers with Black Girls CODE\, the Society of WomenEngineers (SWE)\, and the National Society of Black Engineers (NSBE). She is also a recipient of the SWE WE Local 2022 Engaged Advocate Award and is a second-year SWE Senator. In 2023\, Louvere was highlighted as one of Boston University’s College of Engineering Distinguished Alumni and identified as one of the 10 Most Inspiring Women DrivingTechnological Progress\, in volume 11 of The Silicon Leaders magazine. \nLunch 12:00–1:00 pm\nTalk 1:00-1:30 pm\nPoster Session and Demonstrations 1:30–3:00 pm \nRegister \nMathWorks Demos: \n\n\n\nTitle\nSpeaker\n\n\nHeat Transfer for Chemical and Mechanical Engineers\nAycan Hacioglu\, Mehdi Vahab\n\n\nAI in Chemical and Mechanical Engineering\nAycan Hacioglu\, Mae Markowski\n\n\nUsing MATLAB Online with GitHub\nYann Debray\, Tharikaa Kumar\n\n\n5G Classification Neural Network\nIman Abdalla\n\n\nCryptocurrency Price Prediction using MATLAB and Python\nMatt Hannum
URL:https://coe.northeastern.edu/event/mathworks-day-seeking-humanity-via-technology-how-ai-can-be-used-to-reduce-maternal-mortality/
LOCATION:Raytheon Amphitheater (240 Egan)\, 360 Huntington Ave\, 240 Egan\, Boston\, MA\, 02115\, United States
END:VEVENT
END:VCALENDAR