BEGIN:VCALENDAR
VERSION:2.0
PRODID:-//Northeastern University College of Engineering - ECPv6.15.18//NONSGML v1.0//EN
CALSCALE:GREGORIAN
METHOD:PUBLISH
X-ORIGINAL-URL:https://coe.northeastern.edu
X-WR-CALDESC:Events for Northeastern University College of Engineering
REFRESH-INTERVAL;VALUE=DURATION:PT1H
X-Robots-Tag:noindex
X-PUBLISHED-TTL:PT1H
BEGIN:VTIMEZONE
TZID:America/Los_Angeles
BEGIN:DAYLIGHT
TZOFFSETFROM:-0800
TZOFFSETTO:-0700
TZNAME:PDT
DTSTART:20230312T100000
END:DAYLIGHT
BEGIN:STANDARD
TZOFFSETFROM:-0700
TZOFFSETTO:-0800
TZNAME:PST
DTSTART:20231105T090000
END:STANDARD
BEGIN:DAYLIGHT
TZOFFSETFROM:-0800
TZOFFSETTO:-0700
TZNAME:PDT
DTSTART:20240310T100000
END:DAYLIGHT
BEGIN:STANDARD
TZOFFSETFROM:-0700
TZOFFSETTO:-0800
TZNAME:PST
DTSTART:20241103T090000
END:STANDARD
BEGIN:DAYLIGHT
TZOFFSETFROM:-0800
TZOFFSETTO:-0700
TZNAME:PDT
DTSTART:20250309T100000
END:DAYLIGHT
BEGIN:STANDARD
TZOFFSETFROM:-0700
TZOFFSETTO:-0800
TZNAME:PST
DTSTART:20251102T090000
END:STANDARD
END:VTIMEZONE
BEGIN:VTIMEZONE
TZID:America/New_York
BEGIN:DAYLIGHT
TZOFFSETFROM:-0500
TZOFFSETTO:-0400
TZNAME:EDT
DTSTART:20230312T070000
END:DAYLIGHT
BEGIN:STANDARD
TZOFFSETFROM:-0400
TZOFFSETTO:-0500
TZNAME:EST
DTSTART:20231105T060000
END:STANDARD
BEGIN:DAYLIGHT
TZOFFSETFROM:-0500
TZOFFSETTO:-0400
TZNAME:EDT
DTSTART:20240310T070000
END:DAYLIGHT
BEGIN:STANDARD
TZOFFSETFROM:-0400
TZOFFSETTO:-0500
TZNAME:EST
DTSTART:20241103T060000
END:STANDARD
BEGIN:DAYLIGHT
TZOFFSETFROM:-0500
TZOFFSETTO:-0400
TZNAME:EDT
DTSTART:20250309T070000
END:DAYLIGHT
BEGIN:STANDARD
TZOFFSETFROM:-0400
TZOFFSETTO:-0500
TZNAME:EST
DTSTART:20251102T060000
END:STANDARD
END:VTIMEZONE
BEGIN:VEVENT
DTSTART;VALUE=DATE:20240623
DTEND;VALUE=DATE:20240627
DTSTAMP:20260422T214052
CREATED:20240123T211004Z
LAST-MODIFIED:20240123T211004Z
UID:41645-1719100800-1719446399@coe.northeastern.edu
SUMMARY:2024 ASEE Annual Conference
DESCRIPTION:Join COE Graduate Admissions and the CHME Faculty at the 2024 ASEE Annual Conference in Portland\, Oregon! Ask your questions about our graduate engineering programs across the U.S. and Canada during the conference from June 23rd-June 26th. We look forward to meeting you there!
URL:https://coe.northeastern.edu/event/2024-asee-annual-conference/
END:VEVENT
BEGIN:VEVENT
DTSTART;TZID=America/New_York:20240624T100000
DTEND;TZID=America/New_York:20240624T120000
DTSTAMP:20260422T214052
CREATED:20240517T125557Z
LAST-MODIFIED:20240731T141125Z
UID:43871-1719223200-1719230400@coe.northeastern.edu
SUMMARY:CommLab Drop-In Writing Hours
DESCRIPTION:Graduate students\, are you looking for a place for focused research writing time?  Join the CommLab drop-in writing hours any Mondays from 10 am-12 pm ET.  Drop in any Monday and stay for a short time or the whole two hours.  CommLab Fellows will be available to provide feedback on your writing.  We will be meeting in 13 International Village.
URL:https://coe.northeastern.edu/event/commlab-drop-in-writing-hours/2024-06-24/
END:VEVENT
BEGIN:VEVENT
DTSTART;TZID=America/New_York:20240624T120000
DTEND;TZID=America/New_York:20240624T130000
DTSTAMP:20260422T214052
CREATED:20240617T134559Z
LAST-MODIFIED:20240617T134559Z
UID:44289-1719230400-1719234000@coe.northeastern.edu
SUMMARY:Chemical Engineering Summer Sustainability Seminar Series: Ewa Marek
DESCRIPTION:Chemical looping for sustainable production of chemicals \nThe chemical industry is centred on the processing of crude oil and is responsible for the lion’s share of greenhouse gas emissions. Running industrial-scale installations requires huge energy inputs\, employing high temperatures\, pressures\, and\, often\, explosive mixtures. The current industry is designed to work continuously\, using cheap\, petrochemical feedstock. Switching the starting point and moving from oil to renewable feedstock\, whether it is bio-derived carbonaceous material\, captured CO2\, or renewable electricity\, requires new decentralised and flexible operations\, as all these resources are spatially distributed and available intermittently. Our work focuses on small-scale\, dynamic processes\, developing and employing new reaction and process pathways to produce key chemicals. This talk will present our work using a chemical looping approach where solid particles of metal oxides are the sole source of oxygen to catalytic reactions. In particular\, I will discuss the chemical looping epoxidation (CL-E) of ethylene to produce ethylene oxide (EO) and chemical looping oxidative dehydrogenation (CL-ODH) of ethanol to produce acetaldehyde. \n\nBio \nDr. Ewa Marek is an associate professor at the Department of Chemical Engineering and Biotechnology\, University of Cambridge and a fellow of Jesus College. She leads the Energy Reactions and Carriers Group\, working on the production of value-added chemicals from intermittently available renewable feedstock and electricity\, incorporating non-thermal plasma\, ultrasounds and chemical looping to drive efficient\, transient processes. This work led to 2021 Hinshelwood Prize and 2023 Energy&Fuels Rising Star Award for early-career academics. Before setting up her group\, she was a post-doctoral associate in the Engineering Department\, Cambridge\, and earlier\, she worked for six years on industrial R&D and advanced measurement methods in the UK\, Netherlands and Poland. She studied energy and chemical processing (BEng\, MSc) in Cracow and carbon capture (PhD) in Katowice (both in Poland). \nLinks \nhttps://www.ceb.cam.ac.uk/staff/dr-ewa-marek \nhttps://www.jesus.cam.ac.uk/people/ewa-marek
URL:https://coe.northeastern.edu/event/chemical-engineering-summer-sustainability-seminar-series-ewa-marek/
END:VEVENT
END:VCALENDAR