BEGIN:VCALENDAR
VERSION:2.0
PRODID:-//Northeastern University College of Engineering - ECPv6.15.18//NONSGML v1.0//EN
CALSCALE:GREGORIAN
METHOD:PUBLISH
X-WR-CALNAME:Northeastern University College of Engineering
X-ORIGINAL-URL:https://coe.northeastern.edu
X-WR-CALDESC:Events for Northeastern University College of Engineering
REFRESH-INTERVAL;VALUE=DURATION:PT1H
X-Robots-Tag:noindex
X-PUBLISHED-TTL:PT1H
BEGIN:VTIMEZONE
TZID:America/New_York
BEGIN:DAYLIGHT
TZOFFSETFROM:-0500
TZOFFSETTO:-0400
TZNAME:EDT
DTSTART:20230312T070000
END:DAYLIGHT
BEGIN:STANDARD
TZOFFSETFROM:-0400
TZOFFSETTO:-0500
TZNAME:EST
DTSTART:20231105T060000
END:STANDARD
BEGIN:DAYLIGHT
TZOFFSETFROM:-0500
TZOFFSETTO:-0400
TZNAME:EDT
DTSTART:20240310T070000
END:DAYLIGHT
BEGIN:STANDARD
TZOFFSETFROM:-0400
TZOFFSETTO:-0500
TZNAME:EST
DTSTART:20241103T060000
END:STANDARD
BEGIN:DAYLIGHT
TZOFFSETFROM:-0500
TZOFFSETTO:-0400
TZNAME:EDT
DTSTART:20250309T070000
END:DAYLIGHT
BEGIN:STANDARD
TZOFFSETFROM:-0400
TZOFFSETTO:-0500
TZNAME:EST
DTSTART:20251102T060000
END:STANDARD
END:VTIMEZONE
BEGIN:VEVENT
DTSTART;TZID=America/New_York:20240627T160000
DTEND;TZID=America/New_York:20240627T170000
DTSTAMP:20260422T043720
CREATED:20240517T125021Z
LAST-MODIFIED:20240603T191426Z
UID:44138-1719504000-1719507600@coe.northeastern.edu
SUMMARY:Mock Interview: CommLab Drop-In Workshops
DESCRIPTION:Join the CommLab any Thursday from 4-5pm ET\, we’ll delve into the intricacies of interviews\, unveiling effective preparation strategies for any interview scenario. Engage in an interactive setting as we dissect the overall interview experience\, discuss common interview scenarios\, and share insights on what to do during critical moments. Join this hybrid workshop series through Zoom.
URL:https://coe.northeastern.edu/event/mock-interview-commlab-drop-in-workshops/2024-06-27/
END:VEVENT
BEGIN:VEVENT
DTSTART;TZID=America/New_York:20240627T170000
DTEND;TZID=America/New_York:20240627T180000
DTSTAMP:20260422T043720
CREATED:20240517T125712Z
LAST-MODIFIED:20240701T135456Z
UID:43934-1719507600-1719511200@coe.northeastern.edu
SUMMARY:Poster Design and Presentation: CommLab Drop-In Workshops
DESCRIPTION:The CommLab will host drop-in workshops for poster design and presentation to focus on crafting the best visual communication of your research and telling your research story! We will discuss techniques and implement communication strategies to successfully showcase your work. No matter where you are in the process\, whether it is just in the idea phase or you are trying to polish your final poster\, we are happy to help you.  Join us any Thursday from 5-6pm\,  on Zoom.
URL:https://coe.northeastern.edu/event/poster-design-and-presentation-commlab-drop-in-workshops/2024-06-27/
END:VEVENT
END:VCALENDAR