BEGIN:VCALENDAR
VERSION:2.0
PRODID:-//Northeastern University College of Engineering - ECPv6.15.18//NONSGML v1.0//EN
CALSCALE:GREGORIAN
METHOD:PUBLISH
X-WR-CALNAME:Northeastern University College of Engineering
X-ORIGINAL-URL:https://coe.northeastern.edu
X-WR-CALDESC:Events for Northeastern University College of Engineering
REFRESH-INTERVAL;VALUE=DURATION:PT1H
X-Robots-Tag:noindex
X-PUBLISHED-TTL:PT1H
BEGIN:VTIMEZONE
TZID:America/New_York
BEGIN:DAYLIGHT
TZOFFSETFROM:-0500
TZOFFSETTO:-0400
TZNAME:EDT
DTSTART:20230312T070000
END:DAYLIGHT
BEGIN:STANDARD
TZOFFSETFROM:-0400
TZOFFSETTO:-0500
TZNAME:EST
DTSTART:20231105T060000
END:STANDARD
BEGIN:DAYLIGHT
TZOFFSETFROM:-0500
TZOFFSETTO:-0400
TZNAME:EDT
DTSTART:20240310T070000
END:DAYLIGHT
BEGIN:STANDARD
TZOFFSETFROM:-0400
TZOFFSETTO:-0500
TZNAME:EST
DTSTART:20241103T060000
END:STANDARD
BEGIN:DAYLIGHT
TZOFFSETFROM:-0500
TZOFFSETTO:-0400
TZNAME:EDT
DTSTART:20250309T070000
END:DAYLIGHT
BEGIN:STANDARD
TZOFFSETFROM:-0400
TZOFFSETTO:-0500
TZNAME:EST
DTSTART:20251102T060000
END:STANDARD
END:VTIMEZONE
BEGIN:VEVENT
DTSTART;TZID=America/New_York:20240709T160000
DTEND;TZID=America/New_York:20240709T170000
DTSTAMP:20260421T163529
CREATED:20240517T125640Z
LAST-MODIFIED:20240603T184607Z
UID:44080-1720540800-1720544400@coe.northeastern.edu
SUMMARY:LeetCode Mock Interviews – CommLab Drop-In Workshops
DESCRIPTION:Join the CommLab any Tuesday from 4-5 PM for our weekly LeetCode Mock Interview Workshop via Zoom. This workshop is tailored towards programming jobs and prior coding knowledge is expected. Boost your LeetCode problem-solving confidence for interviews by building your speaking skills while solving programming problems.
URL:https://coe.northeastern.edu/event/leetcode-mock-interviews-commlab-drop-in-workshops/2024-07-09/
END:VEVENT
END:VCALENDAR