BEGIN:VCALENDAR
VERSION:2.0
PRODID:-//Northeastern University College of Engineering - ECPv6.15.18//NONSGML v1.0//EN
CALSCALE:GREGORIAN
METHOD:PUBLISH
X-WR-CALNAME:Northeastern University College of Engineering
X-ORIGINAL-URL:https://coe.northeastern.edu
X-WR-CALDESC:Events for Northeastern University College of Engineering
REFRESH-INTERVAL;VALUE=DURATION:PT1H
X-Robots-Tag:noindex
X-PUBLISHED-TTL:PT1H
BEGIN:VTIMEZONE
TZID:America/New_York
BEGIN:DAYLIGHT
TZOFFSETFROM:-0500
TZOFFSETTO:-0400
TZNAME:EDT
DTSTART:20230312T070000
END:DAYLIGHT
BEGIN:STANDARD
TZOFFSETFROM:-0400
TZOFFSETTO:-0500
TZNAME:EST
DTSTART:20231105T060000
END:STANDARD
BEGIN:DAYLIGHT
TZOFFSETFROM:-0500
TZOFFSETTO:-0400
TZNAME:EDT
DTSTART:20240310T070000
END:DAYLIGHT
BEGIN:STANDARD
TZOFFSETFROM:-0400
TZOFFSETTO:-0500
TZNAME:EST
DTSTART:20241103T060000
END:STANDARD
BEGIN:DAYLIGHT
TZOFFSETFROM:-0500
TZOFFSETTO:-0400
TZNAME:EDT
DTSTART:20250309T070000
END:DAYLIGHT
BEGIN:STANDARD
TZOFFSETFROM:-0400
TZOFFSETTO:-0500
TZNAME:EST
DTSTART:20251102T060000
END:STANDARD
END:VTIMEZONE
BEGIN:VEVENT
DTSTART;TZID=America/New_York:20240722T100000
DTEND;TZID=America/New_York:20240722T120000
DTSTAMP:20260421T131525
CREATED:20240517T125557Z
LAST-MODIFIED:20240731T141131Z
UID:43875-1721642400-1721649600@coe.northeastern.edu
SUMMARY:CommLab Drop-In Writing Hours
DESCRIPTION:Graduate students\, are you looking for a place for focused research writing time?  Join the CommLab drop-in writing hours any Mondays from 10 am-12 pm ET.  Drop in any Monday and stay for a short time or the whole two hours.  CommLab Fellows will be available to provide feedback on your writing.  We will be meeting in 13 International Village.
URL:https://coe.northeastern.edu/event/commlab-drop-in-writing-hours/2024-07-22/
END:VEVENT
BEGIN:VEVENT
DTSTART;TZID=America/New_York:20240722T130000
DTEND;TZID=America/New_York:20240722T143000
DTSTAMP:20260421T131525
CREATED:20240820T182500Z
LAST-MODIFIED:20240820T182500Z
UID:45091-1721653200-1721658600@coe.northeastern.edu
SUMMARY:Miead Tehrani Moayyed PhD Dissertation Defense
DESCRIPTION:Name:\nMiead Tehrani Moayyed \nTitle:\nRF Channel Models for Static and Mobile Scenarios: From Simulations to Models for Large-scale Emulations and Digital Twins \nDate:\n7/22/2024 \nTime:\n1:00:00 PM \nLocation:\nRoom: EXP-601A \nCommittee Members:\nProf. Stefano Basagni (Advisor)\nProf. Tommaso Melodia\nProf. Milica Stojanovic \nAbstract:\nThe extremely high data rates provided by communications at higher frequency bands\, such as mmWave\, can address the unprecedented demands of next-generation wireless networks. However\, several impairments limit wireless coverage at higher frequencies\, necessitating accurate models of wireless scenarios and large-scale testing to test and realize the potential of these new technologies. Large-scale accurate simulations and wireless network emulators now offer a time- and cost-effective solution for performing these tests in a lab before field deployment. This dissertation focuses on modeling\, calibration\, and validation of realistic RF scenarios for wireless network emulation at scale. The contributions of this work include: (i) Investigating the characteristics of the wireless channel at higher frequencies (mmWave) and evaluating the performance of mmWave communications on top of the NR standard for 5G cellular networks; (ii) developing a streamlined framework to create realistic RF scenarios with mobility support for Finite Input Response (FIR)-based emulators like Colosseum\, starting from rich inputs such as precise ray tracing methods or real-field measurements\, and (iii) creating an accurate AI-assisted propagation model that integrates joint measurements and simulations\, achieving the desired accuracy and reasonable computational requirements for real-time Digital Twin (DT) wireless networks. Particularly: \n(i) We derive channel propagation models via ray tracing simulations for mmWave transmissions with applications to V2X communications. We analyze aspects related to blockage modeling\, the effects of antenna beamwidth\, beam alignment\, and multipath fading in urban scenarios\, emphasizing the importance of capturing diffuse scattered rays for improved large-scale and small-scale radio channel propagation models. Furthermore\, we compare the performance of mmWave 5G NR with the 4G Long-Term Evolution (LTE) standard in a realistic environment and demonstrate the impact of MIMO technology on improving the performance of 5G NR cellular networks. As transmitted radio signals are received as clusters of multipath rays\, identifying these clusters provides better spatial and temporal characteristics of the channel. We address the clustering process and its validation across a wide range of frequencies in the mmWave spectrum below 100 GHz. We analyze how the clustering solution changes with narrower-beam antennas and provide a comparison of the cluster characteristics for different types of antennas. \n(ii) Our framework for modeling wireless scenarios for large-scale emulators optimally scales down the large set of channel input to the fewer parameters allowed by the emulator using efficient clustering techniques and Channel-Impulse Response (CIR) re-sampling. We demonstrate the effectiveness of the proposed framework by modeling realistic scenarios for Colosseum\, starting with rich input from commercial-grade ray tracing software\, Wireless InSite (WI) by Remcom. To support mobility\, we implement a mobile channel simulator on top of the WI ray-tracer\, consisting of two steps: (a) spatially sampling the mobile channels using the ray-tracer\, and (b) parsing the ray tracing outputs to extract the channels for each time instant of emulation. We also develop a Software-Defined Radio (SDR)-based channel sounder to precisely characterize emulated RF channels. The sounder framework is fully containerized\, scalable\, and automated to capture the gains and delays of the channel CIR taps. \n(iii) We extend these efforts to develop the first Digital Twins for Mobile Networks (DTMN) on Colosseum\, using the RF testbed Arena as a use case. This use case demonstrates the scope and capabilities of Colosseum as a DT\, providing the research community with a set of tools to replicate real-world environments. We compare key network performance metrics\, namely throughput and SINR\, of the Arena/Colosseum DTMN to validate the fidelity of our twinning process. Furthermore\, we present an AI-assisted propagation model to generate realistic\, real-time\, and scalable scenarios for DTMNs. This model seamlessly integrates measurements with ray tracing\, providing a high-resolution\, realistic channel model. We study the computational complexity and configuration trade-offs associated with ray tracing for high-fidelity prediction\, generating a large dataset to train this enhanced AI model. Our proof of concept highlights the accuracy and generalization capabilities of our AI model across previously unseen transmitter (TX) locations and unfamiliar environments\, outperforming state-of-the-art approaches and achieving significant improvements in accuracy. We analyze the computational complexity of our AI model\, comparing it to high-fidelity ray tracing. Profiling reveals a three-order-of-magnitude acceleration\, enabling real-time propagation prediction with reasonable accuracy. We explore key ray tracing parameters contributing to the discrepancy between measurements and simulations and demonstrate the integration of measurements into channel prediction\, thereby calibrating the model.
URL:https://coe.northeastern.edu/event/miead-tehrani-moayyed-phd-dissertation-defense/
END:VEVENT
END:VCALENDAR