BEGIN:VCALENDAR
VERSION:2.0
PRODID:-//Northeastern University College of Engineering - ECPv6.15.20//NONSGML v1.0//EN
CALSCALE:GREGORIAN
METHOD:PUBLISH
X-ORIGINAL-URL:https://coe.northeastern.edu
X-WR-CALDESC:Events for Northeastern University College of Engineering
REFRESH-INTERVAL;VALUE=DURATION:PT1H
X-Robots-Tag:noindex
X-PUBLISHED-TTL:PT1H
BEGIN:VTIMEZONE
TZID:America/New_York
BEGIN:DAYLIGHT
TZOFFSETFROM:-0500
TZOFFSETTO:-0400
TZNAME:EDT
DTSTART:20230312T070000
END:DAYLIGHT
BEGIN:STANDARD
TZOFFSETFROM:-0400
TZOFFSETTO:-0500
TZNAME:EST
DTSTART:20231105T060000
END:STANDARD
BEGIN:DAYLIGHT
TZOFFSETFROM:-0500
TZOFFSETTO:-0400
TZNAME:EDT
DTSTART:20240310T070000
END:DAYLIGHT
BEGIN:STANDARD
TZOFFSETFROM:-0400
TZOFFSETTO:-0500
TZNAME:EST
DTSTART:20241103T060000
END:STANDARD
BEGIN:DAYLIGHT
TZOFFSETFROM:-0500
TZOFFSETTO:-0400
TZNAME:EDT
DTSTART:20250309T070000
END:DAYLIGHT
BEGIN:STANDARD
TZOFFSETFROM:-0400
TZOFFSETTO:-0500
TZNAME:EST
DTSTART:20251102T060000
END:STANDARD
END:VTIMEZONE
BEGIN:VEVENT
DTSTART;TZID=America/New_York:20240813T140000
DTEND;TZID=America/New_York:20240813T150000
DTSTAMP:20260424T011129
CREATED:20240820T175923Z
LAST-MODIFIED:20240820T175923Z
UID:45123-1723557600-1723561200@coe.northeastern.edu
SUMMARY:Yufei Feng MS Thesis Defense
DESCRIPTION:Name:\nYufei Feng \nTitle:\nBeam Management in Operational 5G mmWave Networks \nDate:\n8/13/2024 \nTime:\n2:00:00 PM \nCommittee Members:\nProf. Dimitrios Koutsonikolas (Advisor)\nProf. Josep Jornet\nProf. Mallesham Dasari \nAbstract:\nDue to the directional nature of mmWave signal propagation\, beam management plays a critical role in the performance of 5G mmWave deployments. However\, the details of beam management in commercial deployments and its performance in real-world scenarios remain largely unknown. In this paper\, we fill this gap by performing a comparative measurement study of the beam management procedure of two major US operator in Boston\, MA. We study a number of beamforming parameters including beamwidth\, number of beams\, beam switching delay\, and their impact on performance\, and we explore the interplay between beam management and rate adaptation. We also investigate for first time Rx beam management on the UE side. Finally\, we study the beam tracking performance and the quality of the selected beams for two operators.
URL:https://coe.northeastern.edu/event/yufei-feng-ms-thesis-defense/
END:VEVENT
BEGIN:VEVENT
DTSTART;TZID=America/New_York:20240813T160000
DTEND;TZID=America/New_York:20240813T170000
DTSTAMP:20260424T011129
CREATED:20240517T125640Z
LAST-MODIFIED:20240603T184608Z
UID:44085-1723564800-1723568400@coe.northeastern.edu
SUMMARY:LeetCode Mock Interviews – CommLab Drop-In Workshops
DESCRIPTION:Join the CommLab any Tuesday from 4-5 PM for our weekly LeetCode Mock Interview Workshop via Zoom. This workshop is tailored towards programming jobs and prior coding knowledge is expected. Boost your LeetCode problem-solving confidence for interviews by building your speaking skills while solving programming problems.
URL:https://coe.northeastern.edu/event/leetcode-mock-interviews-commlab-drop-in-workshops/2024-08-13/
END:VEVENT
END:VCALENDAR