BEGIN:VCALENDAR
VERSION:2.0
PRODID:-//Northeastern University College of Engineering - ECPv6.15.20//NONSGML v1.0//EN
CALSCALE:GREGORIAN
METHOD:PUBLISH
X-ORIGINAL-URL:https://coe.northeastern.edu
X-WR-CALDESC:Events for Northeastern University College of Engineering
REFRESH-INTERVAL;VALUE=DURATION:PT1H
X-Robots-Tag:noindex
X-PUBLISHED-TTL:PT1H
BEGIN:VTIMEZONE
TZID:America/New_York
BEGIN:DAYLIGHT
TZOFFSETFROM:-0500
TZOFFSETTO:-0400
TZNAME:EDT
DTSTART:20230312T070000
END:DAYLIGHT
BEGIN:STANDARD
TZOFFSETFROM:-0400
TZOFFSETTO:-0500
TZNAME:EST
DTSTART:20231105T060000
END:STANDARD
BEGIN:DAYLIGHT
TZOFFSETFROM:-0500
TZOFFSETTO:-0400
TZNAME:EDT
DTSTART:20240310T070000
END:DAYLIGHT
BEGIN:STANDARD
TZOFFSETFROM:-0400
TZOFFSETTO:-0500
TZNAME:EST
DTSTART:20241103T060000
END:STANDARD
BEGIN:DAYLIGHT
TZOFFSETFROM:-0500
TZOFFSETTO:-0400
TZNAME:EDT
DTSTART:20250309T070000
END:DAYLIGHT
BEGIN:STANDARD
TZOFFSETFROM:-0400
TZOFFSETTO:-0500
TZNAME:EST
DTSTART:20251102T060000
END:STANDARD
END:VTIMEZONE
BEGIN:VEVENT
DTSTART;TZID=America/New_York:20240930T150000
DTEND;TZID=America/New_York:20240930T163000
DTSTAMP:20260424T002212
CREATED:20240920T203630Z
LAST-MODIFIED:20240927T204421Z
UID:46262-1727708400-1727713800@coe.northeastern.edu
SUMMARY:Fall Semester Donuts with the COE Dean
DESCRIPTION:Join Dean Gregory Abowd to celebrate the fall semester Donuts with the Dean on Monday\, September 30th from 3:00-4:30pm in the Robinson Quad Tent near Curry Student Center. \nWe will have apple cider donuts and apple cider available! Swing by for food\, fun\, and a chance to talk to the Dean. \nWe hope to see you there! \nThis is a 100% compostable event. Please place all waste into the marked composting bins for their disposal.
URL:https://coe.northeastern.edu/event/fall-donuts-with-the-coe-dean/
LOCATION:Robinson Quad Tents\, 360 Huntington Ave\, outside Mugar\, Boston\, MA\, 02115\, United States
END:VEVENT
END:VCALENDAR