BEGIN:VCALENDAR
VERSION:2.0
PRODID:-//Northeastern University College of Engineering - ECPv6.15.20//NONSGML v1.0//EN
CALSCALE:GREGORIAN
METHOD:PUBLISH
X-ORIGINAL-URL:https://coe.northeastern.edu
X-WR-CALDESC:Events for Northeastern University College of Engineering
REFRESH-INTERVAL;VALUE=DURATION:PT1H
X-Robots-Tag:noindex
X-PUBLISHED-TTL:PT1H
BEGIN:VTIMEZONE
TZID:America/Los_Angeles
BEGIN:DAYLIGHT
TZOFFSETFROM:-0800
TZOFFSETTO:-0700
TZNAME:PDT
DTSTART:20230312T100000
END:DAYLIGHT
BEGIN:STANDARD
TZOFFSETFROM:-0700
TZOFFSETTO:-0800
TZNAME:PST
DTSTART:20231105T090000
END:STANDARD
BEGIN:DAYLIGHT
TZOFFSETFROM:-0800
TZOFFSETTO:-0700
TZNAME:PDT
DTSTART:20240310T100000
END:DAYLIGHT
BEGIN:STANDARD
TZOFFSETFROM:-0700
TZOFFSETTO:-0800
TZNAME:PST
DTSTART:20241103T090000
END:STANDARD
BEGIN:DAYLIGHT
TZOFFSETFROM:-0800
TZOFFSETTO:-0700
TZNAME:PDT
DTSTART:20250309T100000
END:DAYLIGHT
BEGIN:STANDARD
TZOFFSETFROM:-0700
TZOFFSETTO:-0800
TZNAME:PST
DTSTART:20251102T090000
END:STANDARD
END:VTIMEZONE
BEGIN:VTIMEZONE
TZID:America/New_York
BEGIN:DAYLIGHT
TZOFFSETFROM:-0500
TZOFFSETTO:-0400
TZNAME:EDT
DTSTART:20230312T070000
END:DAYLIGHT
BEGIN:STANDARD
TZOFFSETFROM:-0400
TZOFFSETTO:-0500
TZNAME:EST
DTSTART:20231105T060000
END:STANDARD
BEGIN:DAYLIGHT
TZOFFSETFROM:-0500
TZOFFSETTO:-0400
TZNAME:EDT
DTSTART:20240310T070000
END:DAYLIGHT
BEGIN:STANDARD
TZOFFSETFROM:-0400
TZOFFSETTO:-0500
TZNAME:EST
DTSTART:20241103T060000
END:STANDARD
BEGIN:DAYLIGHT
TZOFFSETFROM:-0500
TZOFFSETTO:-0400
TZNAME:EDT
DTSTART:20250309T070000
END:DAYLIGHT
BEGIN:STANDARD
TZOFFSETFROM:-0400
TZOFFSETTO:-0500
TZNAME:EST
DTSTART:20251102T060000
END:STANDARD
END:VTIMEZONE
BEGIN:VEVENT
DTSTART;VALUE=DATE:20241009
DTEND;VALUE=DATE:20241011
DTSTAMP:20260425T200327
CREATED:20240826T151115Z
LAST-MODIFIED:20240826T151115Z
UID:45304-1728432000-1728604799@coe.northeastern.edu
SUMMARY:UC San Diego Career and Professional School Fair
DESCRIPTION:Join COE Graduate Admissions at the 2024 UC San Diego Career and Professional School Fair in San Diego\, California! Ask your questions about our graduate engineering programs across the U.S. and Canada during the fair on October 9th and 10th\, 2024. We look forward to meeting you there!
URL:https://coe.northeastern.edu/event/uc-san-diego-career-and-professional-school-fair/
END:VEVENT
BEGIN:VEVENT
DTSTART;TZID=America/New_York:20241009T090000
DTEND;TZID=America/New_York:20241009T110000
DTSTAMP:20260425T200327
CREATED:20240830T155557Z
LAST-MODIFIED:20241122T164824Z
UID:45479-1728464400-1728471600@coe.northeastern.edu
SUMMARY:Graduate Student Drop-In Writing Hours
DESCRIPTION:Graduate students\, are you looking for a place for focused research writing time?  Join the CommLab drop-in writing hours any Wednesday between 9 -11 am ET.  Drop in any Wednesday and stay for a short time or two hours.  A CommLab Fellow will also be available to provide feedback on your writing.  We will be meeting in weekly in 334 Curry Student Center.  Note we will meet in 336 Curry Student Center on Wednesday\, September 25th.
URL:https://coe.northeastern.edu/event/graduate-student-drop-in-writing-hours/2024-10-09/
LOCATION:Curry Student Center\, 360 Huntington Ave.\, Boston\, MA\, 02115\, United States
GEO:42.3394629;-71.0885286
X-APPLE-STRUCTURED-LOCATION;VALUE=URI;X-ADDRESS=Curry Student Center 360 Huntington Ave. Boston MA 02115 United States;X-APPLE-RADIUS=500;X-TITLE=360 Huntington Ave.:geo:-71.0885286,42.3394629
END:VEVENT
BEGIN:VEVENT
DTSTART;TZID=America/New_York:20241009T120000
DTEND;TZID=America/New_York:20241009T120000
DTSTAMP:20260425T200327
CREATED:20240906T202233Z
LAST-MODIFIED:20241001T170357Z
UID:45653-1728475200-1728475200@coe.northeastern.edu
SUMMARY:Bioengineering Fall Seminar Series
DESCRIPTION:Wednesdays 12-1pm in 105 Shillman Hall\, unless otherwise stated. All are welcome.  \nSpeakers\n\n9/6: Sara Rouhanifard\, PhD\nAssistant Professor of Bioengineering at Northeastern University\n9/11: Mingyang Lu\, PhD\nAssistant Professor of Bioengineering at Northeastern University\n9/18: Joanna Dahl\, PhD\nAssistant Professor of Engineering at the University of Massachusetts Boston \n9/25: Stirling Churchman\, PhD\nProfessor of Genetics at Harvard Medical School\n10/2: Sujit Datta\, PhD *in collaboration with CHME* (168 SN)\nProfessor of Chemical Engineering\, Bioengineering and Biophysics at California Institute of Technology\n10/9: Yizeng Li\, PhD\nAssistant Professor of Biomedical Engineering\, Binghamton University \n10/16: Song Li\, PhD\nChancellor’s Professor and Department Chair of Bioengineering at \nthe University of California Los Angeles\n10/23: Seemantini Nadkarni\, PhD\nAssociate Professor of Dermatology at Harvard Medical School \n10/30: Ahmad “Mo” Khalil\, PhD\nProfessor of Biomedical Engineering at Boston University\n11/6: Ramkumar “Ram” Annamalai\, PhD\nAssistant Professor of Biomedical Engineering at the University at Buffalo\n11/13: Brad Hyman\, MD PhD\nJohn B. Penney\, Jr. Professor of Neurology at Harvard Medical School and Massachusetts General Hospital\n11/20: Lingchong You\, PhD\nJames L. Meriam Distinguished Professor of Biomedical Engineering and the Director of the Center for Quantitative Biodesign at Duke University\n11/27: \nNone\, Thanksgiving\n12/4: Jeffrey Moffit\, PhD\nAssistant Professor in Microbiology at Harvard Medical School\n11/6: Jeffrey Fredberg\, PhD\, *Friday*\nProfessor of Bioengineering and Physiology at Harvard School for Public Health
URL:https://coe.northeastern.edu/event/bioengineering-fall-seminar-series-2/2024-10-09/
LOCATION:105 Shillman Hall\, 360 Huntington Ave\, 105 SH\, Boston\, MA\, 02115\, United States
ORGANIZER;CN="Bioengineering":MAILTO:bioe@northeastern.edu
GEO:42.337539275041;-71.090062487079
X-APPLE-STRUCTURED-LOCATION;VALUE=URI;X-ADDRESS=105 Shillman Hall 360 Huntington Ave 105 SH Boston MA 02115 United States;X-APPLE-RADIUS=500;X-TITLE=360 Huntington Ave\, 105 SH:geo:-71.090062487079,42.337539275041
END:VEVENT
BEGIN:VEVENT
DTSTART;TZID=America/New_York:20241009T120000
DTEND;TZID=America/New_York:20241009T130000
DTSTAMP:20260425T200327
CREATED:20240806T171835Z
LAST-MODIFIED:20240916T145711Z
UID:44862-1728475200-1728478800@coe.northeastern.edu
SUMMARY:Chemical Engineering Fall Seminar Series: William Tisdale
DESCRIPTION:Hybrid Semiconductor Nanomaterials \nLocation: 305 Shillman Hall \nAbstract: Hybrid organic-inorganic semiconductor nanomaterials – including colloidal quantum dots (QDs)\, 2D halide perovskites\, and metal-organic chalcogenolates (MOCs) – are excitonic materials with applications ranging from solar cells to light-emitting devices to quantum computing and quantum cryptography. In these emerging materials\, the combination of quantum and dielectric confinement\, strong exciton-phonon coupling\, and dimensionality reduction offer unprecedented opportunities for controlling light-matter-charge interactions through chemistry. In this talk\, I will describe recent work from my lab on the synthesis of hybrid semiconductor nanomaterials and our evolving understanding of how structure and chemical functionalization influence excited state dynamics. Using a combination of ultrafast laser spectroscopy\, time-resolved optical microscopy\, and kinetic modeling\, we will explore the impact of nonequilibrium population dynamics on excited state transport phenomena and the emergence of unique electronic and vibrational phenomena. \n\nWill Tisdale is the Warren K. Lewis Professor of Chemical Engineering at MIT\, where he has been teaching and leading a research team since 2012. His research program is focused on the discovery of hybrid organic-inorganic nanomaterials capable of transporting energy in new ways\, and on the use and development of ultrafast laser spectroscopy methods and advanced optical microscopy techniques for probing dynamics at the nanoscale. Will’s contributions to research have been recognized by the Presidential Early Career Award for Scientists and Engineers (PECASE)\, an Alfred P. Sloan Fellowship\, the Camille Dreyfus Teacher-Scholar Award\, the DOE Early Career Award\, the NSF CAREER Award\, the AIChE NSEF Young Investigator Award\, and a 3M Non-Tenured Faculty Award. \nFor his dedication to undergraduate teaching Will has received MIT’s highest honor\, the MacVicar Fellowship\, as well as the student-selected Baker Award\, the School of Engineering’s Amare Bose Award\, and he is a 7-time recipient of the C. Michael Mohr Undergraduate Teaching Award\, which is voted annually by the Chemical Engineering undergraduate students at MIT. Will graduated magna cum laude from the University of Delaware in 2005\, earning an Honors B.S. in Chemical Engineering\, with Distinction\, and minoring in Economics. He earned a Ph.D. in Chemical Engineering at the University of Minnesota in 2010\, then studied as a postdoctoral associate in the Research Laboratory of Electronics at MIT before joining the faculty in Chemical Engineering in 2012. \n 
URL:https://coe.northeastern.edu/event/chemical-engineering-fall-seminar-series-william-tisdale/
LOCATION:305 Shillman\, 360 Huntington Ave\, 305 Shillman\, Boston\, MA\, 02115\, United States
END:VEVENT
BEGIN:VEVENT
DTSTART;TZID=America/New_York:20241009T120000
DTEND;TZID=America/New_York:20241009T130000
DTSTAMP:20260425T200327
CREATED:20240919T211327Z
LAST-MODIFIED:20240919T211403Z
UID:46245-1728475200-1728478800@coe.northeastern.edu
SUMMARY:UPLIFT 2024 - First Year Research Program
DESCRIPTION:The UPLIFT program is an academic year research program for first-year students across the College of Engineering. In the fall\, students are invited to attend a series of research seminars hosted by faculty. In the spring\, selected UPLIFT Students engage directly with CoE Faculty members to conduct research\, ~3-5 hours each week. Students are then encouraged to apply for an REU experience in the summer (Links: NSF REU Search | ETAPS REU Applications). Additional support (office hours\, monthly networking meetings\, and research support) is provided by the Center for STEM Education. \nIf you are a first-year COE student and interested in attending UPLIFT seminars in the Fall of 2024 (a requirement to apply for the program)\, please RSVP here:\nhttps://www.surveymonkey.com/r/UPLIFT2024-RSVP \nFall 2024 Seminar Schedule:\n(Tu) September 24 @ Snell Eng. 168:\nFrancisco Hung (CoE ChemE): Computational Development of Liposomes with Tailored Mechanical Properties \n(W) October 9 @ Snell Eng. 168:\nOzan Ozdemir (CoE MIE): Cold Spray and Wire Arc Additive Manufacturing Process Research \n(Tu) October 22 @ Snell Eng. 168:\nDamilola Daramola (CoE ChemE): Critical Materials from Waste Solids \n(W) November 6 @ Churchill 103:\nEric Anderson (CoE ECE)*: Resilient Communication Systems for Emergency Responders \n(Tu) November 12 @ Snell Eng. 168:\nPaul Stevenson (CoS Physics): Quantum Sensing with Defective Diamonds \n(W) December 4 @ Snell Eng. 168\nJacqueline McCleary (CoS Physics)*: Dust and Dark Matter at Megalight-year Scales \n* = to be confirmed
URL:https://coe.northeastern.edu/event/uplift-2024-first-year-research-program/2024-10-09/
LOCATION:168 SN\, 360 Huntington Ave\, Boston\, MA\, 02115\, United States
CATEGORIES:use the department, audience, and topic lists
ORGANIZER;CN="Michael B. Silevitch and Claire J. Duggan Center for STEM Education":MAILTO:stem@northeastern.edu
END:VEVENT
BEGIN:VEVENT
DTSTART;TZID=America/New_York:20241009T150000
DTEND;TZID=America/New_York:20241009T160000
DTSTAMP:20260425T200327
CREATED:20240830T155658Z
LAST-MODIFIED:20240830T155658Z
UID:45471-1728486000-1728489600@coe.northeastern.edu
SUMMARY:Graduate Student Fellowship Writing Club
DESCRIPTION:Join the NU CommLab and NetSI sponsored weekly graduate student fellowship writing club for support in writing your fellowship application!  The fellowship writing club meets virtually on Wednesdays from 3-4 pm from September 4 – October 16.  We will offer you an opportunity to ask questions to faculty\, staff and students who have reviewed\, mentored or applied and received fellowships.  We will provide fellowship writing tips and guidance as well as offer writing and draft review sessions.  Register to join our Zoom Sessions.
URL:https://coe.northeastern.edu/event/graduate-student-fellowship-writing-club/2024-10-09/
END:VEVENT
BEGIN:VEVENT
DTSTART;TZID=America/New_York:20241009T173000
DTEND;TZID=America/New_York:20241009T183000
DTSTAMP:20260425T200327
CREATED:20240905T155615Z
LAST-MODIFIED:20240905T155615Z
UID:45591-1728495000-1728498600@coe.northeastern.edu
SUMMARY:Gordon Institute Virtual Information Session
DESCRIPTION:Learn how you can earn a Graduate Certificate in Engineering Leadership as a stand-alone certificate or in combination with one of twenty-three Master of Science degrees offered through Northeastern’s College of Engineering\, College of Science\, or Khoury College of Computer Sciences. \nThe National Academy of Engineering recognized The Gordon Institute of Engineering Leadership (GIEL) for its innovative curriculum\, which combines technical education\, leadership capabilities\, and the “Challenge Project”—an opportunity for students to receive master’ s-level credit while working in industry. \nBy aligning technical proficiency with leadership capabilities\, GIEL accelerates the development of high-potential engineers and prepares them to lead complex projects early in their careers. Upon completing the program\, more than 88% of the 2022 class reported increased leadership responsibility\, while more than 50% of the 2022 class reported being promoted within one year of graduation. \nOur Director of Admissions will answer your application questions for Fall 2025. \nYou will have the opportunity to hear from alumni about how The Gordon Institute propelled their engineering careers. Program professors will also be present to answer curriculum questions.
URL:https://coe.northeastern.edu/event/gordon-institute-virtual-information-session-26/
ORGANIZER;CN="Gordon Engineering Leadership program":MAILTO:gordonleadership@northeastern.edu
END:VEVENT
END:VCALENDAR