BEGIN:VCALENDAR
VERSION:2.0
PRODID:-//Northeastern University College of Engineering - ECPv6.15.18//NONSGML v1.0//EN
CALSCALE:GREGORIAN
METHOD:PUBLISH
X-WR-CALNAME:Northeastern University College of Engineering
X-ORIGINAL-URL:https://coe.northeastern.edu
X-WR-CALDESC:Events for Northeastern University College of Engineering
REFRESH-INTERVAL;VALUE=DURATION:PT1H
X-Robots-Tag:noindex
X-PUBLISHED-TTL:PT1H
BEGIN:VTIMEZONE
TZID:America/New_York
BEGIN:DAYLIGHT
TZOFFSETFROM:-0500
TZOFFSETTO:-0400
TZNAME:EDT
DTSTART:20230312T070000
END:DAYLIGHT
BEGIN:STANDARD
TZOFFSETFROM:-0400
TZOFFSETTO:-0500
TZNAME:EST
DTSTART:20231105T060000
END:STANDARD
BEGIN:DAYLIGHT
TZOFFSETFROM:-0500
TZOFFSETTO:-0400
TZNAME:EDT
DTSTART:20240310T070000
END:DAYLIGHT
BEGIN:STANDARD
TZOFFSETFROM:-0400
TZOFFSETTO:-0500
TZNAME:EST
DTSTART:20241103T060000
END:STANDARD
BEGIN:DAYLIGHT
TZOFFSETFROM:-0500
TZOFFSETTO:-0400
TZNAME:EDT
DTSTART:20250309T070000
END:DAYLIGHT
BEGIN:STANDARD
TZOFFSETFROM:-0400
TZOFFSETTO:-0500
TZNAME:EST
DTSTART:20251102T060000
END:STANDARD
END:VTIMEZONE
BEGIN:VEVENT
DTSTART;VALUE=DATE:20241030
DTEND;VALUE=DATE:20241104
DTSTAMP:20260421T023410
CREATED:20240826T151255Z
LAST-MODIFIED:20240826T151255Z
UID:45311-1730246400-1730678399@coe.northeastern.edu
SUMMARY:Society of Hispanic Professional Engineers 2024 Conference
DESCRIPTION:Join COE Graduate Admissions at the 2024 Society of Hispanic Professional Engineers Conference in Anaheim\, California! Ask your questions about our graduate engineering programs across the U.S. and Canada during the conference from October 30th to November 3rd\, 2024. We look forward to meeting you there!
URL:https://coe.northeastern.edu/event/society-of-hispanic-professional-engineers-2024-conference/
ORGANIZER;CN="Graduate School of Engineering":MAILTO:coe-gradadmissions@northeastern.edu
END:VEVENT
BEGIN:VEVENT
DTSTART;TZID=America/New_York:20241030T090000
DTEND;TZID=America/New_York:20241030T110000
DTSTAMP:20260421T023410
CREATED:20240830T155557Z
LAST-MODIFIED:20241122T164825Z
UID:45482-1730278800-1730286000@coe.northeastern.edu
SUMMARY:Graduate Student Drop-In Writing Hours
DESCRIPTION:Graduate students\, are you looking for a place for focused research writing time?  Join the CommLab drop-in writing hours any Wednesday between 9 -11 am ET.  Drop in any Wednesday and stay for a short time or two hours.  A CommLab Fellow will also be available to provide feedback on your writing.  We will be meeting in weekly in 334 Curry Student Center.  Note we will meet in 336 Curry Student Center on Wednesday\, September 25th.
URL:https://coe.northeastern.edu/event/graduate-student-drop-in-writing-hours/2024-10-30/
LOCATION:Curry Student Center\, 360 Huntington Ave.\, Boston\, MA\, 02115\, United States
GEO:42.3394629;-71.0885286
X-APPLE-STRUCTURED-LOCATION;VALUE=URI;X-ADDRESS=Curry Student Center 360 Huntington Ave. Boston MA 02115 United States;X-APPLE-RADIUS=500;X-TITLE=360 Huntington Ave.:geo:-71.0885286,42.3394629
END:VEVENT
BEGIN:VEVENT
DTSTART;TZID=America/New_York:20241030T120000
DTEND;TZID=America/New_York:20241030T120000
DTSTAMP:20260421T023410
CREATED:20240906T202233Z
LAST-MODIFIED:20241001T170358Z
UID:45656-1730289600-1730289600@coe.northeastern.edu
SUMMARY:Bioengineering Fall Seminar Series
DESCRIPTION:Wednesdays 12-1pm in 105 Shillman Hall\, unless otherwise stated. All are welcome.  \nSpeakers\n\n9/6: Sara Rouhanifard\, PhD\nAssistant Professor of Bioengineering at Northeastern University\n9/11: Mingyang Lu\, PhD\nAssistant Professor of Bioengineering at Northeastern University\n9/18: Joanna Dahl\, PhD\nAssistant Professor of Engineering at the University of Massachusetts Boston \n9/25: Stirling Churchman\, PhD\nProfessor of Genetics at Harvard Medical School\n10/2: Sujit Datta\, PhD *in collaboration with CHME* (168 SN)\nProfessor of Chemical Engineering\, Bioengineering and Biophysics at California Institute of Technology\n10/9: Yizeng Li\, PhD\nAssistant Professor of Biomedical Engineering\, Binghamton University \n10/16: Song Li\, PhD\nChancellor’s Professor and Department Chair of Bioengineering at \nthe University of California Los Angeles\n10/23: Seemantini Nadkarni\, PhD\nAssociate Professor of Dermatology at Harvard Medical School \n10/30: Ahmad “Mo” Khalil\, PhD\nProfessor of Biomedical Engineering at Boston University\n11/6: Ramkumar “Ram” Annamalai\, PhD\nAssistant Professor of Biomedical Engineering at the University at Buffalo\n11/13: Brad Hyman\, MD PhD\nJohn B. Penney\, Jr. Professor of Neurology at Harvard Medical School and Massachusetts General Hospital\n11/20: Lingchong You\, PhD\nJames L. Meriam Distinguished Professor of Biomedical Engineering and the Director of the Center for Quantitative Biodesign at Duke University\n11/27: \nNone\, Thanksgiving\n12/4: Jeffrey Moffit\, PhD\nAssistant Professor in Microbiology at Harvard Medical School\n11/6: Jeffrey Fredberg\, PhD\, *Friday*\nProfessor of Bioengineering and Physiology at Harvard School for Public Health
URL:https://coe.northeastern.edu/event/bioengineering-fall-seminar-series-2/2024-10-30/
LOCATION:105 Shillman Hall\, 360 Huntington Ave\, 105 SH\, Boston\, MA\, 02115\, United States
ORGANIZER;CN="Bioengineering":MAILTO:bioe@northeastern.edu
GEO:42.337539275041;-71.090062487079
X-APPLE-STRUCTURED-LOCATION;VALUE=URI;X-ADDRESS=105 Shillman Hall 360 Huntington Ave 105 SH Boston MA 02115 United States;X-APPLE-RADIUS=500;X-TITLE=360 Huntington Ave\, 105 SH:geo:-71.090062487079,42.337539275041
END:VEVENT
BEGIN:VEVENT
DTSTART;TZID=America/New_York:20241030T170000
DTEND;TZID=America/New_York:20241030T190000
DTSTAMP:20260421T023410
CREATED:20241021T203929Z
LAST-MODIFIED:20241021T203929Z
UID:47396-1730307600-1730314800@coe.northeastern.edu
SUMMARY:NAI Fall Meeting
DESCRIPTION:Discover the latest innovations\, trends\, and breakthroughs that are shaping the future of clean energy. Whether you’re a student\, professional\, or simply curious about cutting-edge technology\, this event is your gateway to understanding how these advancements are revolutionizing the energy landscape. Don’t miss out on this chance to network with experts and gain valuable insights into the world of sustainable energy solutions. \n​Join us at the Curry Student Center Ballroom Wednesday October 30th\, 2024\, 5-7pm.
URL:https://coe.northeastern.edu/event/nai-fall-meeting/
LOCATION:Curry Student Center\, 360 Huntington Ave.\, Boston\, MA\, 02115\, United States
GEO:42.3394629;-71.0885286
X-APPLE-STRUCTURED-LOCATION;VALUE=URI;X-ADDRESS=Curry Student Center 360 Huntington Ave. Boston MA 02115 United States;X-APPLE-RADIUS=500;X-TITLE=360 Huntington Ave.:geo:-71.0885286,42.3394629
END:VEVENT
END:VCALENDAR