BEGIN:VCALENDAR
VERSION:2.0
PRODID:-//Northeastern University College of Engineering - ECPv6.15.18//NONSGML v1.0//EN
CALSCALE:GREGORIAN
METHOD:PUBLISH
X-WR-CALNAME:Northeastern University College of Engineering
X-ORIGINAL-URL:https://coe.northeastern.edu
X-WR-CALDESC:Events for Northeastern University College of Engineering
REFRESH-INTERVAL;VALUE=DURATION:PT1H
X-Robots-Tag:noindex
X-PUBLISHED-TTL:PT1H
BEGIN:VTIMEZONE
TZID:America/New_York
BEGIN:DAYLIGHT
TZOFFSETFROM:-0500
TZOFFSETTO:-0400
TZNAME:EDT
DTSTART:20240310T070000
END:DAYLIGHT
BEGIN:STANDARD
TZOFFSETFROM:-0400
TZOFFSETTO:-0500
TZNAME:EST
DTSTART:20241103T060000
END:STANDARD
BEGIN:DAYLIGHT
TZOFFSETFROM:-0500
TZOFFSETTO:-0400
TZNAME:EDT
DTSTART:20250309T070000
END:DAYLIGHT
BEGIN:STANDARD
TZOFFSETFROM:-0400
TZOFFSETTO:-0500
TZNAME:EST
DTSTART:20251102T060000
END:STANDARD
BEGIN:DAYLIGHT
TZOFFSETFROM:-0500
TZOFFSETTO:-0400
TZNAME:EDT
DTSTART:20260308T070000
END:DAYLIGHT
BEGIN:STANDARD
TZOFFSETFROM:-0400
TZOFFSETTO:-0500
TZNAME:EST
DTSTART:20261101T060000
END:STANDARD
END:VTIMEZONE
BEGIN:VEVENT
DTSTART;TZID=America/New_York:20250109T190000
DTEND;TZID=America/New_York:20250215T190000
DTSTAMP:20260421T131546
CREATED:20250110T162749Z
LAST-MODIFIED:20250110T162749Z
UID:48664-1736449200-1739646000@coe.northeastern.edu
SUMMARY:Elderly Action Recognition Challenge at WACV2025
DESCRIPTION:Are you ready to make a real-world impact with your AI models? The EAR Challenge\, part of the prestigious Computer Vision for Smalls Workshop at WACV 2025\, is now open for registration! \n💡 Why Join? \nThis challenge is more than just a competition; it’s a mission to advance the recognition of the Activities of Daily Living (ADLs) for the elderly. Your innovations can improve safety and enhance quality of life\, paving the way for groundbreaking advancements in computer vision. \n🎯 Your Objective: \nStart with a general human action recognition benchmark and fine-tune your models on a specialized dataset of elderly-specific activities using transfer learning. Show us your robust\, adaptable\, and scalable solutions in real-world scenarios! \n📅 Important Dates: \n\nSubmission Deadline: February 15\, 2025\n\n🔗 Register Now and learn more\n#️⃣ Discord Channel\n🛠️ Workshop Page \n👥 Who Can Participate? \nEveryone is welcome\, whether you’re from academia\, industry\, or a student passionate about advancing AI for the societal good. \nProudly sponsored by Voxel51\, this is your chance to innovate\, collaborate\, and make a difference. Let’s come together to improve elderly care with cutting-edge AI solutions!
URL:https://coe.northeastern.edu/event/elderly-action-recognition-challenge-at-wacv2025/
END:VEVENT
BEGIN:VEVENT
DTSTART;TZID=America/New_York:20250203T090000
DTEND;TZID=America/New_York:20250203T100000
DTSTAMP:20260421T131546
CREATED:20250127T144312Z
LAST-MODIFIED:20250127T144312Z
UID:48910-1738573200-1738576800@coe.northeastern.edu
SUMMARY:CommLab Scientific Oral Communication Practice Drop-In Series
DESCRIPTION:The NU CommLab is hosting a weekly virtual Scientific Oral Communication Drop-in practice for graduate students. Drop-in virtually any week to practice for your upcoming oral exams\, proposals\, thesis\, dissertation or talks. Receive and implement feedback on your verbal and non-verbal public speaking skills. Register through Zoom.
URL:https://coe.northeastern.edu/event/commlab-scientific-oral-communication-practice-drop-in-series/2025-02-03/
LOCATION:https://northeastern.zoom.us/meeting/register/Z5yCbd9WQ_OvtJoYqYSsMA
END:VEVENT
BEGIN:VEVENT
DTSTART;TZID=America/New_York:20250203T120000
DTEND;TZID=America/New_York:20250203T130000
DTSTAMP:20260421T131546
CREATED:20250129T214651Z
LAST-MODIFIED:20250129T214651Z
UID:49061-1738584000-1738587600@coe.northeastern.edu
SUMMARY:Library Webinar: Introduction to Citation Managers
DESCRIPTION:Learn how to manage your references\, organize your research\, and quickly create citations and bibliographies using a citation management program. The session will cover: an introduction to EndNote\, Refworks\, Zotero\, and Mendeley; similarities and differences between different citation management programs; how to choose the right citation manager for you; and how to install and use a citation manager. \nYou will receive the Zoom link for this webinar via email one hour before the event. \nThis workshop is at 12:00pm Eastern Time. \nRegistration is required. Register at: bit.ly/citationmgmtworkshops \nRelated LibGuide: Citations and Bibliographies
URL:https://coe.northeastern.edu/event/library-webinar-introduction-to-citation-managers-11/
LOCATION:
END:VEVENT
BEGIN:VEVENT
DTSTART;TZID=America/New_York:20250203T120000
DTEND;TZID=America/New_York:20250203T150000
DTSTAMP:20260421T131546
CREATED:20250127T205215Z
LAST-MODIFIED:20250127T205215Z
UID:48977-1738584000-1738594800@coe.northeastern.edu
SUMMARY:Northeastern University Graduate Fair 2025
DESCRIPTION:Meet with representatives from our colleges and campuses to explore the best graduate program to help you achieve your career goals.\nDiscover the benefits of our global campus network in the U.S.\, U.K.\, and Canada.\nLearn more about the Double Husky Scholarship\, a 25% tuition discount on more than 120 eligible programs.
URL:https://coe.northeastern.edu/event/northeastern-university-graduate-fair-2025/
LOCATION:Curry Student Center\, 360 Huntington Ave.\, Boston\, MA\, 02115\, United States
GEO:42.3394629;-71.0885286
X-APPLE-STRUCTURED-LOCATION;VALUE=URI;X-ADDRESS=Curry Student Center 360 Huntington Ave. Boston MA 02115 United States;X-APPLE-RADIUS=500;X-TITLE=360 Huntington Ave.:geo:-71.0885286,42.3394629
END:VEVENT
END:VCALENDAR