BEGIN:VCALENDAR
VERSION:2.0
PRODID:-//Northeastern University College of Engineering - ECPv6.15.20//NONSGML v1.0//EN
CALSCALE:GREGORIAN
METHOD:PUBLISH
X-ORIGINAL-URL:https://coe.northeastern.edu
X-WR-CALDESC:Events for Northeastern University College of Engineering
REFRESH-INTERVAL;VALUE=DURATION:PT1H
X-Robots-Tag:noindex
X-PUBLISHED-TTL:PT1H
BEGIN:VTIMEZONE
TZID:America/New_York
BEGIN:DAYLIGHT
TZOFFSETFROM:-0500
TZOFFSETTO:-0400
TZNAME:EDT
DTSTART:20240310T070000
END:DAYLIGHT
BEGIN:STANDARD
TZOFFSETFROM:-0400
TZOFFSETTO:-0500
TZNAME:EST
DTSTART:20241103T060000
END:STANDARD
BEGIN:DAYLIGHT
TZOFFSETFROM:-0500
TZOFFSETTO:-0400
TZNAME:EDT
DTSTART:20250309T070000
END:DAYLIGHT
BEGIN:STANDARD
TZOFFSETFROM:-0400
TZOFFSETTO:-0500
TZNAME:EST
DTSTART:20251102T060000
END:STANDARD
BEGIN:DAYLIGHT
TZOFFSETFROM:-0500
TZOFFSETTO:-0400
TZNAME:EDT
DTSTART:20260308T070000
END:DAYLIGHT
BEGIN:STANDARD
TZOFFSETFROM:-0400
TZOFFSETTO:-0500
TZNAME:EST
DTSTART:20261101T060000
END:STANDARD
END:VTIMEZONE
BEGIN:VEVENT
DTSTART;VALUE=DATE:20250506
DTEND;VALUE=DATE:20250508
DTSTAMP:20260425T074331
CREATED:20250127T214315Z
LAST-MODIFIED:20250127T214315Z
UID:48967-1746489600-1746662399@coe.northeastern.edu
SUMMARY:Women in Tech USA
DESCRIPTION:Join the Graduate Admissions team at the Women in Tech USA conference in National Harbor\, MD. Connect with us throughout the event to learn more about our graduate engineering programs offered across the globe\, especially our Arlington\, VA campus!
URL:https://coe.northeastern.edu/event/women-in-tech-usa/
ORGANIZER;CN="Graduate School of Engineering":MAILTO:coe-gradadmissions@northeastern.edu
END:VEVENT
BEGIN:VEVENT
DTSTART;TZID=America/New_York:20250506T100000
DTEND;TZID=America/New_York:20250506T120000
DTSTAMP:20260425T074331
CREATED:20250106T144443Z
LAST-MODIFIED:20250106T144443Z
UID:48187-1746525600-1746532800@coe.northeastern.edu
SUMMARY:Graduate Student Virtual Drop-In Proposal Writing Hours
DESCRIPTION:Graduate students\, are you looking for support in writing your dissertation or research proposal?  Join the CommLab virtual drop-in writing hours any Tuesday between 10 am -12 pm ET and stay for a short time or the whole two hours.  A CommLab Fellow will be available to help you set writing goals and provide feedback on your writing.  We will be meeting weekly on Zoom.
URL:https://coe.northeastern.edu/event/graduate-student-virtual-drop-in-proposal-writing-hours/2025-05-06/
END:VEVENT
END:VCALENDAR