BEGIN:VCALENDAR
VERSION:2.0
PRODID:-//Northeastern University College of Engineering - ECPv6.15.18//NONSGML v1.0//EN
CALSCALE:GREGORIAN
METHOD:PUBLISH
X-WR-CALNAME:Northeastern University College of Engineering
X-ORIGINAL-URL:https://coe.northeastern.edu
X-WR-CALDESC:Events for Northeastern University College of Engineering
REFRESH-INTERVAL;VALUE=DURATION:PT1H
X-Robots-Tag:noindex
X-PUBLISHED-TTL:PT1H
BEGIN:VTIMEZONE
TZID:America/New_York
BEGIN:DAYLIGHT
TZOFFSETFROM:-0500
TZOFFSETTO:-0400
TZNAME:EDT
DTSTART:20240310T070000
END:DAYLIGHT
BEGIN:STANDARD
TZOFFSETFROM:-0400
TZOFFSETTO:-0500
TZNAME:EST
DTSTART:20241103T060000
END:STANDARD
BEGIN:DAYLIGHT
TZOFFSETFROM:-0500
TZOFFSETTO:-0400
TZNAME:EDT
DTSTART:20250309T070000
END:DAYLIGHT
BEGIN:STANDARD
TZOFFSETFROM:-0400
TZOFFSETTO:-0500
TZNAME:EST
DTSTART:20251102T060000
END:STANDARD
BEGIN:DAYLIGHT
TZOFFSETFROM:-0500
TZOFFSETTO:-0400
TZNAME:EDT
DTSTART:20260308T070000
END:DAYLIGHT
BEGIN:STANDARD
TZOFFSETFROM:-0400
TZOFFSETTO:-0500
TZNAME:EST
DTSTART:20261101T060000
END:STANDARD
END:VTIMEZONE
BEGIN:VEVENT
DTSTART;TZID=America/New_York:20250909T090000
DTEND;TZID=America/New_York:20250909T110000
DTSTAMP:20260421T161256
CREATED:20250908T134713Z
LAST-MODIFIED:20250908T135559Z
UID:53371-1757408400-1757415600@coe.northeastern.edu
SUMMARY:Graduate Student Writing: CommLab Drop-In Writing Hours
DESCRIPTION:Graduate students\, are you looking for a time for focused research writing?  Join the CommLab drop-in writing hours on any Tuesday between 9 -11 am ET.  Drop in on any Tuesday and stay for a short time or two hours.  A CommLab Fellow will be available to provide feedback on your writing.  We will be meeting virtually on Zoom.
URL:https://coe.northeastern.edu/event/graduate-student-writing-commlab-drop-in-writing-hours-2/2025-09-09/
LOCATION:https://northeastern.zoom.us/j/95748947707?pwd=ajJMUYNZ9I0u8hoe5z5dyuPpBQWenI.1
END:VEVENT
BEGIN:VEVENT
DTSTART;TZID=America/New_York:20250909T110000
DTEND;TZID=America/New_York:20250909T120000
DTSTAMP:20260421T161256
CREATED:20250908T134503Z
LAST-MODIFIED:20250908T134503Z
UID:53341-1757415600-1757419200@coe.northeastern.edu
SUMMARY:LinkedIn\, CV\, Resume: CommLab Drop-In Hours
DESCRIPTION:Graduate students\, do you need to increase your on-line presence or update your CV or Resume?  Join the CommLab’s LinkedIn\, CV\, and Resume drop-in workshops any Tuesday from 11 pm to 12 pm ET. This collaborative space offers valuable advice and peer feedback to enhance your online profile and professional presence. Join this drop-in workshop through Zoom.
URL:https://coe.northeastern.edu/event/linkedin-cv-resume-commlab-drop-in-hours-2/2025-09-09/
LOCATION:https://coe.northeastern.edu/event/linkedin-cv-resume-commlab-drop-in-hours-2/2025-09-09/
END:VEVENT
END:VCALENDAR