BEGIN:VCALENDAR
VERSION:2.0
PRODID:-//Northeastern University College of Engineering - ECPv6.15.18//NONSGML v1.0//EN
CALSCALE:GREGORIAN
METHOD:PUBLISH
X-WR-CALNAME:Northeastern University College of Engineering
X-ORIGINAL-URL:https://coe.northeastern.edu
X-WR-CALDESC:Events for Northeastern University College of Engineering
REFRESH-INTERVAL;VALUE=DURATION:PT1H
X-Robots-Tag:noindex
X-PUBLISHED-TTL:PT1H
BEGIN:VTIMEZONE
TZID:America/New_York
BEGIN:DAYLIGHT
TZOFFSETFROM:-0500
TZOFFSETTO:-0400
TZNAME:EDT
DTSTART:20240310T070000
END:DAYLIGHT
BEGIN:STANDARD
TZOFFSETFROM:-0400
TZOFFSETTO:-0500
TZNAME:EST
DTSTART:20241103T060000
END:STANDARD
BEGIN:DAYLIGHT
TZOFFSETFROM:-0500
TZOFFSETTO:-0400
TZNAME:EDT
DTSTART:20250309T070000
END:DAYLIGHT
BEGIN:STANDARD
TZOFFSETFROM:-0400
TZOFFSETTO:-0500
TZNAME:EST
DTSTART:20251102T060000
END:STANDARD
BEGIN:DAYLIGHT
TZOFFSETFROM:-0500
TZOFFSETTO:-0400
TZNAME:EDT
DTSTART:20260308T070000
END:DAYLIGHT
BEGIN:STANDARD
TZOFFSETFROM:-0400
TZOFFSETTO:-0500
TZNAME:EST
DTSTART:20261101T060000
END:STANDARD
END:VTIMEZONE
BEGIN:VEVENT
DTSTART;TZID=America/New_York:20250923T090000
DTEND;TZID=America/New_York:20250923T110000
DTSTAMP:20260421T154602
CREATED:20250908T134713Z
LAST-MODIFIED:20250908T134713Z
UID:53421-1758618000-1758625200@coe.northeastern.edu
SUMMARY:Graduate Student Writing: CommLab Drop-In Writing Hours
DESCRIPTION:Graduate students\, are you looking for a time for focused research writing?  Join the CommLab drop-in writing hours on any Tuesday between 9 -11 am ET.  Drop in on any Tuesday and stay for a short time or two hours.  A CommLab Fellow will be available to provide feedback on your writing.  We will be meeting virtually on Zoom.
URL:https://coe.northeastern.edu/event/graduate-student-writing-commlab-drop-in-writing-hours-2/2025-09-23/
LOCATION:https://northeastern.zoom.us/j/95748947707?pwd=ajJMUYNZ9I0u8hoe5z5dyuPpBQWenI.1
END:VEVENT
BEGIN:VEVENT
DTSTART;TZID=America/New_York:20250923T110000
DTEND;TZID=America/New_York:20250923T120000
DTSTAMP:20260421T154602
CREATED:20250818T140421Z
LAST-MODIFIED:20250818T140421Z
UID:53012-1758625200-1758628800@coe.northeastern.edu
SUMMARY:Start Smart: Foundations of Evidence Synthesis
DESCRIPTION:This Fall\, the Library will be running a virtual workshop series on conducting evidence syntheses. The workshop series will focus on planning for and embarking on an evidence synthesis project. The intended audience includes faculty\, staff researchers\, postdocs\, and graduate students. The workshop series will comprise of 5 one-hour-length virtual sessions on the following dates\, all at 11 AM Eastern time: \n\nSeptember 16: Session 1: Overview of evidence syntheses types\, tips for managing a project\nSeptember 23: Session 2: Methods & automation\nSeptember 30: Session 3: Protocols & planning\nOctober 28: Session 4: Searching\nNovember 18: Session 5: Covidence & tips for the next stages\n\nLearn more and register for the workshop series here.
URL:https://coe.northeastern.edu/event/start-smart-foundations-of-evidence-synthesis/2025-09-23/
END:VEVENT
BEGIN:VEVENT
DTSTART;TZID=America/New_York:20250923T110000
DTEND;TZID=America/New_York:20250923T120000
DTSTAMP:20260421T154602
CREATED:20250908T134504Z
LAST-MODIFIED:20250908T134504Z
UID:53344-1758625200-1758628800@coe.northeastern.edu
SUMMARY:LinkedIn\, CV\, Resume: CommLab Drop-In Hours
DESCRIPTION:Graduate students\, do you need to increase your on-line presence or update your CV or Resume?  Join the CommLab’s LinkedIn\, CV\, and Resume drop-in workshops any Tuesday from 11 pm to 12 pm ET. This collaborative space offers valuable advice and peer feedback to enhance your online profile and professional presence. Join this drop-in workshop through Zoom.
URL:https://coe.northeastern.edu/event/linkedin-cv-resume-commlab-drop-in-hours-2/2025-09-23/
LOCATION:https://coe.northeastern.edu/event/linkedin-cv-resume-commlab-drop-in-hours-2/2025-09-23/
END:VEVENT
BEGIN:VEVENT
DTSTART;TZID=America/New_York:20250923T120000
DTEND;TZID=America/New_York:20250923T130000
DTSTAMP:20260421T154602
CREATED:20250905T203129Z
LAST-MODIFIED:20250905T203129Z
UID:53227-1758628800-1758632400@coe.northeastern.edu
SUMMARY:Library Webinar: Introduction to Citation Managers
DESCRIPTION:Learn how to manage your references\, organize your research and quickly create citations and bibliographies using a citation management program. The session will cover: an introduction to EndNote\, Refworks\, Zotero and Mendeley; similarities and differences between different citation management programs; how to choose the right citation manager for you; and how to install and use a citation manager. \nRegistration required. \nYou will receive the Zoom link for this webinar via email one hour before the event.
URL:https://coe.northeastern.edu/event/library-webinar-introduction-to-citation-managers-14/
END:VEVENT
BEGIN:VEVENT
DTSTART;TZID=America/New_York:20250923T170000
DTEND;TZID=America/New_York:20250923T183000
DTSTAMP:20260421T154602
CREATED:20250812T173142Z
LAST-MODIFIED:20250812T173142Z
UID:52951-1758646800-1758652200@coe.northeastern.edu
SUMMARY:AI Essentials with MATLAB: A Hands-On Introduction
DESCRIPTION:Join us for a practical introduction to artificial intelligence (AI)\, designed specifically for beginners. In this 90-minute online session\, you’ll explore the essential concepts behind AI and machine learning\, and learn how to apply them using approachable tools and workflows. Through hands-on exercises\, you’ll see how AI techniques are used in real-world data science scenarios. \nDuring this training\, you will: \n\nGrasp the fundamental concepts and terminology of AI and machine learning\nBuild and evaluate simple supervised learning models\, such as regression and classification in MATLAB\nVisualize model results and assess their performance
URL:https://coe.northeastern.edu/event/ai-essentials-with-matlab-a-hands-on-introduction/
END:VEVENT
END:VCALENDAR