BEGIN:VCALENDAR
VERSION:2.0
PRODID:-//Northeastern University College of Engineering - ECPv6.15.18//NONSGML v1.0//EN
CALSCALE:GREGORIAN
METHOD:PUBLISH
X-WR-CALNAME:Northeastern University College of Engineering
X-ORIGINAL-URL:https://coe.northeastern.edu
X-WR-CALDESC:Events for Northeastern University College of Engineering
REFRESH-INTERVAL;VALUE=DURATION:PT1H
X-Robots-Tag:noindex
X-PUBLISHED-TTL:PT1H
BEGIN:VTIMEZONE
TZID:America/New_York
BEGIN:DAYLIGHT
TZOFFSETFROM:-0500
TZOFFSETTO:-0400
TZNAME:EDT
DTSTART:20240310T070000
END:DAYLIGHT
BEGIN:STANDARD
TZOFFSETFROM:-0400
TZOFFSETTO:-0500
TZNAME:EST
DTSTART:20241103T060000
END:STANDARD
BEGIN:DAYLIGHT
TZOFFSETFROM:-0500
TZOFFSETTO:-0400
TZNAME:EDT
DTSTART:20250309T070000
END:DAYLIGHT
BEGIN:STANDARD
TZOFFSETFROM:-0400
TZOFFSETTO:-0500
TZNAME:EST
DTSTART:20251102T060000
END:STANDARD
BEGIN:DAYLIGHT
TZOFFSETFROM:-0500
TZOFFSETTO:-0400
TZNAME:EDT
DTSTART:20260308T070000
END:DAYLIGHT
BEGIN:STANDARD
TZOFFSETFROM:-0400
TZOFFSETTO:-0500
TZNAME:EST
DTSTART:20261101T060000
END:STANDARD
END:VTIMEZONE
BEGIN:VEVENT
DTSTART;VALUE=DATE:20251001
DTEND;VALUE=DATE:20251005
DTSTAMP:20260421T121435
CREATED:20250916T201536Z
LAST-MODIFIED:20250916T201536Z
UID:53598-1759276800-1759622399@coe.northeastern.edu
SUMMARY:Society of Asian Scientists & Engineers (SASE)
DESCRIPTION:Join COE Graduate Admissions at the 2025 Society of Asian Scientists & Engineers (SASE) Conference in Pittsburgh\, PA! Ask your questions about our graduate engineering programs across the U.S. and Canada during the conference from October 1st-4th. We look forward to meeting you there!
URL:https://coe.northeastern.edu/event/society-of-asian-scientists-engineers-sase/
END:VEVENT
BEGIN:VEVENT
DTSTART;TZID=America/New_York:20251001T100000
DTEND;TZID=America/New_York:20251001T110000
DTSTAMP:20260421T121435
CREATED:20250908T134555Z
LAST-MODIFIED:20251124T145211Z
UID:53385-1759312800-1759316400@coe.northeastern.edu
SUMMARY:Crafting Posters with Visual Impact and Designing Poster Narratives:  CommLab Drop-In Hours
DESCRIPTION:Working on a poster? Stop by the CommLab Drop-In hours to brainstorm ideas\, get feedback and fine tune the visual and oral presentation of your research or project. Join any Wednesday from 10-11am in person in room 206 Egan or join virtually on Zoom. \n 
URL:https://coe.northeastern.edu/event/crafting-posters-with-visual-impact-and-designing-poster-narratives-commlab-drop-in-hours/2025-10-01/
LOCATION:206 Egan\, 360 Huntington Ave\, Boston\, MA\, 02115\, United States
GEO:42.3376753;-71.0888734
X-APPLE-STRUCTURED-LOCATION;VALUE=URI;X-ADDRESS=206 Egan 360 Huntington Ave Boston MA 02115 United States;X-APPLE-RADIUS=500;X-TITLE=360 Huntington Ave:geo:-71.0888734,42.3376753
END:VEVENT
BEGIN:VEVENT
DTSTART;TZID=America/New_York:20251001T120000
DTEND;TZID=America/New_York:20251001T130000
DTSTAMP:20260421T121435
CREATED:20250915T135959Z
LAST-MODIFIED:20250915T135959Z
UID:53572-1759320000-1759323600@coe.northeastern.edu
SUMMARY:BIOE Seminar Series - Fall 2025
DESCRIPTION:The Bioengineering Fall Seminar Series features internal and external faculty seminar speakers on a weekly basis. Faculty seminars will predominately be on Wednesdays\, with the occasional Friday occurrence. Other Friday slots will host Bioengineering PhD Student seminars. See below for the working faculty seminar schedule\, all are welcome. \nWednesdays\, 12-1pm in 168 Snell Engineering or Fridays\, 12-1pm in 010 Behrakis  \n  \nSEPTEMBER  \n\n9/3: Mona Minkara\, PhD\, Assistant Professor of Bioengineering\, Northeastern University \nFriday\, 9/5: Abbas Yaseen\, PhD\, Assistant Professor of Bioengineering\, Northeastern University \n9/10: Qianqian Fang\, PhD\, Associate Professor of Bioengineering\, Northeastern University \nFriday\, 9/12: Ambika Bajpayee\, PhD\, Associate Professor of Bioengineering\, Northeastern University \n9/17: Silvi Rouskin\, PhD\, Assistant Professor of Microbiology\, Harvard University \n9/24: Nisha Iyer\, PhD\, Assistant Professor of Biomedical Engineering\, Tufts University \nFriday\, 9/26: George Engelmayr\, PhD\, Industry: Founder and CEO\, Cultivated Biomaterials & Vasavance \n\nOCTOBER  \n\n10/1: Joe Larkin\, PhD\, Assistant Professor of Biology and Physics\, Boston University \n10/8: None\, WIP \n10/15: None \n10/22: None \n10/29: Sufeng Zhang\, PhD\, Assistant Professor of Biomedical Engineering\, Stony Brook \n\nNOVEMBER  \n\n11/5: Larry Bonassar\, PhD\, Professor in Biomedical Engineering\, Cornell University \n11/12: None \n11/19: Marjan Rafat\, PhD\, Collab with ChemE: Assistant Professor of Chemical and Biomolecular Engineering\, Vanderbilt University \n11/26: Thanksgiving \n\nDECEMBER  \n\n12/3: Hadi Nia\, PhD\, Assistant Professor of Biomedical Engineering\, Boston University \n12/10: Erel Levine\, PhD\, Associate Professor of Bioengineering\, Northeastern University 
URL:https://coe.northeastern.edu/event/bioe-seminar-series-fall-2025/2025-10-01/
LOCATION:168 SN\, 360 Huntington Ave\, Boston\, MA\, 02115\, United States
ORGANIZER;CN="Bioengineering":MAILTO:bioe@northeastern.edu
END:VEVENT
BEGIN:VEVENT
DTSTART;TZID=America/New_York:20251001T133000
DTEND;TZID=America/New_York:20251001T143000
DTSTAMP:20260421T121435
CREATED:20250908T134401Z
LAST-MODIFIED:20251124T145250Z
UID:53316-1759325400-1759329000@coe.northeastern.edu
SUMMARY:Scientific Oral Communication : CommLab Drop-In Workshops
DESCRIPTION:The NU CommLab is hosting a weekly hybrid Scientific Oral Communication Drop-in practice for graduate students. Drop-in virtually or in-person any week to practice for your upcoming oral exams\, proposals\, thesis\, dissertation or talks. Receive and implement feedback on your verbal and non-verbal public speaking skills. Drop-in any Wednesday from 1:30-2:30 pm in 306 Egan or on Zoom. Note on September 10 and October 8 the workshop will be in 334 Curry Student Center.
URL:https://coe.northeastern.edu/event/scientific-oral-communication-commlab-drop-in-workshops-2/2025-10-01/
LOCATION:https://coe.northeastern.edu/event/scientific-oral-communication-commlab-drop-in-workshops-2/2025-10-01/
END:VEVENT
END:VCALENDAR