BEGIN:VCALENDAR
VERSION:2.0
PRODID:-//Northeastern University College of Engineering - ECPv6.15.18//NONSGML v1.0//EN
CALSCALE:GREGORIAN
METHOD:PUBLISH
X-WR-CALNAME:Northeastern University College of Engineering
X-ORIGINAL-URL:https://coe.northeastern.edu
X-WR-CALDESC:Events for Northeastern University College of Engineering
REFRESH-INTERVAL;VALUE=DURATION:PT1H
X-Robots-Tag:noindex
X-PUBLISHED-TTL:PT1H
BEGIN:VTIMEZONE
TZID:America/New_York
BEGIN:DAYLIGHT
TZOFFSETFROM:-0500
TZOFFSETTO:-0400
TZNAME:EDT
DTSTART:20240310T070000
END:DAYLIGHT
BEGIN:STANDARD
TZOFFSETFROM:-0400
TZOFFSETTO:-0500
TZNAME:EST
DTSTART:20241103T060000
END:STANDARD
BEGIN:DAYLIGHT
TZOFFSETFROM:-0500
TZOFFSETTO:-0400
TZNAME:EDT
DTSTART:20250309T070000
END:DAYLIGHT
BEGIN:STANDARD
TZOFFSETFROM:-0400
TZOFFSETTO:-0500
TZNAME:EST
DTSTART:20251102T060000
END:STANDARD
BEGIN:DAYLIGHT
TZOFFSETFROM:-0500
TZOFFSETTO:-0400
TZNAME:EDT
DTSTART:20260308T070000
END:DAYLIGHT
BEGIN:STANDARD
TZOFFSETFROM:-0400
TZOFFSETTO:-0500
TZNAME:EST
DTSTART:20261101T060000
END:STANDARD
END:VTIMEZONE
BEGIN:VEVENT
DTSTART;TZID=America/New_York:20251009T110000
DTEND;TZID=America/New_York:20251011T160000
DTSTAMP:20260422T141529
CREATED:20250916T202719Z
LAST-MODIFIED:20250916T202719Z
UID:53603-1760007600-1760198400@coe.northeastern.edu
SUMMARY:Penn State University Graduate Fair Day
DESCRIPTION:Join COE Graduate Admissions at the 2025 Penn State University Graduate Fair Day in University Park\, Pennsylvania! Ask your questions about our graduate engineering programs across the U.S. and Canada during the fair on October 9th from 11am-4pm. We look forward to meeting you there!
URL:https://coe.northeastern.edu/event/penn-state-university-graduate-fair-day/
END:VEVENT
BEGIN:VEVENT
DTSTART;TZID=America/New_York:20251010T080000
DTEND;TZID=America/New_York:20251010T203000
DTSTAMP:20260422T141529
CREATED:20251008T141135Z
LAST-MODIFIED:20251008T141135Z
UID:54011-1760083200-1760128200@coe.northeastern.edu
SUMMARY:North Stars and New Routes — Fifty Years of Technology Policy
DESCRIPTION:MIE Associate Professor Babak Heydari was invited to serve as a distinguished speaker at the MIT Technology and Policy Program 50th Anniversary Symposium during session 4 at 11:45 am\, focusing on “The Future of Technology Policy as a Field”\, where his insights will help illuminate the path forward for the next generation of technology policy thinkers and practitioners. \nThis milestone event will be a celebration of five decades of transformative education\, research\, and global impact at the intersection of technology and policy. A vibrant and diverse community of technology policy leaders from around the globe will be convened — alumni\, faculty\, students\, staff\, partners\, collaborators — to honor TPP’s legacy\, to discuss the most consequential intellectual technology and policy questions of our time\, and to chart bold new directions for the future. \nThe symposium will feature a full day of dynamic talks and discussions in MIT’s iconic Kresge Auditorium\, followed by a celebratory reception in Morss Hall. The event will be live streamed and recorded\, and a transcript will be published as a commemorative compendium book — capturing the ideas and inspiration shared during this landmark occasion. \nPlanned sessions include: \n\nSession 1: Energy Policy in Artificial Worlds: Simulation as Strategy\nSession 2: Reimagining Global Environmental Governance: Technology as Catalyst\nSession 3: Governing The Machine: Aspiration as Architecture\nSession 4: The Future of Technology Policy as a Field\nSession 5: Redefining Security Policy: Trust as Infrastructure\nSession 6: Materials\, Manufacturing\, Econeutral Prosperity: Policy Design as Directive\nSession 7: Future of the Research University and The Role of Technology Policy: Pedagogy as Leadership\n\nLocation: Kresge Auditorium\, MIT \nRegister
URL:https://coe.northeastern.edu/event/north-stars-and-new-routes-fifty-years-of-technology-policy/
END:VEVENT
BEGIN:VEVENT
DTSTART;TZID=America/New_York:20251010T120000
DTEND;TZID=America/New_York:20251010T130000
DTSTAMP:20260422T141529
CREATED:20250915T140001Z
LAST-MODIFIED:20250915T140001Z
UID:53575-1760097600-1760101200@coe.northeastern.edu
SUMMARY:BIOE Seminar Series - Fall 2025
DESCRIPTION:The Bioengineering Fall Seminar Series features internal and external faculty seminar speakers on a weekly basis. Faculty seminars will predominately be on Wednesdays\, with the occasional Friday occurrence. Other Friday slots will host Bioengineering PhD Student seminars. See below for the working faculty seminar schedule\, all are welcome. \nWednesdays\, 12-1pm in 168 Snell Engineering or Fridays\, 12-1pm in 010 Behrakis  \n  \nSEPTEMBER  \n\n9/3: Mona Minkara\, PhD\, Assistant Professor of Bioengineering\, Northeastern University \nFriday\, 9/5: Abbas Yaseen\, PhD\, Assistant Professor of Bioengineering\, Northeastern University \n9/10: Qianqian Fang\, PhD\, Associate Professor of Bioengineering\, Northeastern University \nFriday\, 9/12: Ambika Bajpayee\, PhD\, Associate Professor of Bioengineering\, Northeastern University \n9/17: Silvi Rouskin\, PhD\, Assistant Professor of Microbiology\, Harvard University \n9/24: Nisha Iyer\, PhD\, Assistant Professor of Biomedical Engineering\, Tufts University \nFriday\, 9/26: George Engelmayr\, PhD\, Industry: Founder and CEO\, Cultivated Biomaterials & Vasavance \n\nOCTOBER  \n\n10/1: Joe Larkin\, PhD\, Assistant Professor of Biology and Physics\, Boston University \n10/8: None\, WIP \n10/15: None \n10/22: None \n10/29: Sufeng Zhang\, PhD\, Assistant Professor of Biomedical Engineering\, Stony Brook \n\nNOVEMBER  \n\n11/5: Larry Bonassar\, PhD\, Professor in Biomedical Engineering\, Cornell University \n11/12: None \n11/19: Marjan Rafat\, PhD\, Collab with ChemE: Assistant Professor of Chemical and Biomolecular Engineering\, Vanderbilt University \n11/26: Thanksgiving \n\nDECEMBER  \n\n12/3: Hadi Nia\, PhD\, Assistant Professor of Biomedical Engineering\, Boston University \n12/10: Erel Levine\, PhD\, Associate Professor of Bioengineering\, Northeastern University 
URL:https://coe.northeastern.edu/event/bioe-seminar-series-fall-2025/2025-10-10/
LOCATION:168 SN\, 360 Huntington Ave\, Boston\, MA\, 02115\, United States
ORGANIZER;CN="Bioengineering":MAILTO:bioe@northeastern.edu
END:VEVENT
END:VCALENDAR